BEGIN:VCALENDAR
VERSION:2.0
PRODID:-//GIOI - GERMAN INSTITUTE OF ORAL IMPLANTOLOGY - ECPv6.15.20//NONSGML v1.0//EN
CALSCALE:GREGORIAN
METHOD:PUBLISH
X-WR-CALNAME:GIOI - GERMAN INSTITUTE OF ORAL IMPLANTOLOGY
X-ORIGINAL-URL:https://gioi.info
X-WR-CALDESC:Veranstaltungen für GIOI - GERMAN INSTITUTE OF ORAL IMPLANTOLOGY
REFRESH-INTERVAL;VALUE=DURATION:PT1H
X-Robots-Tag:noindex
X-PUBLISHED-TTL:PT1H
BEGIN:VTIMEZONE
TZID:Europe/Berlin
BEGIN:DAYLIGHT
TZOFFSETFROM:+0100
TZOFFSETTO:+0200
TZNAME:CEST
DTSTART:20240331T010000
END:DAYLIGHT
BEGIN:STANDARD
TZOFFSETFROM:+0200
TZOFFSETTO:+0100
TZNAME:CET
DTSTART:20241027T010000
END:STANDARD
BEGIN:DAYLIGHT
TZOFFSETFROM:+0100
TZOFFSETTO:+0200
TZNAME:CEST
DTSTART:20250330T010000
END:DAYLIGHT
BEGIN:STANDARD
TZOFFSETFROM:+0200
TZOFFSETTO:+0100
TZNAME:CET
DTSTART:20251026T010000
END:STANDARD
BEGIN:DAYLIGHT
TZOFFSETFROM:+0100
TZOFFSETTO:+0200
TZNAME:CEST
DTSTART:20260329T010000
END:DAYLIGHT
BEGIN:STANDARD
TZOFFSETFROM:+0200
TZOFFSETTO:+0100
TZNAME:CET
DTSTART:20261025T010000
END:STANDARD
END:VTIMEZONE
BEGIN:VEVENT
DTSTART;VALUE=DATE:20250918
DTEND;VALUE=DATE:20250921
DTSTAMP:20260423T005536
CREATED:20250611T085309Z
LAST-MODIFIED:20250819T111354Z
UID:10001436-1758153600-1758412799@gioi.info
SUMMARY:Champagne Lounge - EAO DGI Congress 2025\, Monaco
DESCRIPTION:[vc_row pix_particles_check=““][vc_column][vc_column_text css=““]Venue:\nGrimaldi Forum – Medentis booth R108\n10 avenue Princesse Grâce\n98000 Monaco[/vc_column_text][/vc_column][/vc_row][vc_row pix_particles_check=““][vc_column][vc_empty_space][/vc_column][/vc_row][vc_section pix_over_visibility=““][vc_row pix_particles_check=““][vc_column][vc_column_text css=““]\nWelcome to Monaco 2025\nIt is with great pleasure that we announce the details of the 32nd Annual Scientific Meeting of the EAO\, which will take place from September 18 to 20\, 2025. \nEnjoy a Glass of Champagne – Quick & Easy Registration\nAfter registering\, you will receive a QR code on your smartphone. Please show this at the Champagne Lounge. You will then receive a personalized label to stick on your glass. Your glass will then be filled with the finest champagne.After registering\, you will receive a QR code on your smartphone. Please show this at the Champagne Lounge. You will then receive a personalized label that will be affixed to your glass. Your glass will then be filled with the finest champagne. \n->> Register now \n  \nWe look forward to seeing you at our Medentis booth R108. \nmedentis medical is a Gold Sponsor! \nFurther information: \nhttps://congress.eao.org/en/[/vc_column_text][/vc_column][/vc_row][/vc_section][vc_row disable_element=“yes“ pix_particles_check=““][vc_column][vc_column_text css=““]\nWelcome to Monaco 2025\nIt is with great pleasure that we announce the details of the 32nd Annual Scientific Meeting of the EAO\, which will take place from September 18 to 20\, 2025. \nEnjoy a Glass of Champagne – Quick & Easy Registration\nWe’re excited to welcome you at our booth at EAO-Monaco! \nTo receive your complimentary glass of champagne\, please follow these simple steps: \n1. Register\nScan the QR code or visit our registration page. Fill in your details – it only takes a minute. \n2. Check your email\nYou’ll receive a confirmation with your personal QR code. \n3. Visit our booth\nShow your QR code to our team. We’ll scan it at the champagne counter. \n4. Receive your name tag\nYou’ll get a small name tag\, which will be attached to your champagne glass. \n5. Enjoy your champagne\nNow it’s time to relax and enjoy a glass of chilled champagne – cheers! \nYour Medentis Team \nFurther information: \nhttps://congress.eao.org/en/ \nWe look forward to seeing you at our Medentis booth R108. \nMedentis Medical is a Gold Sponsor![/vc_column_text][/vc_column][/vc_row][vc_row full_width=“stretch_row“ gap=“3″ content_placement=“top“ pix_particles_check=““][vc_column width=“1/2″]REGISTER - CHAMPAGNE-LOUNGEYou will now receive an email with a QR code\, which you must show at our medentis stand to be scanned. Once scanned\, you will receive a glass of champagne. We look forward to seeing you at our Medentis booth R108. REGISTER NOW![/vc_column][vc_column width=“1/2″]TAKE ADVANTAGE OF OUR INCREDIBLE OFFER!EAO MONACO '25 OFFER!\nLIMITED OFFER OF MAX. 30 PACKAGES! GO TO OFFER NOW[/vc_column][/vc_row]
URL:https://gioi.info/zfb/eao-dgi-congress-2025-monaco/
LOCATION:Grimaldi Forum Monaco\, 10\, Avenue Princesse Grace\, Monaco\, 98000\, Monaco
CATEGORIES:Fortbildungen des GIOI
ATTACH;FMTTYPE=image/jpeg:https://gioi.info/wp-content/uploads/2025/06/Monaco_new2.jpg
GEO:43.7404671;7.4295881
X-APPLE-STRUCTURED-LOCATION;VALUE=URI;X-ADDRESS=Grimaldi Forum Monaco 10 Avenue Princesse Grace Monaco 98000 Monaco;X-APPLE-RADIUS=500;X-TITLE=10\, Avenue Princesse Grace:geo:7.4295881,43.7404671
END:VEVENT
END:VCALENDAR