BEGIN:VCALENDAR
VERSION:2.0
PRODID:-//GIOI - GERMAN INSTITUTE OF ORAL IMPLANTOLOGY - ECPv6.15.20//NONSGML v1.0//EN
CALSCALE:GREGORIAN
METHOD:PUBLISH
X-WR-CALNAME:GIOI - GERMAN INSTITUTE OF ORAL IMPLANTOLOGY
X-ORIGINAL-URL:https://gioi.info
X-WR-CALDESC:Veranstaltungen für GIOI - GERMAN INSTITUTE OF ORAL IMPLANTOLOGY
REFRESH-INTERVAL;VALUE=DURATION:PT1H
X-Robots-Tag:noindex
X-PUBLISHED-TTL:PT1H
BEGIN:VTIMEZONE
TZID:Europe/Helsinki
BEGIN:DAYLIGHT
TZOFFSETFROM:+0200
TZOFFSETTO:+0300
TZNAME:EEST
DTSTART:20230326T010000
END:DAYLIGHT
BEGIN:STANDARD
TZOFFSETFROM:+0300
TZOFFSETTO:+0200
TZNAME:EET
DTSTART:20231029T010000
END:STANDARD
BEGIN:DAYLIGHT
TZOFFSETFROM:+0200
TZOFFSETTO:+0300
TZNAME:EEST
DTSTART:20240331T010000
END:DAYLIGHT
BEGIN:STANDARD
TZOFFSETFROM:+0300
TZOFFSETTO:+0200
TZNAME:EET
DTSTART:20241027T010000
END:STANDARD
BEGIN:DAYLIGHT
TZOFFSETFROM:+0200
TZOFFSETTO:+0300
TZNAME:EEST
DTSTART:20250330T010000
END:DAYLIGHT
BEGIN:STANDARD
TZOFFSETFROM:+0300
TZOFFSETTO:+0200
TZNAME:EET
DTSTART:20251026T010000
END:STANDARD
END:VTIMEZONE
BEGIN:VEVENT
DTSTART;TZID=Europe/Helsinki:20240920T120000
DTEND;TZID=Europe/Helsinki:20240920T230000
DTSTAMP:20260423T230022
CREATED:20240304T075329Z
LAST-MODIFIED:20240917T122443Z
UID:10001328-1726833600-1726873200@gioi.info
SUMMARY:ICX-PROEXPERTS DIGITAL –  Fortbildung im k47 – Wiens exklusivstem Penthouse!
DESCRIPTION:[vc_row content_placement=“top“ pix_particles_check=““][vc_column][vc_column_text css=““]Veranstaltungsort:\nk47.wien – Wiens exklusivstem Penthouse!\nFranz-Josefs-Kai 47\n1010 Wien\, Austria[/vc_column_text][/vc_column][/vc_row][vc_row content_placement=“top“ pix_particles_check=““][vc_column][vc_empty_space][/vc_column][/vc_row][vc_row content_placement=“top“ pix_particles_check=““][vc_column][vc_column_text css=““]\nSofortversorgung und Sofortbelastung & moderne Hart- und Weichgewebsaugmentationen.\nICX-DIAMOND – ICX-MAGELLAN X – ICX-ACTIVE LIQUID – ICX-IMPERIAL IN A SMILEBOX\nLiebe Zahnärztinnen und Zahnärzte\, liebe Kolleginnen und Kollegen! \nIn diesem Kurs werden 2 brandaktuelle Themen aufgegriffen\, die uns implantologisch tätige Zahnärztinnen und Zahnärzte vor besondere Herausforderungen stellen. \nDie Sofortversorgung und Sofortbelastung von Implantaten wird zunehmend wichtiger\, da immer mehr Patienten sich eine möglichst schnelle Versorgung der fehlenden Zähne mit nur einer Operation und das vor allem im ästhetischen Bereich wünschen. In dieser Fortbildungsveranstaltung werden Ihnen mithilfe vieler Fallbeispiele und OP-Videos der Einsatz der Planungssoftware ICXMAGELLAN X\, das Vorgehen bei der Implantation mit ICX-ACTIVE LIQUID bzw. ICX-ACTIVE DIAMOND sowie die Eingliederung von präfabrizierten Versorgungen ICX Imperial – IN A SMILEBOX zur Sofortbelastung gezeigt. \nDabei werden auch die Vorteile der extrem belastbaren ICX DIAMOND LIQUID Implantate und der neuen abriebfesten und effizienten ICX-ALL-IN-ONE Bohrer verdeutlicht. Zusätzlich stelle ich meine operative Vorgehensweise der Sofortimplantation und Sofortversorgung im ästhetischen Bereich mit simultaner Weichgewebsverdickung mit einem BGT oder einer kollagenen Matrix und der Envelopetechnik vor. \nModerne Hart- und Weichgewebsaugmentationen die vorhersehbar funktionieren sollten auch erlernbar sein\, da sie bei mir zu über 75 % der Implantatinsertionen zum Einsatz kommen. In diesem Kurs möchte ich Ihnen die von mir modifizierten und in den letzten 12 Jahren mit Erfolg angewandten Augmentationstechniken wie die modifizierte GBR\, die Knochenblocktransplantation mit der Tunneltechnik sowie die modifizierte Extensionsplastik vorstellen. Diese operativen Verfahren werden anhand von vielen Fallbeispielen und OP-Videos dargestellt. Da ein Großteil dieser Eingriffe eine Weichgewebsoptimierung nach sich ziehen\, werden auch notwendige Weichgewebsaugmentationen Schritt für Schritt beschrieben. \nGanz wichtig ist mir bei allen Kursen eine aktuelle Literaturrecherche zu den genannten Themen und die Vorstellung von Komplikationen und Misserfolgen\, da wir aus diesen vieles lernen können. \nIch freue mich auf eine angenehme und kurzweilige Veranstaltung mit Ihnen. \nIhr Stefan Reinhardt[/vc_column_text][/vc_column][/vc_row][vc_row pix_particles_check=““][vc_column][vc_column_text css=““]\nPROGRAMM-ABLAUF:\n\n\n12:00 Begrüßung mit Aperitif \n\n\n13:00 Beginn der Veranstaltung – Jörg Heidemann\, ICX Experte \n\n\n14:45 Vortrag Teil 1 – Dr. Stefan Reinhardt \n\n\n16:15 Kaffeepause \n\n\n16:45 Vortrag Teil 2 – Dr. Stefan Reinhardt \n\n\n18:15 Abschlussdiskussion und Zertifikat – Übergabe \n\n\n19:00 Flying Dinner \n\n\n21:00 Ausklang \n\n\nCa. 22-23:00 Ende der Veranstaltung \n\n\n[/vc_column_text][/vc_column][/vc_row][vc_row pix_particles_check=““][vc_column][vc_empty_space][/vc_column][/vc_row][vc_row content_placement=“top“ pix_particles_check=““][vc_column width=“1/4″][vc_single_image image=“9805″ img_size=“medium“ style=“vc_box_shadow_border“][vc_column_text css=““]Dr. med. dent. Stefan Reinhardt[/vc_column_text][/vc_column][vc_column width=“3/4″][vc_column_text]Kurz-Vita: \n\n1991 Erwerb des Fachzahnarztes für Oralchirurgie\, seit 1999 zertifizierter Referent für Implantologie\, Ermächtigung zur Weiterbildung für den Fachzahnarzt für Oralchirurgie durch die Zahnärztekammer Westfalen-Lippe.\nErnannter Gutachter für Implantologie vom BDIZ und BDO.\nseit 2016 ausgezeichneter Implantologe mit dem Fokussiegel.\nseit 2020 ausgezeichneter Fachzahnarzt für Oralchirurgie mit dem Fokussiegel\nseit 2022 in der Praxis Dr. Simone Heger\, Dr. Larissa Reinhardt\, Dr. Stefan Reinhardt\, Bahnhofstr. 42\, 48477 Hörstel\n\n[/vc_column_text][/vc_column][/vc_row][vc_row content_placement=“top“ pix_particles_check=““][vc_column][vc_empty_space][vc_column_text css=““]Termin:\nFreitag: 20.09.2024 – 12:00 – ca. 22-23:00 Uhr \nReferenten:\n– Dr. med. dent. Stefan Reinhardt\, Facharzt für Oralchirurgie\, Tätigkeitsschwerpunkt Implantologie\n– Jörg Heidemann\, ICX Experte \n  \nDie Teilnahmergebühr pro Person beträgt € 399\,– zzgl. gesetzl. MwSt. Inkl. exklusivem Abendessen. \nSie erhalten 6 Fortbildungspunkte pro Person je Fortbildung. \n[/vc_column_text][/vc_column][/vc_row][vc_row content_placement=“top“ disable_element=“yes“ pix_particles_check=““][vc_column][vc_empty_space][vc_column_text css=““]\nJETZT ANMELDEN UND IN DIE ZUKUNFT STARTEN! \n Infos und Anmeldung zum download![/vc_column_text][/vc_column][/vc_row][vc_column][/vc_column]
URL:https://gioi.info/zfb/icx-proexperts-digital-wien/
LOCATION:k47.wien\, Franz-Josefs-Kai 47\, Wien\, 1010\, Österreich
CATEGORIES:Fortbildungen des GIOI
ATTACH;FMTTYPE=image/jpeg:https://gioi.info/wp-content/uploads/2024/03/mm02585_20.09.2024_Wien_SM.jpg
GEO:48.2153546;16.3721513
X-APPLE-STRUCTURED-LOCATION;VALUE=URI;X-ADDRESS=k47.wien Franz-Josefs-Kai 47 Wien 1010 Österreich;X-APPLE-RADIUS=500;X-TITLE=Franz-Josefs-Kai 47:geo:16.3721513,48.2153546
END:VEVENT
END:VCALENDAR