BEGIN:VCALENDAR
VERSION:2.0
PRODID:-//GIOI - GERMAN INSTITUTE OF ORAL IMPLANTOLOGY - ECPv6.15.20//NONSGML v1.0//EN
CALSCALE:GREGORIAN
METHOD:PUBLISH
X-WR-CALNAME:GIOI - GERMAN INSTITUTE OF ORAL IMPLANTOLOGY
X-ORIGINAL-URL:https://gioi.info
X-WR-CALDESC:Veranstaltungen für GIOI - GERMAN INSTITUTE OF ORAL IMPLANTOLOGY
REFRESH-INTERVAL;VALUE=DURATION:PT1H
X-Robots-Tag:noindex
X-PUBLISHED-TTL:PT1H
BEGIN:VTIMEZONE
TZID:Europe/Berlin
BEGIN:DAYLIGHT
TZOFFSETFROM:+0100
TZOFFSETTO:+0200
TZNAME:CEST
DTSTART:20240331T010000
END:DAYLIGHT
BEGIN:STANDARD
TZOFFSETFROM:+0200
TZOFFSETTO:+0100
TZNAME:CET
DTSTART:20241027T010000
END:STANDARD
BEGIN:DAYLIGHT
TZOFFSETFROM:+0100
TZOFFSETTO:+0200
TZNAME:CEST
DTSTART:20250330T010000
END:DAYLIGHT
BEGIN:STANDARD
TZOFFSETFROM:+0200
TZOFFSETTO:+0100
TZNAME:CET
DTSTART:20251026T010000
END:STANDARD
BEGIN:DAYLIGHT
TZOFFSETFROM:+0100
TZOFFSETTO:+0200
TZNAME:CEST
DTSTART:20260329T010000
END:DAYLIGHT
BEGIN:STANDARD
TZOFFSETFROM:+0200
TZOFFSETTO:+0100
TZNAME:CET
DTSTART:20261025T010000
END:STANDARD
END:VTIMEZONE
BEGIN:VEVENT
DTSTART;VALUE=DATE:20250913
DTEND;VALUE=DATE:20250918
DTSTAMP:20260423T005320
CREATED:20250602T073643Z
LAST-MODIFIED:20250915T120604Z
UID:10001434-1757721600-1758153599@gioi.info
SUMMARY:3. Fortbildung auf Gegenseitigkeit Mallorca 2025
DESCRIPTION:[vc_row content_placement=“top“ pix_particles_check=““][vc_column][vc_column_text css=““]Veranstaltungsort:\nLindner Resort Portals Nous\nC/ Arquitecto Francisco Casas\, 18\, Portals Nous\, Mallorca 07181\n[/vc_column_text][/vc_column][/vc_row][vc_row content_placement=“top“ pix_particles_check=““][vc_column][vc_empty_space]Zur Veranstaltungsseite & Anmeldung[vc_empty_space][/vc_column][/vc_row][vc_row content_placement=“top“ pix_particles_check=““][vc_column][vc_column_text css=““]\nFortbildung für Zahnärzte\, Zahntechniker und zahnmedizinische Fachangestellte\nIDEE UND INHALTE \nFortbildung auf Gegenseitigkeit – Sie lernen von Ihren Kollegen und geben dafür Ihr Wissen weiter. Sie sind Referent und Teilnehmer zugleich.\nMedizinische Schwerpunkte unter der wissenschaftlichen Leitung von Herrn Prof. Dr. Dr. Elmar Esser sind unter anderem die \n\n\n\nnavigierte Implantologie\, die Digitalisierung von der Diagnostik\nbis zur Prothetik sowie Fehler\, Gefahren und\nRisikofaktoren. Auch Themen aus der allgemeinen Zahnmedizin und\nOralchirurgie sowie aus dem Praxismanagement wie Abrechnung\, Wirtschaftlichkeit und die Digitalisierung der Verwaltung stehen auf dem Stundenplan.\n\n\n\nTeilnehmer\, die einen Vortrag halten möchten\, reichen Ihre Vorträge vorab bis zum 31.05.2025 bei Herrn Prof. Dr. Dr. Elmar Esser\, e.esser42@googlemail.com\, ein. \nSponsored by: medentis medical \nABLAUF \n\n\n\nSamstag\, 13.09.2025\nAnreisetag\, begrenztes Zimmerkontingent\, optional Golf – nach Verfügbarkeit\nSonntag\, 14.09.2025 ab 18:00 Uhr\nAnreisetag\, Registrierung und Get-together\nMontag\, 15.09.2025 von 9:00 Uhr – 17:00 Uhr: Vorträge\nab 19:00 Uhr: Barbecue inkl. Getränke – auch für die Begleitpersonen\nDienstag\, 16.09.2025 von 9:00 Uhr – 17:00 Uhr Vorträge\nMittwoch\, 17.09.2025 von 9:00 Uhr – 13:00 Uhr Vorträge\nMittwoch\, 17.09.2025\, 15:00 – etwa 20:30 Uhr\n\n\n\nKatamaran-Tour mit Party\, Badepause\, BBQ\, Getränken und Longdrinks zubuchbar. \nFORTBILDUNG UNTER DER SONNE MALLORCAS \nDas originell-einzigartige Lindner Golf & Wellness Resort Portals Nous erfüllt so ziemlich jeden Urlaubswunsch!\nDas spannende afrikanische Design wischt jedes Alltagsgrau weg und lädt zum Träumen und Entspannen ein. Ob als fantastisches Golfhotel oder exklusives Wellness Resort\, romantisches Inselversteck oder (ent-)spannendes Familiendomizil. Hier passt einfach alles! \n[/vc_column_text][/vc_column][/vc_row][vc_row content_placement=“top“ pix_particles_check=““][vc_column][vc_separator][/vc_column][/vc_row][vc_row content_placement=“top“ pix_particles_check=““][vc_column][vc_empty_space][vc_column_text css=““]Termin:\n13.09.-17.09.25 \nBitte buchen Sie Ihr Zimmer direkt und nur per E-Mail unter vivien.haas@lindnerhotels.com unter der Betreffzeile „CareCapital Fortbildung September 2025“\nTelefon +34 971 707 770\, Frau Vivien Haas.\nIhren Flug buchen Sie bitte auch selbst. \nFAMILIENFREUNDLICHE FORTBILDUNG \nWir bieten Ihnen eine absolut familienfreundliche Fortbildung. Während der Schulungszeiten ist Ihr Nachwuchs versorgt – Kinder sind herzlich willkommen! \nIm Angebot inbegriffen \n\nKidsClub-Kinderbetreuung ab 4 Jahren\nKinderspielplatz\nder Bendi Club (hoteleigenes Kinderhaus mit Spielplatz) ist ganzjährig geöffnet\nKindergerichte im Restaurant\n\n20 Fortbildungspunkte gemäß BZÄK \nSponsored by: medentis medical \nJETZT ANMELDEN – NUR BEGRENZTE PLÄTZE ZUR VERFÜGUNG[/vc_column_text][/vc_column][/vc_row][vc_column][/vc_column][vc_row content_placement=“top“ pix_particles_check=““][vc_column][vc_empty_space]Infos und Anmeldung zum download![vc_empty_space]Zur Veranstaltungsseite & Anmeldung[vc_empty_space][/vc_column][/vc_row]
URL:https://gioi.info/zfb/3-fortbildung-auf-gegenseitigkeit-mallorca-2025/
LOCATION:Lindner Golf & Wellness Resort Portals Nous\, Arquitecto Francisco Casas\, 18\, Mallorca\, Spanien
CATEGORIES:Fortbildungen des GIOI
ATTACH;FMTTYPE=image/jpeg:https://gioi.info/wp-content/uploads/2025/06/Banner-Mallorca-2025.jpg
GEO:39.5412486;2.5857234
X-APPLE-STRUCTURED-LOCATION;VALUE=URI;X-ADDRESS=Lindner Golf & Wellness Resort Portals Nous Arquitecto Francisco Casas 18 Mallorca Spanien;X-APPLE-RADIUS=500;X-TITLE=Arquitecto Francisco Casas\, 18:geo:2.5857234,39.5412486
END:VEVENT
END:VCALENDAR