BEGIN:VCALENDAR
VERSION:2.0
PRODID:-//GIOI - GERMAN INSTITUTE OF ORAL IMPLANTOLOGY - ECPv6.15.20//NONSGML v1.0//EN
CALSCALE:GREGORIAN
METHOD:PUBLISH
X-ORIGINAL-URL:https://gioi.info
X-WR-CALDESC:Veranstaltungen für GIOI - GERMAN INSTITUTE OF ORAL IMPLANTOLOGY
REFRESH-INTERVAL;VALUE=DURATION:PT1H
X-Robots-Tag:noindex
X-PUBLISHED-TTL:PT1H
BEGIN:VTIMEZONE
TZID:Europe/Berlin
BEGIN:DAYLIGHT
TZOFFSETFROM:+0100
TZOFFSETTO:+0200
TZNAME:CEST
DTSTART:20250330T010000
END:DAYLIGHT
BEGIN:STANDARD
TZOFFSETFROM:+0200
TZOFFSETTO:+0100
TZNAME:CET
DTSTART:20251026T010000
END:STANDARD
BEGIN:DAYLIGHT
TZOFFSETFROM:+0100
TZOFFSETTO:+0200
TZNAME:CEST
DTSTART:20260329T010000
END:DAYLIGHT
BEGIN:STANDARD
TZOFFSETFROM:+0200
TZOFFSETTO:+0100
TZNAME:CET
DTSTART:20261025T010000
END:STANDARD
BEGIN:DAYLIGHT
TZOFFSETFROM:+0100
TZOFFSETTO:+0200
TZNAME:CEST
DTSTART:20270328T010000
END:DAYLIGHT
BEGIN:STANDARD
TZOFFSETFROM:+0200
TZOFFSETTO:+0100
TZNAME:CET
DTSTART:20271031T010000
END:STANDARD
END:VTIMEZONE
BEGIN:VEVENT
DTSTART;VALUE=DATE:20260924
DTEND;VALUE=DATE:20260928
DTSTAMP:20260422T180923
CREATED:20251216T102023Z
LAST-MODIFIED:20251216T114428Z
UID:10001472-1790208000-1790553599@gioi.info
SUMMARY:Inselgespräch Ibiza Edition – Fortbildung mit Weitblick
DESCRIPTION:[vc_row pix_particles_check=““][vc_column][vc_column_text css=““]Veranstaltungsort:\nME Ibiza – The Leading Hotels of the World\nAvinguda de s’Argamassa\, 153\n07849 S’Argamassa\, Illes Balears\, Spanien[/vc_column_text][/vc_column][/vc_row][vc_row pix_particles_check=““][vc_column][vc_empty_space][/vc_column][/vc_row][vc_row pix_particles_check=““][vc_column][vc_column_text css=““]\n\nWie wollen wir in Zukunft behandeln\, führen und entscheiden?\n\n\n\n\n\nDas Inselgespräch Ibiza bringt inspirierende Köpfe aus der Dentalbranche zusammen – dort\, wo Lernen auf Leichtigkeit trifft. \nEs richtet sich an die\, die offen für neue Perspektiven sind\, den Austausch suchen und die Zukunft ihrer Praxis gestalten wollen. Unter dem Motto „Fortbildung mit Weitblick“ geht es um mehr als nur Wissen: Es geht um Mut zur Veränderung. Wie verändert KI den Praxisalltag? Welche Chancen ergeben sich? Wie kommuniziere ich? Gemeinsam mit Gleichgesinnten gehen wir diesen Fragen nach – an einem Ort voller Energie. \n\n\n\n\n\n\nEuch erwartet:\n\n\n\n\nFachvorträge und Impulse zu Mut\, Innovation und unternehmerischen Weitblick\nFortbildung an und auf dem Meer – Lernen mit Perspektive\nHochkarätiges Netzwerken mit Kolleg:innen und Expert:innen\nUnvergessliche Abende in Ibizas besten Restaurants\nZeit für Austausch\, neue Ideen und inspirierende Gespräche\n\n\n\n\n\n\n\n\n\nDas Inselgespräch Ibiza – wo Wissen auf Wellen trifft und Netzwerken zum Erlebnis wird.\n\nDas exklusive 5-Sterne-Hotel ME Ibiza bildet den perfekten Rahmen für dieses besondere Format. Direkt am Meer gelegen\, verbindet es modernes Design mit mediterraner Gelassenheit – ein Ort\, an dem Inspiration und Erholung Hand in Hand gehen. \nFür unsere Teilnehmenden steht ein begrenztes Hotelkontingent zur Verfügung. Bitte reserviert euch hier ein Hotelzimmer. Die Kosten liegen bei 325\,00 € pro Nacht für ein Doppelzimmer und sind direkt an das Hotel zu entrichten.\n\nFür das Seminar erhältst du 9 Fortbildungspunkte. \n\n\n\n\n\n\n\n\n\n\n\n\n„Manchmal braucht es nur den richtigen Ort\, um neue Perspektiven zu entdecken.“\nDas Team von BFS health finance und medentis \nDie Gastgebenden\n\n\n\n\n\n\n\n[/vc_column_text][/vc_column][/vc_row][vc_row full_width=“stretch_row“ content_placement=“middle“ pix_particles_check=““][vc_column content_align=“text-center“][/vc_column][/vc_row][vc_row pix_particles_check=““][vc_column]Alexander ScholzGeschäftsführer und Gründer\, medentis medical GmbHGastgeber Frank ZiemonsKey Account Manager\, BFS health finance GmbHGastgeber [/vc_column][/vc_row][vc_row pix_particles_check=““][vc_column]Weitere Informationen & Anmeldung[/vc_column][/vc_row]
URL:https://gioi.info/zfb/inselgespraech-ibiza-edition-fortbildung-mit-weitblick/
LOCATION:ME Ibiza – The Leading Hotels of the World\, Avinguda de s'Argamassa\, 153\, S'Argamassa\, Illes Balears\, 07849\, Spain
CATEGORIES:Fortbildungen des GIOI
ATTACH;FMTTYPE=image/jpeg:https://gioi.info/wp-content/uploads/2025/12/Ibiza2026.jpg
GEO:38.9919256;1.5699461
X-APPLE-STRUCTURED-LOCATION;VALUE=URI;X-ADDRESS=ME Ibiza – The Leading Hotels of the World Avinguda de s'Argamassa 153 S'Argamassa Illes Balears 07849 Spain;X-APPLE-RADIUS=500;X-TITLE=Avinguda de s'Argamassa\, 153:geo:1.5699461,38.9919256
END:VEVENT
END:VCALENDAR