BEGIN:VCALENDAR
VERSION:2.0
PRODID:-//GIOI - GERMAN INSTITUTE OF ORAL IMPLANTOLOGY - ECPv6.15.20//NONSGML v1.0//EN
CALSCALE:GREGORIAN
METHOD:PUBLISH
X-WR-CALNAME:GIOI - GERMAN INSTITUTE OF ORAL IMPLANTOLOGY
X-ORIGINAL-URL:https://gioi.info
X-WR-CALDESC:Veranstaltungen für GIOI - GERMAN INSTITUTE OF ORAL IMPLANTOLOGY
REFRESH-INTERVAL;VALUE=DURATION:PT1H
X-Robots-Tag:noindex
X-PUBLISHED-TTL:PT1H
BEGIN:VTIMEZONE
TZID:Europe/Berlin
BEGIN:DAYLIGHT
TZOFFSETFROM:+0100
TZOFFSETTO:+0200
TZNAME:CEST
DTSTART:20250330T010000
END:DAYLIGHT
BEGIN:STANDARD
TZOFFSETFROM:+0200
TZOFFSETTO:+0100
TZNAME:CET
DTSTART:20251026T010000
END:STANDARD
BEGIN:DAYLIGHT
TZOFFSETFROM:+0100
TZOFFSETTO:+0200
TZNAME:CEST
DTSTART:20260329T010000
END:DAYLIGHT
BEGIN:STANDARD
TZOFFSETFROM:+0200
TZOFFSETTO:+0100
TZNAME:CET
DTSTART:20261025T010000
END:STANDARD
BEGIN:DAYLIGHT
TZOFFSETFROM:+0100
TZOFFSETTO:+0200
TZNAME:CEST
DTSTART:20270328T010000
END:DAYLIGHT
BEGIN:STANDARD
TZOFFSETFROM:+0200
TZOFFSETTO:+0100
TZNAME:CET
DTSTART:20271031T010000
END:STANDARD
END:VTIMEZONE
BEGIN:VEVENT
DTSTART;VALUE=DATE:20260430
DTEND;VALUE=DATE:20260503
DTSTAMP:20260422T170433
CREATED:20260415T114112Z
LAST-MODIFIED:20260415T114112Z
UID:10001483-1777507200-1777766399@gioi.info
SUMMARY:26. Kärntner Seensymposium\, Velden/Wörthersee
DESCRIPTION:[vc_row pix_particles_check=““][vc_column][vc_column_text css=““]Location:\nParkhotel Pörtschach\nHans-Pruscha-Weg 5\n9210 Pörtschach[/vc_column_text][/vc_column][/vc_row][vc_row pix_particles_check=““][vc_column][vc_empty_space][/vc_column][/vc_row][vc_row pix_particles_check=““][vc_column][vc_column_text]\n\n\n\n\n\n\nZahnärztekongress vom Wörthersee  \n\nWeitere Informationen unter:\n\nhttps://www.seensymposium.at \n\n\n\n[/vc_column_text][/vc_column][/vc_row]
URL:https://gioi.info/zfb/26-kaerntner-seensymposium-velden-woerthersee/
LOCATION:Parkhotel Pörtschach\, Hans-Pruscha-Weg 5\, Pörtschach\, 9210\, Austria
ATTACH;FMTTYPE=image/jpeg:https://gioi.info/wp-content/uploads/2026/04/Kaerrntner-Seensymposium-26.jpg
GEO:46.6322304;14.1439459
X-APPLE-STRUCTURED-LOCATION;VALUE=URI;X-ADDRESS=Parkhotel Pörtschach Hans-Pruscha-Weg 5 Pörtschach 9210 Austria;X-APPLE-RADIUS=500;X-TITLE=Hans-Pruscha-Weg 5:geo:14.1439459,46.6322304
END:VEVENT
END:VCALENDAR