BEGIN:VCALENDAR
VERSION:2.0
PRODID:-//GIOI - GERMAN INSTITUTE OF ORAL IMPLANTOLOGY - ECPv6.15.20//NONSGML v1.0//EN
CALSCALE:GREGORIAN
METHOD:PUBLISH
X-WR-CALNAME:GIOI - GERMAN INSTITUTE OF ORAL IMPLANTOLOGY
X-ORIGINAL-URL:https://gioi.info
X-WR-CALDESC:Veranstaltungen für GIOI - GERMAN INSTITUTE OF ORAL IMPLANTOLOGY
REFRESH-INTERVAL;VALUE=DURATION:PT1H
X-Robots-Tag:noindex
X-PUBLISHED-TTL:PT1H
BEGIN:VTIMEZONE
TZID:Europe/Berlin
BEGIN:DAYLIGHT
TZOFFSETFROM:+0100
TZOFFSETTO:+0200
TZNAME:CEST
DTSTART:20240331T010000
END:DAYLIGHT
BEGIN:STANDARD
TZOFFSETFROM:+0200
TZOFFSETTO:+0100
TZNAME:CET
DTSTART:20241027T010000
END:STANDARD
BEGIN:DAYLIGHT
TZOFFSETFROM:+0100
TZOFFSETTO:+0200
TZNAME:CEST
DTSTART:20250330T010000
END:DAYLIGHT
BEGIN:STANDARD
TZOFFSETFROM:+0200
TZOFFSETTO:+0100
TZNAME:CET
DTSTART:20251026T010000
END:STANDARD
BEGIN:DAYLIGHT
TZOFFSETFROM:+0100
TZOFFSETTO:+0200
TZNAME:CEST
DTSTART:20260329T010000
END:DAYLIGHT
BEGIN:STANDARD
TZOFFSETFROM:+0200
TZOFFSETTO:+0100
TZNAME:CET
DTSTART:20261025T010000
END:STANDARD
BEGIN:DAYLIGHT
TZOFFSETFROM:+0100
TZOFFSETTO:+0200
TZNAME:CEST
DTSTART:20270328T010000
END:DAYLIGHT
BEGIN:STANDARD
TZOFFSETFROM:+0200
TZOFFSETTO:+0100
TZNAME:CET
DTSTART:20271031T010000
END:STANDARD
END:VTIMEZONE
BEGIN:VEVENT
DTSTART;TZID=Europe/Berlin:20260123T090000
DTEND;TZID=Europe/Berlin:20260124T160000
DTSTAMP:20260422T195912
CREATED:20250616T083812Z
LAST-MODIFIED:20250616T120654Z
UID:10001437-1769158800-1769270400@gioi.info
SUMMARY:2-TAGES-HUMANPRÄPARATE-KURS TEIL 1\, Köln
DESCRIPTION:[vc_row pix_particles_check=““][vc_column width=“1/2″][vc_column_text css=““]Veranstaltungsort:\nRimasys GmbH Ausbildungszentrum\nNattermannallee 1\n50829 Köln[/vc_column_text][/vc_column][vc_column width=“1/2″]Verwendung von: Fresh frozen Humanpräparate[/vc_column][/vc_row][vc_row pix_particles_check=““][vc_column][vc_column_text css=““]\nSie wollen einmal alle Standardtherapiemöglichkeiten am Humanpräparat ausprobieren?\nIn Kurzvorträgen und mit 8 Stunden Hands-On über die zwei Kurstage verteilt\, können Sie folgende Eingriffe durchführen: \n  \nSehr geehrte Kolleginnen und Kollegen\, \nwir freuen uns\, Sie zu unserem bevorstehenden zweitägigen Humanpräparate-Kurs in Köln einzuladen.\nUnser Kurs bietet Ihnen die Möglichkeit\, praxisorientiert verschiedene Standardtherapiemöglichkeiten der Implantologie am Humanpräparat zu erlernen und zu vertiefen. Durch eine gelungene Kombination aus informativen Kurzvorträgen und intensivem Hands-On-Training verteilt auf zwei Kurstage (davon alleine 8 Stunden Handson)\, werden Sie die folgenden Eingriffe anwenden können: \n\n\n➠ IMPLANTATION \n\n\n➠SINUSLIFT  \n\n\n➠BONESPLIT \n\n\nSie erhalten die Gelegenheit\, unter der fachkundigen Anleitung von Experten praktische Erfahrungen zu sammeln und Ihre Fertigkeiten zu perfektionieren. Weiter erhalten Sie Einblicke in die neuesten Techniken und Entwicklungen auf diesem Gebiet. \nNicht zu kurz kommt zudem der Austausch mit Kollegen\, das Knüpfen neuer Kontakte und eine Orientierung über die aktuellen Trends und Herausforderungen in der Implantologie. Wir freuen uns darauf\, Sie persönlich in Köln begrüßen zu dürfen und gemeinsam mit Ihnen zwei intensive und lehrreiche Tage zu verbringen. \nMit herzlichen Grüßen \nKatja Nelson\, Tobias Fretwurst\, Florian Kernen \n[/vc_column_text][/vc_column][/vc_row][vc_row pix_particles_check=““][vc_column][vc_column_text css=““]\nHUMANPRÄPARATE-KURS\nPROGRAMMABLAUF\nFr. + Sa.: 23./24.01.26 – 09.00 – 16.00 Uhr. \nFreitag: 23.01.2026 \n\n\n➠ 09:00 Begrüßung \n\n\n➠ 09:10-10:00 Diagnostik und Planung in der Implantologie \n\n\n➠ 10:00-11:00 Implantation Step by Step (inkl. Schnittführung/Nahttechnik) \n\n\n➠ 11:00 Kaffeepause \n\n\n➠ 11:15-13:00 Hands-On – Implantation Humanpräparat \n\n\n➠ 13:00-14:00 Mittagessen \n\n\n➠ 14:00-15:15 Sinuslift intern vs. extern \n\n\n➠ 15:15 Kaffeepause \n\n\n➠ 15:30-17:00 Hands-On – Sinuslift am Humanpräparat\, Hands-On – Sinuslift am Hühnerei \n\n\nFreitagabend: Einladung Abendessen der Teilnehmenden und Referenten. \nSamstag: 24.01.2026 \n\n\n➠ 09:00-10:00 Augmentationstechniken & Limitationen \n\n\n➠ 10:00-11:00 Hands-On – Externer Sinuslift am Humanpräparat \n\n\n➠ 11:00 Kaffeepause \n\n\n➠ 11:15-13:00 Bone-Split Step by Step \n\n\n➠ 13:00-14:00 Mittagessen \n\n\n➠ 14:00-15:30 Hands-On – Bone Split am Humanpräparat \n\n\n➠ 15:30-16:00 Q&A\, Zertifikatübergabe \n\n\n  \nVorteile der Fresh Frozen Cadaver Präparate:\nDie frisch eingefrorenen anatomischen Präparate sind besonders gut für die chirurgische Ausbildung geeignet\, da sie eine realitätsnahe Gewebebeschaffenheit bieten. Das Weichgewebe behält größtenteils die natürliche Konsistenz und Elastizität bei. Dies ermöglicht eine realistische Simulation chirurgischer Techniken. Des Weiteren bleiben die Texturen des Gewebes erhalten\, wodurch sich anatomische Strukturen besser unterscheiden lassen.\nZusammenfassend lässt sich sagen\, dass durch die verwendeten Präparate realistische Bedingungen für das Erlernen der chirurgischen Verfahren geschaffen werden\, die denen im echten Operationssaal sehr nahekommen. Dies umfasst das Schneiden\, Nähen und Manipulieren des Gewebes. \n  \nREFERENTEN:\nFLORIAN KERNEN\nJuniorprofessur für Virtuelle Implantologie\nUniversitätsklinikum Freiburg \nKATJA NELSON\nLeiterin Translationale Implantologie\nUniversitätsklinikum Freiburg \nTOBIAS FRETWURST\nSektion Regenerative Orale Medizin\nUniversitätsklinikum Freiburg \nIhre persönliche Ansprechpartnerin:\nSabrina Alisch\nICX-Expertin\nMobil: 0151 658 298 39 \nDie Teilnahmegebühr beträgt pro Person € 1.490\,–* zzgl. MwSt. \n\n* freitags von 09.00 – 17.00 Uhr. inkl. Snacks\, Mittagessen und Getränke & gemeinsames Abendessen der Teilnehmenden und Referenten.\n* samstags von 09.00 – 16.00 Uhr. inkl. Snacks\, Mittagessen und Getränke.\n\nSie erhalten 14 Fortbildungspunkte pro Person/je Fortbildung. \nMit freundlicher Unterstützung durch medentis medical \nSAVE THE DATE ++ TEIL 2 ++ SAVE THE DATE 2-TAGES-HUMANPRÄPARATE-KURS IN KÖLN · 30./31.10.26\n[/vc_column_text][/vc_column][/vc_row][vc_row content_placement=“top“ pix_particles_check=““][vc_column][vc_empty_space][vc_column_text css=““]\nJETZT ANMELDEN UND IN DIE ZUKUNFT STARTEN! \n[/vc_column_text]Infos und Anmeldung zum download![vc_empty_space][/vc_column][/vc_row]
URL:https://gioi.info/zfb/2-tages-humanpraeparate-kurs-koeln-01/
LOCATION:Rimasys GmbH Ausbildungszentrum\, Nattermannallee 1\, Köln\, 50829\, Deutschland
CATEGORIES:HUMANPRÄPARATE-KURSE – ANATOMIE
ATTACH;FMTTYPE=image/jpeg:https://gioi.info/wp-content/uploads/2025/06/2-Tages-Humanpraeparate-kurs-FR.-sa.-23.-24.01.26-Koeln.jpg
GEO:50.977068;6.8588592
X-APPLE-STRUCTURED-LOCATION;VALUE=URI;X-ADDRESS=Rimasys GmbH Ausbildungszentrum Nattermannallee 1 Köln 50829 Deutschland;X-APPLE-RADIUS=500;X-TITLE=Nattermannallee 1:geo:6.8588592,50.977068
END:VEVENT
BEGIN:VEVENT
DTSTART;TZID=Europe/Berlin:20251010T090000
DTEND;TZID=Europe/Berlin:20251011T170000
DTSTAMP:20260422T195912
CREATED:20240606T115744Z
LAST-MODIFIED:20250812T093401Z
UID:10001339-1760086800-1760202000@gioi.info
SUMMARY:2-TAGES-HUMANPRÄPARATE-KURS Teil 2\, Köln
DESCRIPTION:[vc_row pix_particles_check=““][vc_column width=“1/2″][vc_column_text css=““]Veranstaltungsort:\nRimasys GmbH Ausbildungszentrum\nNattermannallee 1\n50829 Köln[/vc_column_text][/vc_column][vc_column width=“1/2″]Verwendung von: Fresh frozen Humanpräparate[/vc_column][/vc_row][vc_row pix_particles_check=““][vc_column][vc_column_text css=““]\nNur noch 1 Platz verfügbar!\nSie wollen einmal alle Standardtherapiemöglichkeiten am Humanpräparat ausprobieren?\nIn Kurzvorträgen und mit 8 Stunden Hands-On über die zwei Kurstage verteilt\, können Sie folgende Eingriffe durchführen: \n  \nSehr geehrte Kolleginnen und Kollegen\, \nwir freuen uns\, Sie zu unserem bevorstehenden zweitägigen Humanpräparate-Kurs Teil 2 in Köln einzuladen. Unser Kurs bietet Ihnen die Möglichkeit\, praxisorientiert verschiedene Standardtherapiemöglichkeiten der Implantologie am Humanpräparat zu erlernen und zu vertiefen. Durch eine gelungene Kombination aus informativen Kurzvorträgen und intensivem Hands-On-Training verteilt auf zwei Kurstage\, werden Sie die folgenden Eingriffe anwenden können: \n\n➠ RETROMOLARER KNOCHENBLOCK\n➠EXTRAKTION & SOFORTIMPLANTATION\n➠WEICHGEWEBEMANAGEMENT MITTELS VESTIBULUMPLASTIK\, BINDEGEWEBSTRANSPLANTAT UND FREIEM SCHLEIMHAUTTRANSPLANTAT\n\nSie erhalten die Gelegenheit\, unter der fachkundigen Anleitung von Experten praktische Erfahrungen zu sammeln und Ihre Fertigkeiten zu perfektionieren. Nicht zu kurz kommt zudem der Austausch mit Kollegen\, das Knüpfen neuer Kontakte. \nWir freuen uns darauf\, Sie persönlich in Köln begrüßen zu dürfen und gemeinsam mit Ihnen zwei intensive und lehrreiche Tage zu verbringen. \nMit herzlichen Grüßen \nKatja Nelson\, Tobias Fretwurst\, Florian Kernen \n[/vc_column_text][/vc_column][/vc_row][vc_row pix_particles_check=““][vc_column][vc_column_text css=““]\nHUMANPRÄPARATE-KURS TEIL 2\nPROGRAMMABLAUF\nFr. + Sa.: 10./11.10.25 – 09.00 – 17.00 Uhr. \nFreitag: 10.10.2025 \n\n\n09:00 Begrüßung \n\n\n09:10-10:15 Vortrag – Sofortimplantation \n\n\n10:15-10:30 Kaffeepause \n\n\n10:30-12:30 Hands-on – Extraktion & Sofortimplantation \n\n\n12:30-13:30 Mittagessen \n\n\n13:30-14:30 Vortrag – Bindegewebstransplantat \n\n\n14:30-16:30 Hands-on – Bindegewebstransplantat \n\n\n16:30-17:00 Q&A \nFreitagabend: Einladung Abendessen der Teilnehmenden und Referenten. \n\n\nSamstag: 11.10.2025 \n\n\n09:00-10:00 Vortrag – Vestibulumplastik & freies Schleimhauttransplantat \n\n\n10:00-10:15 Kaffeepause \n\n\n10:15-12:00 Hands-On – Vestibulumplastik & freies Schleimhauttransplantat \n\n\n12:00-13:00 Mittagessen \n\n\n13:00-13:30 Vortrag – retromolarar Knochenblock \n\n\n13:30-16:30 Hands-On – Retromolarer Knochenblock \n\n\n16:30-17:00 Q&A \n\n\n  \nVorteile der Fresh Frozen Cadaver Präparate:\nDie frisch eingefrorenen anatomischen Präparate sind besonders gut für die chirurgische Ausbildung geeignet\, da sie eine realitätsnahe Gewebebeschaffenheit bieten. Das Weichgewebe behält größtenteils die natürliche Konsistenz und Elastizität bei. Dies ermöglicht eine realistische Simulation chirurgischer Techniken. Des Weiteren bleiben die Texturen des Gewebes erhalten\, wodurch sich anatomische Strukturen besser unterscheiden lassen.\nZusammenfassend lässt sich sagen\, dass durch die verwendeten Präparate realistische Bedingungen für das Erlernen der chirurgischen Verfahren geschaffen werden\, die denen im echten Operationssaal sehr nahekommen. Dies umfasst das Schneiden\, Nähen und Manipulieren des Gewebes. \n  \nREFERENTEN:\nFLORIAN KERNEN\nJuniorprofessur für Virtuelle Implantologie\nUniversitätsklinikum Freiburg \nKATJA NELSON\nLeiterin Translationale Implantologie\nUniversitätsklinikum Freiburg \nTOBIAS FRETWURST\nSektion Regenerative Orale Medizin\nUniversitätsklinikum Freiburg \nIhre persönliche Ansprechpartnerin:\nSabrina Alisch\nICX-Expertin\nMobil: 0151 658 298 39 \nDie Teilnahmegebühr beträgt pro Person € 1.490\,–* zzgl. MwSt. \n\n* freitags von 09.00 – 17.00 Uhr. inkl. Snacks\, Mittagessen und Getränke & gemeinsames Abendessen der Teilnehmenden und Referenten.\n* samstags von 09.00 – 17.00 Uhr. inkl. Snacks\, Mittagessen und Getränke.\n\nSie erhalten 14 Fortbildungspunkte pro Person/je Fortbildung. \nMit freundlicher Unterstützung durch medentis medical \n[/vc_column_text][/vc_column][/vc_row][vc_row content_placement=“top“ pix_particles_check=““][vc_column][vc_empty_space][vc_column_text css=““]\nJETZT ANMELDEN UND IN DIE ZUKUNFT STARTEN! \n[/vc_column_text]Infos und Anmeldung zum download![vc_empty_space][/vc_column][/vc_row]
URL:https://gioi.info/zfb/2-tages-humanpraeparate-kurs-koeln/
LOCATION:Rimasys GmbH Ausbildungszentrum\, Nattermannallee 1\, Köln\, 50829\, Deutschland
CATEGORIES:HUMANPRÄPARATE-KURSE – ANATOMIE
ATTACH;FMTTYPE=image/jpeg:https://gioi.info/wp-content/uploads/2024/10/10.-11.10.25-Koeln-NEU2-scaled.jpg
GEO:50.977068;6.8588592
X-APPLE-STRUCTURED-LOCATION;VALUE=URI;X-ADDRESS=Rimasys GmbH Ausbildungszentrum Nattermannallee 1 Köln 50829 Deutschland;X-APPLE-RADIUS=500;X-TITLE=Nattermannallee 1:geo:6.8588592,50.977068
END:VEVENT
END:VCALENDAR