BEGIN:VCALENDAR
VERSION:2.0
PRODID:-//GIOI - GERMAN INSTITUTE OF ORAL IMPLANTOLOGY - ECPv6.15.20//NONSGML v1.0//EN
CALSCALE:GREGORIAN
METHOD:PUBLISH
X-WR-CALNAME:GIOI - GERMAN INSTITUTE OF ORAL IMPLANTOLOGY
X-ORIGINAL-URL:https://gioi.info
X-WR-CALDESC:Veranstaltungen für GIOI - GERMAN INSTITUTE OF ORAL IMPLANTOLOGY
REFRESH-INTERVAL;VALUE=DURATION:PT1H
X-Robots-Tag:noindex
X-PUBLISHED-TTL:PT1H
BEGIN:VTIMEZONE
TZID:Europe/Berlin
BEGIN:DAYLIGHT
TZOFFSETFROM:+0100
TZOFFSETTO:+0200
TZNAME:CEST
DTSTART:20250330T010000
END:DAYLIGHT
BEGIN:STANDARD
TZOFFSETFROM:+0200
TZOFFSETTO:+0100
TZNAME:CET
DTSTART:20251026T010000
END:STANDARD
BEGIN:DAYLIGHT
TZOFFSETFROM:+0100
TZOFFSETTO:+0200
TZNAME:CEST
DTSTART:20260329T010000
END:DAYLIGHT
BEGIN:STANDARD
TZOFFSETFROM:+0200
TZOFFSETTO:+0100
TZNAME:CET
DTSTART:20261025T010000
END:STANDARD
BEGIN:DAYLIGHT
TZOFFSETFROM:+0100
TZOFFSETTO:+0200
TZNAME:CEST
DTSTART:20270328T010000
END:DAYLIGHT
BEGIN:STANDARD
TZOFFSETFROM:+0200
TZOFFSETTO:+0100
TZNAME:CET
DTSTART:20271031T010000
END:STANDARD
END:VTIMEZONE
BEGIN:VEVENT
DTSTART;TZID=Europe/Berlin:20260128T143000
DTEND;TZID=Europe/Berlin:20260128T183000
DTSTAMP:20260422T213116
CREATED:20250527T111347Z
LAST-MODIFIED:20251028T112405Z
UID:10001433-1769610600-1769625000@gioi.info
SUMMARY:DIE ZAHNÄRZTLICHE ABRECHNUNG UND IHRE VIELEN TÜCKEN – EIN ÜBERBLICK\, Leipzig
DESCRIPTION:[vc_row content_placement=“top“ pix_particles_check=““][vc_column][vc_column_text css=““]Veranstaltungsort:\nSeaside Park Hotel Leipzig\nRichard-Wagner-Str. 7\n04109 Leipzig[/vc_column_text][/vc_column][/vc_row][vc_row pix_particles_check=““][vc_column][vc_column_text css=““]\nLERNEN SIE MÖGLICKEITEN UND HILFEN FÜR DIE ABRECHNUNG IN PRAXEN.\nLiebe Zahnärzte\, liebe ZFA‘s\, \nMelanie Diwisch\, ausgebildete Zahnmedizinische Fachangestellte (ZFA)\, entdeckte schon während ihrer Ausbildung ihre Leidenschaft für die Chirurgie und arbeitete in der Folge in verschiedenen Praxen für Mund-\, Kiefer- und Gesichtschirurgie. Mit zusätzlichen Qualifikationen als QMB und PM erweiterte sie ihr Wissen. \n2009 gründete sie MeDi-Zahn Praxismanagement und begann als Referentin im Bereich Abrechnung. Die Kundenzahl wuchs stetig\, damit auch das MeDi-Zahn Team. Heute besteht die Crew aus 35 engagierten Frauen und Männern. \nMeDi-Zahn deckt mit einem starken und hochqualifizierten Team die Abrechnung in den Bereichen allgemeine Zahnheilkunde\, Oralchirurgie\, MKG-Chirurgie und Kieferorthopädie ab. Auch Dentallabore gehören zu ihren Kunden. \nUnsere Kunden erhalten bei uns keinen Standard nach „Schema F“\, sondern korrekte\, rechtssichere und praxisindividuelle Abrechnungen. \nWir unterstützen die Praxen darin\, durch Schulungen des Teams und vollständige Dokumentation endlich alle erbrachten Leistungen zu honorieren\, den Umsatz zu optimieren und Honorarverluste zu vermeiden. \nIHALTE DER FORTBILDUNG: \n\n\n\n\nBegrüßung: ICX-Experte Krzysztof Durczok\nGOZ-Update 2026\, Implantation und Knochenmanagement\nSupra-Konstruktion inkl. BEB\n\n\n\nVON DER IMPLEMENTATION ZUR IMPERIAL-VERSORGUNG BIS ZUR ENDGÜLTIGEN IMPLANTATGETRAGENEN BRÜCKE. \n\n  \nReferentin:\nMelanie Diwisch\, Inhaberin und Geschäftsführerin von MeDi-Zahn Praxismanagement \nIhr persönliche Ansprechpartner:\nGösta Malzahn\nMobil: 160 378 57 89\ng.malzahn@medentis.de \nTermin:\nMi.: 28.01.26 – 14.30-18.30 Uhr inkl. Fingerfood und Getränke \nDie Teilnahmegebühr beträgt pro Person € 99\,– zzgl. gesetzl. MwSt. \n[/vc_column_text][/vc_column][/vc_row][vc_row content_placement=“top“ pix_particles_check=““][vc_column][vc_empty_space][vc_column_text css=““]\nJETZT ANMELDEN UND IN DIE ZUKUNFT STARTEN! \n[/vc_column_text]Infos und Anmeldung zum download![vc_empty_space][/vc_column][/vc_row][vc_column][/vc_column]
URL:https://gioi.info/zfb/die-zahnaerztliche-abrechnung-leipzig/
LOCATION:Seaside Park Hotel Leipzig\, Richard-Wagner-Str. 7\, Leipzig\, 04109\, Deutschland
CATEGORIES:Fortbildungen des GIOI,Für ZFAs: Abrechnung / Hygiene etc.
ATTACH;FMTTYPE=image/jpeg:https://gioi.info/wp-content/uploads/2025/05/mm02750_28.01.26_Leipzig_SM-2-1.jpg
GEO:51.3432602;12.3789242
X-APPLE-STRUCTURED-LOCATION;VALUE=URI;X-ADDRESS=Seaside Park Hotel Leipzig Richard-Wagner-Str. 7 Leipzig 04109 Deutschland;X-APPLE-RADIUS=500;X-TITLE=Richard-Wagner-Str. 7:geo:12.3789242,51.3432602
END:VEVENT
END:VCALENDAR