BEGIN:VCALENDAR
VERSION:2.0
PRODID:-//GIOI - GERMAN INSTITUTE OF ORAL IMPLANTOLOGY - ECPv6.15.20//NONSGML v1.0//EN
CALSCALE:GREGORIAN
METHOD:PUBLISH
X-WR-CALNAME:GIOI - GERMAN INSTITUTE OF ORAL IMPLANTOLOGY
X-ORIGINAL-URL:https://gioi.info
X-WR-CALDESC:Veranstaltungen für GIOI - GERMAN INSTITUTE OF ORAL IMPLANTOLOGY
REFRESH-INTERVAL;VALUE=DURATION:PT1H
X-Robots-Tag:noindex
X-PUBLISHED-TTL:PT1H
BEGIN:VTIMEZONE
TZID:Europe/Berlin
BEGIN:DAYLIGHT
TZOFFSETFROM:+0100
TZOFFSETTO:+0200
TZNAME:CEST
DTSTART:20250330T010000
END:DAYLIGHT
BEGIN:STANDARD
TZOFFSETFROM:+0200
TZOFFSETTO:+0100
TZNAME:CET
DTSTART:20251026T010000
END:STANDARD
BEGIN:DAYLIGHT
TZOFFSETFROM:+0100
TZOFFSETTO:+0200
TZNAME:CEST
DTSTART:20260329T010000
END:DAYLIGHT
BEGIN:STANDARD
TZOFFSETFROM:+0200
TZOFFSETTO:+0100
TZNAME:CET
DTSTART:20261025T010000
END:STANDARD
BEGIN:DAYLIGHT
TZOFFSETFROM:+0100
TZOFFSETTO:+0200
TZNAME:CEST
DTSTART:20270328T010000
END:DAYLIGHT
BEGIN:STANDARD
TZOFFSETFROM:+0200
TZOFFSETTO:+0100
TZNAME:CET
DTSTART:20271031T010000
END:STANDARD
END:VTIMEZONE
BEGIN:VEVENT
DTSTART;TZID=Europe/Berlin:20260619T090000
DTEND;TZID=Europe/Berlin:20260620T163000
DTSTAMP:20260424T121852
CREATED:20251029T142108Z
LAST-MODIFIED:20251029T145427Z
UID:10001470-1781859600-1781973000@gioi.info
SUMMARY:HUMANPRÄPARATE-KURS ANATOMIE 2026 - TEIL I\, Charité Berlin
DESCRIPTION:[vc_row pix_particles_check=““][vc_column][vc_column_text css=““]Veranstaltungsort:\nWilhelm-Waldeyer-Haus\nPhilippstr. 11\n10115 Berlin[/vc_column_text][/vc_column][/vc_row][vc_row pix_particles_check=““][vc_column][vc_column_text css=““]\nIN ZUSAMMENARBEIT MIT DER CHARITÉ UNIVERSITÄTSMEDIZIN BERLIN\nWEGEN GROSSER NACHFRAGE – NEUE TERMINE!\nFORTBILDUNG „HUMANPRÄPARATE-KURS ANATOMIE“ TEIL I  – 2026\nSehr geehrte Damen und Herren\,\nhiermit möchten wir Sie sehr herzlich\, zu unseren 2-tägigen Humanpräparate-Kursen Teil I und Teil II in die Charité – Universitätsmedizin in Berlin\, in 2026 einladen. \nErfahren Sie in Vorträgen und praktischen Übungen\, alles Wissenswerte über die modernen und zeitgemäßen Vorgehensweisen in der dentalen Implantologie. \nWir freuen uns auf lehrreiche und spannende Fortbildungen mit Ihnen! \nProf. Dr. med. dent. Susanne Nahles und Prof. Dr. med. Dr. med. dent. Max Heiland[/vc_column_text][/vc_column][/vc_row][vc_row pix_particles_check=““][vc_column][vc_column_text css=““]\nHUMANPRÄPARATE-KURS ANATOMIE TEIL I\nPROGRAMMABLAUF Fr. + Sa.: 19./20.06.2026\nFreitag\, Kurs I: 19.06.2026 \n\n– 09:00 Uhr Begrüßung\n– 09:10 Uhr Biologie der Alveole und Socket preservation\n– 10.15 Uhr Diagnostik und Planung in der Implantologie\n– 10:45 Uhr Schnitttechniken\, Lappentechniken\, Nahttechniken\n– 11:15 Uhr Kaffeepause\n– 11.30 Uhr Tier/Humanpräparat\nPraktische Übungen: \n\nNahtübungen am Schweineohr\nBildung Mukoperiostlappen und Periostschlitzung\n\n\n– 13:00 Uhr Mittagessen\n– 13.30 Uhr Augmentationstechniken – Interne und externen Sinusbodenelevation\n– 14.30 Uhr Humanpräparat\nPraktische Übungen: \n\nZahnextraktion mit Benex®\nSocket preservation und freies Schleimhauttransplantat am Humanpräparat\nSinuslift am Ei mit Piezosurgery\n\n\n-17:00 Uhr Kursende für Freitag\n– 19:00 Uhr Gemeinsames Abendessen\n\n\nSamstag\, Kurs I: 20.06.2026 \n\n– 09:00 Uhr Demo interner und externe Sinuslift und praktische Übungen mit Bohrschablone anhand DVT Planung\n– 11.00 Uhr Praktische Übungen\n– 11.15 Uhr Vorstellung der Implantatsysteme ICX\, medentis medical\n– 11:30 Uhr Implantate beim Risikopatienten\n– 12:15 Uhr Mittagessen\n– 13:15 Uhr\nPraktische Übungen am Humanpräparat: \n\n2 Implantate im anterioren Unterkiefer mit Weichgewebsmanagement\nNervverlagerung als Demo\n\n\n– 16.00 Uhr Diskussion eigener Fälle\n– 16:30 Uhr Zertifikatübergabe und Kursende\n\n\n  \nREFERENTEN: \nProf. Dr. med. dent. Susanne Nahles\nOberärztin Charité – Universitätsmedizin Berlin\nLeitung des AB Rekonstruktive Implantologie \nProf. Dr. med. Dr. med. dent. Max Heiland\nÄrztlicher Direktor der Klinik für Mund-\, Kiefer- und Gesichtschirurgie\nCharité – Universitätsmedizin Berlin \nDie Teilnahmegebühr beträgt pro Person € 1.490\,–** zzgl. MwSt. \nDie Zertifikate über die erreichten 14 Fortbildungspunkte pro Person/je Fortbildung werden Ihnen vor Ort ausgehändigt. \n**Inkl. Snacks und Getränke & Mittag- und Abendessen. \nVeranstaltungsort: Wilhelm-Waldeyer-Haus · Philippstr. 11 · 10115 Berlin \nOnline anmelden über die E-Mail Adresse: veranstaltung@medentis.de\, oder direkt unten über unser Buchungssystem. \nMit freundlicher Unterstützung durch medentis medical \n[/vc_column_text][/vc_column][/vc_row][vc_row content_placement=“top“ pix_particles_check=““][vc_column][vc_empty_space][vc_column_text css=““]\nJETZT ANMELDEN UND IN DIE ZUKUNFT STARTEN! \n[/vc_column_text]Infos und Anmeldung zum download![vc_empty_space][/vc_column][/vc_row]
URL:https://gioi.info/zfb/humanpraeparate-kurs-anatomie-2026-teil-1/
LOCATION:Wilhelm-Waldeyer-Haus\, Philippstr. 11\, Berlin\, 10115
CATEGORIES:HUMANPRÄPARATE-KURSE – ANATOMIE
ATTACH;FMTTYPE=image/jpeg:https://gioi.info/wp-content/uploads/2025/10/Charite-2026.jpg
GEO:52.5258326;13.3808468
X-APPLE-STRUCTURED-LOCATION;VALUE=URI;X-ADDRESS=Wilhelm-Waldeyer-Haus Philippstr. 11 Berlin 10115;X-APPLE-RADIUS=500;X-TITLE=Philippstr. 11:geo:13.3808468,52.5258326
END:VEVENT
BEGIN:VEVENT
DTSTART;TZID=Europe/Berlin:20261113T090000
DTEND;TZID=Europe/Berlin:20261114T163000
DTSTAMP:20260424T121853
CREATED:20251029T144903Z
LAST-MODIFIED:20251029T145538Z
UID:10001471-1794560400-1794673800@gioi.info
SUMMARY:HUMANPRÄPARATE-KURS ANATOMIE 2026 - TEIL II\, Charité Berlin
DESCRIPTION:[vc_row pix_particles_check=““][vc_column][vc_column_text css=““]Veranstaltungsort:\nWilhelm-Waldeyer-Haus\nPhilippstr. 11\n10115 Berlin[/vc_column_text][/vc_column][/vc_row][vc_row pix_particles_check=““][vc_column][vc_column_text css=““]\nIN ZUSAMMENARBEIT MIT DER CHARITÉ UNIVERSITÄTSMEDIZIN BERLIN\nWEGEN GROSSER NACHFRAGE – NEUE TERMINE!\nFORTBILDUNG „HUMANPRÄPARATE-KURS ANATOMIE“ TEIL II  – 2026\nSehr geehrte Damen und Herren\,\nhiermit möchten wir Sie sehr herzlich\, zu unseren 2-tägigen Humanpräparate-Kursen Teil I und Teil II in die Charité – Universitätsmedizin in Berlin\, in 2026 einladen. \nErfahren Sie in Vorträgen und praktischen Übungen\, alles Wissenswerte über die modernen und zeitgemäßen Vorgehensweisen in der dentalen Implantologie. \nWir freuen uns auf lehrreiche und spannende Fortbildungen mit Ihnen! \nProf. Dr. med. dent. Susanne Nahles und Prof. Dr. med. Dr. med. dent. Max Heiland[/vc_column_text][/vc_column][/vc_row][vc_row pix_particles_check=““][vc_column][vc_column_text css=““]\nHUMANPRÄPARATE-KURS ANATOMIE TEIL II\nPROGRAMMABLAUF Fr. + Sa.: 13./14.11.2026\nFreitag\, Kurs II: 13.11.2026 \n\n– 09:00 Uhr Begrüßung\, Prof. Nahles\n– 09:20 Uhr Horizontale Augmentationstechnikenbone splitting\, bone spreading\, Block\n– 11:15 Uhr Kaffeepause\n– 11:30 – 13.30 Tier/ Humanpräparat\nPraktische Übungen: \n\nBone splitting und Sofortimplantation mit lateraler Augmentation und Membran-Technik am Tierpräparat\n\n\n– 13:30 Uhr Mittagessen\n– 14:15 Uhr Tier/ Humanpräparat\n– Praktische Übungen: \n\nBone splitting und Sofortimplantation mit lateraler Augmentation und Membran-Technik am Tierpräparat und Humanpräparat\nExtraktion mit Piezo®\, Sorfortimplantation in Alveole\n\n\n16:00 Uhr Update Leitlinien\n17.00 Uhr Kursende für Freitag\n19:00 Uhr Gemeinsames Abendessen\n\nSamstag\, Kurs II: 14.11.2026 \n\n– 09:00 Uhr Vertikale Augmentationstechniken Knochenring\, Sandwichosteotomie\n– 10.00 Uhr Techniken der Explantation\n– 10:15 Uhr Kaffeepause\n– 10.30 Uhr PRF/PRGF- klinische Anwendung und wissenschaftliche Datenlage. O. Wagendorf\n– 11.00 Uhr Praktische Übungen:\n\nPRF Anwendung\, Sticky Bone PRF\nAugmentation mit GBR\n\n\n– 12:30 Uhr Mittagessen\n– 13:30 Uhr Praktische Übungen am Human/Tierpräparat:\n\nRetromolarer Block/Schale\n\n\n15.30 Uhr Diskussion eigener Patientenfälle anhand von Modellen und Röntgenbildern\n16:00 Uhr Zertifikatübergabe und Kursende\n\n  \nREFERENTEN: \nProf. Dr. med. dent. Susanne Nahles\nOberärztin Charité – Universitätsmedizin Berlin\nLeitung des AB Rekonstruktive Implantologie \nProf. Dr. med. Dr. med. dent. Max Heiland\nÄrztlicher Direktor der Klinik für Mund-\, Kiefer- und Gesichtschirurgie\nCharité – Universitätsmedizin Berlin \nDie Teilnahmegebühr beträgt pro Person € 1.490\,–** zzgl. MwSt. \nDie Zertifikate über die erreichten 14 Fortbildungspunkte pro Person/je Fortbildung werden Ihnen vor Ort ausgehändigt. \n**Inkl. Snacks und Getränke & Mittag- und Abendessen. \nVeranstaltungsort: Wilhelm-Waldeyer-Haus · Philippstr. 11 · 10115 Berlin \nOnline anmelden über die E-Mail Adresse: veranstaltung@medentis.de\, oder direkt unten über unser Buchungssystem. \nMit freundlicher Unterstützung durch medentis medical \n[/vc_column_text][/vc_column][/vc_row][vc_row content_placement=“top“ pix_particles_check=““][vc_column][vc_empty_space][vc_column_text css=““]\nJETZT ANMELDEN UND IN DIE ZUKUNFT STARTEN! \n[/vc_column_text]Infos und Anmeldung zum download![vc_empty_space][/vc_column][/vc_row]
URL:https://gioi.info/zfb/humanpraeparate-kurs-anatomie-2026-teil-2/
LOCATION:Wilhelm-Waldeyer-Haus\, Philippstr. 11\, Berlin\, 10115
CATEGORIES:HUMANPRÄPARATE-KURSE – ANATOMIE
ATTACH;FMTTYPE=image/jpeg:https://gioi.info/wp-content/uploads/2025/10/Charite-2026.jpg
GEO:52.5258326;13.3808468
X-APPLE-STRUCTURED-LOCATION;VALUE=URI;X-ADDRESS=Wilhelm-Waldeyer-Haus Philippstr. 11 Berlin 10115;X-APPLE-RADIUS=500;X-TITLE=Philippstr. 11:geo:13.3808468,52.5258326
END:VEVENT
END:VCALENDAR