BEGIN:VCALENDAR
VERSION:2.0
PRODID:-//GIOI - GERMAN INSTITUTE OF ORAL IMPLANTOLOGY - ECPv6.15.20//NONSGML v1.0//EN
CALSCALE:GREGORIAN
METHOD:PUBLISH
X-WR-CALNAME:GIOI - GERMAN INSTITUTE OF ORAL IMPLANTOLOGY
X-ORIGINAL-URL:https://gioi.info/en/
X-WR-CALDESC:Events for GIOI - GERMAN INSTITUTE OF ORAL IMPLANTOLOGY
REFRESH-INTERVAL;VALUE=DURATION:PT1H
X-Robots-Tag:noindex
X-PUBLISHED-TTL:PT1H
BEGIN:VTIMEZONE
TZID:Europe/Berlin
BEGIN:DAYLIGHT
TZOFFSETFROM:+0100
TZOFFSETTO:+0200
TZNAME:CEST
DTSTART:20240331T010000
END:DAYLIGHT
BEGIN:STANDARD
TZOFFSETFROM:+0200
TZOFFSETTO:+0100
TZNAME:CET
DTSTART:20241027T010000
END:STANDARD
BEGIN:DAYLIGHT
TZOFFSETFROM:+0100
TZOFFSETTO:+0200
TZNAME:CEST
DTSTART:20250330T010000
END:DAYLIGHT
BEGIN:STANDARD
TZOFFSETFROM:+0200
TZOFFSETTO:+0100
TZNAME:CET
DTSTART:20251026T010000
END:STANDARD
BEGIN:DAYLIGHT
TZOFFSETFROM:+0100
TZOFFSETTO:+0200
TZNAME:CEST
DTSTART:20260329T010000
END:DAYLIGHT
BEGIN:STANDARD
TZOFFSETFROM:+0200
TZOFFSETTO:+0100
TZNAME:CET
DTSTART:20261025T010000
END:STANDARD
END:VTIMEZONE
BEGIN:VEVENT
DTSTART;VALUE=DATE:20250918
DTEND;VALUE=DATE:20250921
DTSTAMP:20260422T154303
CREATED:20250611T085309Z
LAST-MODIFIED:20250815T130726Z
UID:10001445-1758153600-1758412799@gioi.info
SUMMARY:Champagne Lounge - EAO DGI Congress 2025\, Monaco
DESCRIPTION:[vc_row pix_particles_check=””][vc_column][vc_column_text css=””]Venue:\nGrimaldi Forum – Medentis booth R108\n10 avenue Princesse Grâce\n98000 Monaco[/vc_column_text][/vc_column][/vc_row][vc_row pix_particles_check=””][vc_column][vc_empty_space][/vc_column][/vc_row][vc_section pix_over_visibility=””][vc_row pix_particles_check=””][vc_column][vc_column_text css=””]\nWelcome to Monaco 2025\nIt is with great pleasure that we announce the details of the 32nd Annual Scientific Meeting of the EAO\, which will take place from September 18 to 20\, 2025. \nEnjoy a Glass of Champagne – Quick & Easy Registration\nAfter registering\, you will receive a QR code on your smartphone. Please show this at the Champagne Lounge. You will then receive a personalized label to stick on your glass. Your glass will then be filled with the finest champagne.After registering\, you will receive a QR code on your smartphone. Please show this at the Champagne Lounge. You will then receive a personalized label that will be affixed to your glass. Your glass will then be filled with the finest champagne.       \n->> Register now \n  \nWe look forward to seeing you at our Medentis booth R108. \nmedentis medical is a Gold Sponsor! \nFurther information: \nhttps://congress.eao.org/en/[/vc_column_text][/vc_column][/vc_row][/vc_section][vc_row disable_element=”yes” pix_particles_check=””][vc_column][vc_column_text css=””]\nWelcome to Monaco 2025\nIt is with great pleasure that we announce the details of the 32nd Annual Scientific Meeting of the EAO\, which will take place from September 18 to 20\, 2025. \nEnjoy a Glass of Champagne – Quick & Easy Registration\nWe’re excited to welcome you at our booth at EAO-Monaco! \nTo receive your complimentary glass of champagne\, please follow these simple steps: \n1. register\nScan the QR code or visit our registration page. Fill in your details – it only takes a minute.  \n2. check your email\nYou’ll receive a confirmation with your personal QR code. \n3. visit our booth\nShow your QR code to our team. We’ll scan it at the champagne counter.  \n4. receive your name tag\nYou’ll get a small name tag\, which will be attached to your champagne glass. \n5. enjoy your champagne\nNow it’s time to relax and enjoy a glass of chilled champagne – cheers! \nYour Medentis Team \nFurther information: \nhttps://congress.eao.org/en/ \nWe look forward to seeing you at our Medentis booth R108. \nMedentis Medical is a Gold Sponsor![/vc_column_text][/vc_column][/vc_row][vc_row full_width=”stretch_row” gap=”3″ content_placement=”top” pix_particles_check=””][vc_column width=”1/2″]REGISTER - CHAMPAGNE-LOUNGEYou will now receive an email with a QR code\, which you must show at our medentis stand to be scanned. Once scanned\, you will receive a glass of champagne. We look forward to seeing you at our Medentis booth R108.   REGISTER NOW![/vc_column][vc_column width=”1/2″]TAKE ADVANTAGE OF OUR INCREDIBLE OFFER!EAO MONACO &apos;25 OFFER!\nLIMITED OFFER OF MAX. 30 PACKAGES!\nDELIVERY FROM 01.08.2025. GO TO OFFER NOW[/vc_column][/vc_row]40cd750bba9870f18aada2478b24840a40cd750bba9870f18aada2478b24840a
URL:https://gioi.info/en/zfb/eao-dgi-congress-2025-monaco/
LOCATION:Grimaldi Forum Monaco\, 10\, Avenue Princesse Grace\, Monaco\, 98000\, Monaco
CATEGORIES:Training courses
ATTACH;FMTTYPE=image/jpeg:https://gioi.info/wp-content/uploads/2025/06/Monaco_new2.jpg
GEO:43.7404671;7.4295881
X-APPLE-STRUCTURED-LOCATION;VALUE=URI;X-ADDRESS=Grimaldi Forum Monaco 10 Avenue Princesse Grace Monaco 98000 Monaco;X-APPLE-RADIUS=500;X-TITLE=10\, Avenue Princesse Grace:geo:7.4295881,43.7404671
END:VEVENT
BEGIN:VEVENT
DTSTART;TZID=Europe/Berlin:20250905T180000
DTEND;TZID=Europe/Berlin:20250906T170000
DTSTAMP:20260422T154303
CREATED:20240904T105738Z
LAST-MODIFIED:20250430T100157Z
UID:10001429-1757095200-1757178000@gioi.info
SUMMARY:1st OsteoRegeneration Day 2025\, Düsseldorf
DESCRIPTION:[vc_row gap=”3″ content_placement=”top” pix_particles_check=”” bg_type=”bg_color” css=”.vc_custom_1710776143832{padding-right: 30px !important;padding-left: 30px !important;}”][vc_column][vc_column_text css=””]Venue:\nHyatt Regency\nSpeditionstraße 19\n40221 Düsseldorf[/vc_column_text][/vc_column][/vc_row][vc_row content_placement=”top” pix_particles_check=””][vc_column][vc_empty_space][/vc_column][/vc_row][vc_row pix_particles_check=””][vc_column][vc_column_text css=””]\nTHE UPDATE SYMPOSIUM 2025 – at the Hyatt Regency\, DÜSSELDORF\n++ SAVE THE DATE! FR./SA.: 05./06.09.2025 ++\nSCIENCE & PRACTICE OF DENTAL OSTEOGENESIS! – Training not only for implantologists – compact training for everyone.\nDear colleagues! \nThe 2nd Ahrweiler Symposium was also a complete success! \nDue to the consistently positive response from all participants and the urgent request to fill this event with implantology topics\, we have planned the 3rd Ahrweiler Symposium – but this time completely differently!!! \nAs Alexander Scholz and I always strive to offer a unique format\, the event is now operating under the new name “OsteoRegeneration Day”. As the name suggests\, this day will be all about augmentation techniques. A great deal has changed in this field of implantology in recent years\, both in terms of augmentation methods and materials. \nI am very pleased and also a little proud that I was able to attract speakers with absolutely comprehensive expertise for our event. \nThe various augmentation techniques are presented and evaluated in a practical and comprehensive manner. Of course\, complications and their suggested solutions are not neglected. \nWith the event location Düsseldorf and the Hyatt Regency Hotel\, we were able to find the right ambience for this. \nFinally\, it should be mentioned that medentis also attaches great importance to collegial get-togethers and that we can once again look forward to a sensational supporting program. \nYours\, Stefan Reinhardt and Alexander Scholz \n[/vc_column_text][/vc_column][/vc_row][vc_row pix_particles_check=””][vc_column][vc_separator css=””][/vc_column][/vc_row][vc_row pix_particles_check=””][vc_column][vc_column_text css=””]\nTHE TOP SPEAKERS AND THEIR TOPICS SA.: 06.09.25\n\n8.30 a.m. Registration\n9.00-17.00 hrs 1st OsteoRegeneration Day\n\n[/vc_column_text][/vc_column][/vc_row][vc_row content_placement=”top” pix_particles_check=”” type=”vc_default”][vc_column width=”1/4″][vc_single_image image=”84606″ img_size=”full” style=”vc_box_shadow_border” css=””][vc_column_text css=””]PROF. DR. MED. DENT. FOUAD KHOURY\nDirector of the private dental clinic Schloss Schellenstein\, Olsberg[/vc_column_text][/vc_column][vc_column width=”3/4″][vc_column_text css=””]\nTopic:\n\nBone augmentation with autologous shells – step-by-step technique.\nResults and complications.\n\n[/vc_column_text][vc_column_text css=””]\nShort vita:\n\nProf. Dr. Fouad Khoury studied dentistry at Saint-Joseph University in Beirut/Lebanon and specialized in oral surgery at the Universities of Freiburg and Münster.\nHe was appointed senior physician at the University of Münster\, where he also completed his habilitation.\nSince 1994\, he has held a professorship at the Department of Oral and Maxillofacial Surgery at the University of Münster and is Director of the private dental clinic Schloss Schellenstein\, Olsberg\, Germany.\nProf. Khoury has been a visiting professor at several universities for many years\, is chairman of the examination board for oral surgery and a member of the editorial board of numerous international specialist journals.\nHe was also Chairman of the Working Group for Oral and Maxillofacial Surgery (AGOKI) of the German Society of Oral and Maxillofacial Surgery (DGZMK) and is co-editor of the International Journal of Oral Implantology.\nHe has received several awards (e.g. the Pioneers in Dentistry Award 2016 of the AUB and the William R. Laney Award of the American Academy of Osseointegration 2017) and holds numerous patents.\nProf. Khoury is the author and editor of four best-selling textbooks that have been translated into more than 10 languages.\n\n\n[/vc_column_text][/vc_column][/vc_row][vc_row pix_particles_check=””][vc_column][vc_separator css=””][/vc_column][/vc_row][vc_row content_placement=”top” pix_particles_check=”” type=”vc_default”][vc_column width=”1/4″][vc_single_image image=”84617″ img_size=”150×150″ style=”vc_box_shadow_border” css=””][vc_column_text css=””]\nDR. NICOLAS HASSFURTHER\, M.SC.\nSpecialist dentist in oral surgery \n[/vc_column_text][/vc_column][vc_column width=”3/4″][vc_column_text css=””]\nTopic:\n\nBone augmentation with non-resorbable membranes – step-by-step technique.\nResults and complications.\n\n[/vc_column_text][vc_column_text css=””]\nShort vita:\n\nDentist\nTraining assistant in oral surgery\nDoctorate in the Department of Oral and Maxillofacial Surgery at JLU Giessen\nChamber certificate in endodontics (LZKH)\nFocus on endodontics (LZKH)\nMaster of Science in Oral Implantology and Periodontology\nImplantology curriculum completed (DGI)\nChamber certificate in implantology (LZKH)\nSpecialist knowledge for DVT\nNational & international speaker activities\n\n[/vc_column_text][/vc_column][/vc_row][vc_row pix_particles_check=””][vc_column][vc_separator css=””][/vc_column][/vc_row][vc_row content_placement=”top” pix_particles_check=”” type=”vc_default”][vc_column width=”1/4″][vc_single_image image=”85639″ img_size=”150×150″ style=”vc_box_shadow_border” css=””][vc_column_text css=””]DR. MED. DENT. STEFAN REINHARDT\nSpecialist dentist for oral surgery\nScientific conference president[/vc_column_text][/vc_column][vc_column width=”3/4″][vc_column_text css=””]\nTopic:\n\nBone augmentation while preserving the periosteum – step-by-step technique.\nResults and complications.\n\n[/vc_column_text][vc_column_text css=””]\nShort vita:\n\n1991 Acquisition of the specialist dentist for oral surgery\, since 1999 certified consultant for implantology\, authorization for further training for the specialist dentist for oral surgery by the Westphalia-Lippe Dental Association.\nAppointed expert for implantology by the BDIZ and BDO.\nImplantologist with the focus seal of approval since 2016.\nCertified specialist dentist for oral surgery with the focus seal since 2020\nsince 2022 in the practice of Dr. Simone Heger\, Dr. Larissa Reinhardt\, Dr. Stefan Reinhardt\, Bahnhofstr. 42\, 48477 Hörstel\n\n[/vc_column_text][/vc_column][/vc_row][vc_row pix_particles_check=””][vc_column][vc_separator css=””][/vc_column][/vc_row][vc_row content_placement=”top” pix_particles_check=”” type=”vc_default”][vc_column width=”1/4″][vc_single_image image=”84628″ img_size=”150×150″ style=”vc_box_shadow_border” css=””][vc_column_text css=””]DR. JOCHEN TUNKEL\nMaster of Oral Medicine in Implantology\nSpecialist of the German Society of Periodontology[/vc_column_text][/vc_column][vc_column width=”3/4″][vc_column_text css=””]\nTopic:\n\nBone augmentation with allogenic shells – step-by-step technique.\nResults and complications.\n\n[/vc_column_text][vc_column_text css=””]\nShort vita:\n\n2020 Foundation of the dental social media learning platform “Regenerative Bioversity”\n2019 Appointment as ITI speaker\n2018 Appointment as ITI Fellow\n2018 Admission to the European Centers for Dental Implantology (ECDI)\n2011 Internship and supervision consultant DGI/APW\n2004-2015 Lecturer and guest lecturer at the Polyclinic for Periodontology at the\nUniversity Hospital Münster\nsince 2008 1st Chairman of the “Surgical Periodontology” section of the professional association\nDeutscher Oralchirurgen\nsince 2007 Establishment of a specialized practice for periodontology\, implantology & oral surgery together with Dr. Carolin Tunkel\, specialist dentist for orthodontics in Bad\nOeynhausen\, East Westphalia\n2007 Internship and supervision consultant DGP/APW\n2007 Specialist dentist for oral surgery\, ZÄKWL\n2006 Master of Oral Medicine in Implantology (MOM)\n2004-2006 Assistant in further training at the private dental clinic Schloß Schellenstein/Olsberg\n2003 Specialist of the German Society for Periodontology\n2003 Specialist dentist for periodontology\, ZÄKWL\n2000-2003 Scientific assistant at the Polyclinic for Periodontology\, University Hospital Münster\n2020 Foundation of the dental social media learning platform “Regenerative Bioversity”\n\n[/vc_column_text][/vc_column][/vc_row][vc_row pix_particles_check=””][vc_column][vc_separator css=””][/vc_column][/vc_row][vc_row content_placement=”top” pix_particles_check=”” type=”vc_default”][vc_column][vc_empty_space][vc_column_text css=””]\nAgenda:\n[/vc_column_text]\n			  8.30 a.m.\n			  \n				  \n				  \n										  \n									  \n			  Registration \n			  9.00 - 10.30 a.m.\n			  \n				  \n				  \n										  \n									  \n			  1st lecture 90 min/ Dr. Nicolas Hassfurther M.Sc. \n			  10.30-11.00 a.m.\n			  \n				  \n				  \n										  \n									  \n			  Coffee break \n			  11.00-12.30 a.m.\n			  \n				  \n				  \n										  \n									  \n			  2nd lecture 90 min/ Prof. Dr. med. dent. Fouad Khoury  \n			  12.30-13.30\n			  \n				  \n				  \n										  \n									  \n			  Lunch \n			  13.30-15.00\n			  \n				  \n				  \n										  \n									  \n			  3rd lecture 90 min/ Dr. Jochen Tunkel \n			  15.00-15.30\n			  \n				  \n				  \n										  \n									  \n			  Coffee break \n			  15.30-17.00 hrs\n			  \n				  \n				  \n										  \n									  \n			  4th lecture 90 min/ Dr. Stefan Reinhardt \n			  17.00-17.30\n			  \n				  \n				  \n										  \n									  \n			  Closing words/farewell [/vc_column][/vc_row][vc_row content_placement=”top” pix_particles_check=”” type=”vc_default”][vc_column][vc_empty_space][vc_column_text css=””]Date:\nFR./SA.: 05./06.09.2025 – 2-day symposium \nFRIDAY\, 05.09.2025: GET TOGETHER from 19.00 hrs\,\nHyatt Regency\, Düsseldorf – Pebbles Terrace \nSATURDAY\, 06.09.2025: 8.30 a.m. Registration\n9.00-17.00 a.m. 1st OsteoRegeneration Day \nAFTER WORK GALA DINNER\nin the restaurant “Meerbar “*\, Düsseldorf\n*In case of no-show despite prior registration\, we reserve the right to charge an expense allowance\nin the amount of € 59\,-. \nThe participation fee for the training course is € 429 including get-together and after-work gala dinner.  \nYou will receive the registration confirmation and the invoice by email only! \nAs a participant\, you will receive 8 training points\, per person and seminar.\nWe have gladly set up a call-off contingent for you at the HYATT REGENCY. \nHere you can request a room under the keyword “medentis medical GmbH” until 07.08.2025.\nThe cost for a single room is € 245 per night including breakfast and for a double room € 275 per night including breakfast.\nTo book a room\, please contact the hotel’s reservations department at:\nPhone: 06131 79 64 928 or via the homepage: www.hyattregencydusseldorf.com with booking code: G-MED2[/vc_column_text][/vc_column][/vc_row][vc_row content_placement=”top” pix_particles_check=””][vc_column][vc_empty_space][vc_column_text css=””]\nREGISTER NOW AND START INTO THE FUTURE! \n[/vc_column_text]Information and registration for download![vc_empty_space][/vc_column][/vc_row][vc_column][/vc_column]
URL:https://gioi.info/en/zfb/osteoregeneration-day/
LOCATION:Hyatt Regency Düsseldorf\, Speditionsstraße 19\, Düsseldorf\, 40221\, Deutschland
CATEGORIES:OsteoRegeneration Day,Training courses,Trainings
ATTACH;FMTTYPE=image/jpeg:https://gioi.info/wp-content/uploads/2024/09/1.-OsteoRegeneration-Day_EN.jpg
GEO:51.216544;6.7527209
X-APPLE-STRUCTURED-LOCATION;VALUE=URI;X-ADDRESS=Hyatt Regency Düsseldorf Speditionsstraße 19 Düsseldorf 40221 Deutschland;X-APPLE-RADIUS=500;X-TITLE=Speditionsstraße 19:geo:6.7527209,51.216544
END:VEVENT
BEGIN:VEVENT
DTSTART;TZID=Europe/Berlin:20250508T080000
DTEND;TZID=Europe/Berlin:20250510T170000
DTSTAMP:20260422T154303
CREATED:20250404T141351Z
LAST-MODIFIED:20250428T123711Z
UID:10001425-1746691200-1746896400@gioi.info
SUMMARY:IMPLANTOLOGY AND DENTISTRY CURRICULUM 2025\, Mallorca - Speakers: Dr. Guillermo Escobar Ruiz\, Dr. Joel Teles
DESCRIPTION:[vc_row content_placement=”top” pix_particles_check=””][vc_column][vc_column_text css=””]Location:\nICX Training Villa (Puesta del Sol)\nCarrer Tambor 7\,\n07150 Puerto d´ Andratx/Mallorca[/vc_column_text][/vc_column][/vc_row][vc_row content_placement=”top” pix_particles_check=””][vc_column][vc_empty_space][/vc_column][/vc_row][vc_row content_placement=”top” pix_particles_check=””][vc_column][vc_column_text css=””]\nIMPLANTOLOGY AND DENTISTRY CURRICULUM 2025\, Mallorca\nDENTAL IMPLANTOLOGY NOW!\nDear Ladies and Gentlemen\, \nWe are pleased to be able to offer you english language courses at our training centre in Port D‘Andratx. \nDr. Guillermo Escobar\nNowadays\, it is fully necessary for an oral surgeon/implantologist to have knowledge about advanced regeneration surgery\, as our patients demand immediate provisional loading and sometimes there is no bone enough. \nWhat´s more\, in our daily basis we see more and more patients who suffer from peri-implantitis and they present big bone defects\, which we have to regenerate. \nIn my opinion\, in order to rebuild bone atrophies\, the best option we have got is always autologous bone. During this lecture\, every Dr. will have the chance to learn about how to use biomaterials and how to graft and use autologous bone. \n  \nDr. Joel Teles\nThis course presents comprehensive approaches for the entire dental arch from FP1 to FP3. We compare digital and analog procedures in full-arch surgery and highlight their advantages and disadvantages. \nYou will learn how to be creative with resorbed jaws: Make the best use of available anchor points\, avoid large grafts\, zygoma or subperiosteal implants and design your cases with less morbidity – for a more time- and cost-efficient practice. In addition\, we will teach you various techniques such as the palatal approach\, the shelf technique\, pterygoid implants\, transsinus and other innovative approaches to make these methods accessible in daily practice. \n[/vc_column_text][/vc_column][/vc_row][vc_row content_placement=”top” pix_particles_check=”” type=”vc_default”][vc_column width=”1/4″][vc_single_image image=”86249″ img_size=”medium” style=”vc_box_shadow_border” css=””][vc_column_text css=””]Speaker:\nDR. GUILLERMO ESCOBAR RUIZ \nLecturer in Master‘s degree in periodontology and Implantology (university of seville) \n[/vc_column_text][/vc_column][vc_column width=”3/4″][vc_column_text css=””]\nAGENDA –  08.-10.05.2025 – 399 € \nTHURSDAY 08.05.2025 19.00 Get together at the ICX trainingcentre \nFRIDAY 09.05.2025 / SPEAKER DR. GUILLERMO ESCOBAR RUIZ “ \nADVANCED REGENERATIVE SURGERY: AUTOLOGOUS BONE AND ZYGOMA IMPLANTS” \n10-11.30 All on 6\, GBR and Immediate loading in FP1 bridges (90 minutes) \n11.30 -11.45 Coffee break \n11.45-13.15 History of Autologous Bone Grafting (90 minutes) \n13.15-14.15 Lunch \n14.15-15.45 Principles of Autologous Bone Grafting Techniques (90 minutes) \n15.45-16.00 Coffee break \n16.00-17.00 Advanced Surgical Cases /concluding discussion/questions & answers (60 minutes) \n[/vc_column_text][/vc_column][/vc_row][vc_row content_placement=”top” pix_particles_check=”” type=”vc_default”][vc_column width=”1/4″][vc_single_image image=”86252″ img_size=”medium” style=”vc_box_shadow_border” css=””][vc_column_text css=””]Speaker:\nDR. JOEL TELES \nClinical director of Medindouro\, Peso da Régua\, Portugal \n[/vc_column_text][/vc_column][vc_column width=”3/4″][vc_column_text css=””]\nAGENDA –  SATURDAY 10.05.2025 / SPEAKER DR. JOEL TELES \n„WHOLE JAW SURGERY: INNOVATIVE APPROACHES AND TECHNIQUES FOR THE ENTIRE DENTAL ARCH“ \n10-11.30 Presentation\, system overview\, history and evolution of full arch approaches (90 minutes) \n11.30 -11.45 Coffee break \n11.45-13.15 analog Vs digital approaches\, Pilot Guided and Full guided from FP1 to FP3 (90 minutes) \n13.15-14.15 Lunch \n14.15-15.45 resorbed jaws\, All on Four\, Extreme Palatal approach and other techniques (90 minutes) \n15.45-16.00 Coffee break \n16.00-17.00 Q&A; case discussion and final considerations (60 minutes) \n20.00 Gala Dinner \n[/vc_column_text][/vc_column][/vc_row][vc_row content_placement=”top” pix_particles_check=””][vc_column][vc_separator][/vc_column][/vc_row][vc_row content_placement=”top” pix_particles_check=””][vc_column][vc_empty_space][vc_column_text css=””]Date: 08.-10.05.2025 \nThe participation fee is €399 per person and course plus VAT incl. GET TOGETHER and BBQ BUFFET \n\nThe participation fee for one guest at the GET TOGETHER on Thursday is free of charge.\nThe participation fee for one participant & one guest for Dinner on Friday\, 09.05.25 (€ 99\,-).\nThe participation fee for one guest for the Gala Dinner on Saturday is € 99\,-.\n\nCertificates for the achieved training points per person per training will be handed out on site. \nRegister online via the email address: veranstaltung@medentis.de \n\n\n\n\n\n\n\n\n\n\n\n[/vc_column_text][/vc_column][/vc_row][vc_row content_placement=”top” pix_particles_check=””][vc_column][vc_empty_space][/vc_column][/vc_row][vc_row content_placement=”top” pix_particles_check=””][vc_column][vc_column_text css=””]REGISTER NOW AND GET STARTED ON THE FUTURE![/vc_column_text]Information and registration available to download![vc_empty_space]The registration form can be found on the event page.[/vc_column][/vc_row][vc_column][/vc_column]
URL:https://gioi.info/en/zfb/implantology-and-dentistry-curriculum-2025-mallorca/
CATEGORIES:Trainings
ATTACH;FMTTYPE=image/jpeg:https://gioi.info/wp-content/uploads/2025/04/icx-mallorca_international-neu.jpg
END:VEVENT
END:VCALENDAR