BEGIN:VCALENDAR
VERSION:2.0
PRODID:-//GIOI - GERMAN INSTITUTE OF ORAL IMPLANTOLOGY - ECPv6.15.20//NONSGML v1.0//EN
CALSCALE:GREGORIAN
METHOD:PUBLISH
X-WR-CALNAME:GIOI - GERMAN INSTITUTE OF ORAL IMPLANTOLOGY
X-ORIGINAL-URL:https://gioi.info
X-WR-CALDESC:Veranstaltungen für GIOI - GERMAN INSTITUTE OF ORAL IMPLANTOLOGY
REFRESH-INTERVAL;VALUE=DURATION:PT1H
X-Robots-Tag:noindex
X-PUBLISHED-TTL:PT1H
BEGIN:VTIMEZONE
TZID:Europe/Berlin
BEGIN:DAYLIGHT
TZOFFSETFROM:+0100
TZOFFSETTO:+0200
TZNAME:CEST
DTSTART:20250330T010000
END:DAYLIGHT
BEGIN:STANDARD
TZOFFSETFROM:+0200
TZOFFSETTO:+0100
TZNAME:CET
DTSTART:20251026T010000
END:STANDARD
BEGIN:DAYLIGHT
TZOFFSETFROM:+0100
TZOFFSETTO:+0200
TZNAME:CEST
DTSTART:20260329T010000
END:DAYLIGHT
BEGIN:STANDARD
TZOFFSETFROM:+0200
TZOFFSETTO:+0100
TZNAME:CET
DTSTART:20261025T010000
END:STANDARD
BEGIN:DAYLIGHT
TZOFFSETFROM:+0100
TZOFFSETTO:+0200
TZNAME:CEST
DTSTART:20270328T010000
END:DAYLIGHT
BEGIN:STANDARD
TZOFFSETFROM:+0200
TZOFFSETTO:+0100
TZNAME:CET
DTSTART:20271031T010000
END:STANDARD
END:VTIMEZONE
BEGIN:VEVENT
DTSTART;VALUE=DATE:20260423
DTEND;VALUE=DATE:20260426
DTSTAMP:20260422T152252
CREATED:20260415T112438Z
LAST-MODIFIED:20260415T112439Z
UID:10001479-1776902400-1777161599@gioi.info
SUMMARY:International Osteology Symposium 2026\, Wien
DESCRIPTION:[vc_row pix_particles_check=““][vc_column][vc_column_text css=““]Location:\nVIECON\nMesseplatz 1\n1020 Wien[/vc_column_text][/vc_column][/vc_row][vc_row pix_particles_check=““][vc_column][vc_custom_heading text=“SAVE THE DATE“ use_theme_fonts=“yes“][/vc_column][/vc_row][vc_row pix_particles_check=““][vc_column][vc_empty_space][/vc_column][/vc_row][vc_row pix_particles_check=““][vc_column][vc_column_text css=““]\n\nInternational Osteology Symposium Vienna 26\nClose your eyes\, open your mind \n\nWe are delighted to invite you to join the International Osteology Symposium 2026 in Vienna\, themed “Beyond Regeneration”. This event promises to be a remarkable gathering of over 3\,000 international participants including general practitioners and specialists in the fields of periodontology\, oral and maxillofacial surgery\, implantology\, and related disciplines. \nOur scientific programme is designed by world-renowned experts together with the rising stars of oral tissue regeneration. The programme features innovative technologies and the latest research\, extending beyond the classic topics of oral tissue regeneration. Leading dental associations will partner with Osteology for an unparalleled educational experience. A vibrant social programme will also provide excellent opportunities to connect with peers\, exchange insights\, and engage in meaningful discussions with colleagues from around the world. \nThe congress embraces the inclusive motto “Beyond Regeneration\,” promising you a unique learning experience with high interactivity\, strong clinical relevance\, and a forward-looking perspective. \nWe go beyond traditional learning by making sessions highly interactive. When it comes to clinical relevance\, we have ensured that you gain condensed\, practical knowledge—including tips and tricks you can apply in your practice right away. From insights by emerging experts to the latest advancements in technology and materials\, this congress offers a glimpse into the future of oral tissue regeneration. \nVisit medentis medical at booth A13 \nMore Informations: https://www.osteology-vienna.org[/vc_column_text][/vc_column][/vc_row][vc_row pix_particles_check=““][vc_column][vc_empty_space][/vc_column][/vc_row]
URL:https://gioi.info/zfb/international-osteology-symposium-2026-wien/
LOCATION:VIECON\, Messeplatz 1\, Wien\, 1020\, Australia
ATTACH;FMTTYPE=image/jpeg:https://gioi.info/wp-content/uploads/2026/04/International-Osteology-Symposium-Wien-23.-25.04.2026.jpg
GEO:48.2165476;16.40914
X-APPLE-STRUCTURED-LOCATION;VALUE=URI;X-ADDRESS=VIECON Messeplatz 1 Wien 1020 Australia;X-APPLE-RADIUS=500;X-TITLE=Messeplatz 1:geo:16.40914,48.2165476
END:VEVENT
BEGIN:VEVENT
DTSTART;VALUE=DATE:20260423
DTEND;VALUE=DATE:20260427
DTSTAMP:20260422T152252
CREATED:20260415T112907Z
LAST-MODIFIED:20260415T112908Z
UID:10001480-1776902400-1777247999@gioi.info
SUMMARY:Winter - Wissen - Weiterkommen\, Ischgl
DESCRIPTION:[vc_row pix_particles_check=““][vc_column][vc_column_text css=““]Veranstaltungsort:\nHotel Alp Larain\nSilvretta Str. 75\n6562 Mathon[/vc_column_text][/vc_column][/vc_row][vc_row pix_particles_check=““][vc_column][vc_empty_space][/vc_column][/vc_row][vc_row pix_particles_check=““][vc_column][vc_column_text css=““]\nWillkommen zu „Winter\, Wissen\, Weiterkommen – deine BFS-Fortbildung in Ischgl“ \nDu möchtest Fortbildung mit Erlebnisfaktor? Dann bist du in Ischgl genau richtig! Vom 23. bis 26. April hast du nachmittags die Möglichkeit\, die Pisten zu erobern – und am Vormittag erwarten dich spannende Vorträge und wertvoller Austausch unter Kolleg:innen. \nDiese Veranstaltung bringt dich fachlich und persönlich weiter: Erhalte praxisnahe Tipps zur Wirtschaftlichkeit\, lerne Mitarbeitergewinnung über Social Media und tausche dich zu Abrechnungsthemen aus. Und das alles in offenen Gesprächen auf Augenhöhe! Du erhältst 7 Fortbildungspunkte. \n>> Mehr Informationen[/vc_column_text][/vc_column][/vc_row]
URL:https://gioi.info/zfb/winter-wissen-weiterkommen-ischgl/
LOCATION:Hotel Alp Larain\, Silvretta Str. 75\, Mathon\, 6562\, Australia
CATEGORIES:Externe Messen, Kongresse & Seminare
ATTACH;FMTTYPE=image/jpeg:https://gioi.info/wp-content/uploads/2026/04/Winter-Wissen-Weiterkommen-23.-26.04.2026-Ischgl.jpg
GEO:46.9889979;10.2472986
X-APPLE-STRUCTURED-LOCATION;VALUE=URI;X-ADDRESS=Hotel Alp Larain Silvretta Str. 75 Mathon 6562 Australia;X-APPLE-RADIUS=500;X-TITLE=Silvretta Str. 75:geo:10.2472986,46.9889979
END:VEVENT
BEGIN:VEVENT
DTSTART;VALUE=DATE:20260424
DTEND;VALUE=DATE:20260425
DTSTAMP:20260422T152252
CREATED:20260415T113431Z
LAST-MODIFIED:20260415T113432Z
UID:10001481-1776988800-1777075199@gioi.info
SUMMARY:Kemptener Teamday 2026
DESCRIPTION:[vc_row pix_particles_check=““][vc_column][vc_column_text css=““]Location:\nbigBOX Allgäu\nKotterner Straße 64\n87435 Kempten[/vc_column_text][/vc_column][/vc_row][vc_row pix_particles_check=““][vc_column][vc_empty_space][/vc_column][/vc_row][vc_row pix_particles_check=““][vc_column][vc_column_text css=““]Hochkarätige Vorträge von Top-Referenten in entspannter\, geselliger Atmosphäre : \nDer TeamDay 2026 findet  am 24. April in der BigBox Kempten statt!\nHochkarätige Vorträge von Top-Referenten in entspannter\,\ngeselliger Atmosphäre: \nDer legendäre „Spirit of Kempten“ lebt! \nDas medentis-Team begrüßt Sie gerne an Stand-Nr. (wir noch bekannt gegeben) \nMehr Informationen: https://zahn.org/kurse/kemptener-teamday-2026[/vc_column_text][/vc_column][/vc_row]
URL:https://gioi.info/zfb/kemptener-teamday-2026/
LOCATION:bigBox ALLGÄU Conference\, Alpenrosenstr. 1\, Kempten\, 87435\, Deutschland
CATEGORIES:Externe Messen, Kongresse & Seminare
ATTACH;FMTTYPE=image/jpeg:https://gioi.info/wp-content/uploads/2026/04/Kemptener-Team-Day-24.04.2026.jpg
GEO:47.7209375;10.3174057
X-APPLE-STRUCTURED-LOCATION;VALUE=URI;X-ADDRESS=bigBox ALLGÄU Conference Alpenrosenstr. 1 Kempten 87435 Deutschland;X-APPLE-RADIUS=500;X-TITLE=Alpenrosenstr. 1:geo:10.3174057,47.7209375
END:VEVENT
BEGIN:VEVENT
DTSTART;VALUE=DATE:20260424
DTEND;VALUE=DATE:20260426
DTSTAMP:20260422T152252
CREATED:20260415T113701Z
LAST-MODIFIED:20260415T113702Z
UID:10001482-1776988800-1777161599@gioi.info
SUMMARY:Frühjahrssymposium des Landesverbandes Bayern im DGI e.V.
DESCRIPTION:[vc_row pix_particles_check=““][vc_column][vc_column_text css=““]Location:\nHilton Munich City\nRosenheimer Str. 15\n81667 München\nDeutschland[/vc_column_text][/vc_column][/vc_row][vc_row pix_particles_check=““][vc_column][vc_empty_space][/vc_column][/vc_row][vc_row pix_particles_check=““][vc_column][vc_column_text css=““]\n\n\nFrühjahrssymposium des LV Bayern im DGI e.V. 2026\n\n\n\n\n\n\n\nUPDATE IMPLANTOLOGIE – aus Praxis und Wissenschaft\nGerne laden wir Sie zum Frühjahrssymposium des LV Bayern im DGI e.V. im April 2026 ein. \nWorkshops: Freitag\, 24.04.2026\nTagung: Samstag\, 25.04.2026 \nWichtiger Hinweis: \nUnter folgendem Link können Sie bis 27.03.2026 ein Hotelzimmer nach Verfügbarkeit für Ihren Aufenthalt buchen: Frühjahrssymposium Bayern 2026 \nBei Fragen oder Vormerkungen wenden Sie sich gerne an Vittoria Varone (Kontaktdaten unterhalb). Änderungen am Tagungsprogramm behalten wir uns vor. \n\n\n\n\n\nmedentis medical begrüßt Sie an Standnummer: (wird noch bekannt gegeben)\n \n  \nWeitere Informationen: https://www.dginet.de/events/fs-lvby-2026[/vc_column_text][/vc_column][/vc_row]
URL:https://gioi.info/zfb/fruehjahrssymposium-des-landesverbandes-bayern-im-dgi-e-v/
LOCATION:Hilton München City\, Rosenheimer Str. 15\, München\, 81667
CATEGORIES:Externe Messen, Kongresse & Seminare
GEO:48.1306282;11.5925759
X-APPLE-STRUCTURED-LOCATION;VALUE=URI;X-ADDRESS=Hilton München City Rosenheimer Str. 15 München 81667;X-APPLE-RADIUS=500;X-TITLE=Rosenheimer Str. 15:geo:11.5925759,48.1306282
END:VEVENT
BEGIN:VEVENT
DTSTART;TZID=Europe/Berlin:20260425T090000
DTEND;TZID=Europe/Berlin:20260425T170000
DTSTAMP:20260422T152252
CREATED:20251006T103347Z
LAST-MODIFIED:20260417T124941Z
UID:10001464-1777107600-1777136400@gioi.info
SUMMARY:IMPLANTOLOGIE CURRICULUM 26 - MODUL B\, Münster
DESCRIPTION:[vc_row content_placement=“top“ pix_particles_check=““][vc_column][vc_column_text css=““]Veranstaltungsort:\nZahnzentrum & Implantatzentrum Münster Broschk & Kneib\nSchorlemerstr. 16\n48143 Münster[/vc_column_text][/vc_column][/vc_row][vc_row content_placement=“top“ pix_particles_check=““][vc_column][vc_empty_space][/vc_column][/vc_row][vc_row content_placement=“top“ pix_particles_check=““][vc_column][vc_column_text css=““]\nZIELORIENTIERTE ICX-FORTBILDUNGEN.\nDas moderne medentis-Fortbildungsprogramm für Behandler\, die in die Implantologie einsteigen oder ihre Kenntnisse auffrischen möchten.\nDie Modulreihe für Ihren kompletten Einstieg in die dentale Implantologie.\nExklusive Modulreihe mit Dr. med. dent. Lukas Kneib.\nTHEMA: VOM 1. IMPLANTAT ÜBER DEN 1. KNOCHENAUFBAU BIS HIN ZUR ERSTEN 3D- NAVIGIERTEN IMPLANTATION \nLIEBE ZAHNÄRZTINNEN\, LIEBE ZAHNÄRZTE\, \nunsere neuen modular aufgebauten IMPLANTOLOGIE CURRICULUM-Fortbildungen 2026 mit dem Thema „MEIN 1. IMPLANTAT“ führen Sie Schritt für Schritt durch den kompletten ICX-Behandlungs-Workflow – von der Voruntersuchung und Behandlungsplanung über chirurgische und prothetische Verfahren bis hin zur Nachsorge und Kontrolle. \nmedentis und seine ICX-Experten begleiten Sie auf dem Weg zur Implantologie. \nICX BRINGT DICH ZUM ZIEL.\nZahnärztInnen*\, die im Bereich der dentalen Implantatchirurgie tätig werden möchten\, sehen sich einer Vielzahl an Implantatsystemen und Komponenten verschiedenster Hersteller gegenüber. Daher ist die Wahl eines zuverlässigen Implantatpartners und der optimalen Produkte für die Behandlung einer spezifischen klinischen Indikation einer der wichtigsten Faktoren für eine erfolgreiche Praxis. \nEINFACHES ICX-PRODUKTPORTFOLIO.\nDas reduzierte Produktportfolio von unserem ICX-PREMIUM System trägt dazu bei\, die Komplexität zu minimieren. Steigen Sie in die chirurgische und prothetische Implantologie ein und eröffnen Sie sich und Ihren Patienten neue Möglichkeiten der dentalen Versorgung.\nWenn Sie mit der Implantologie starten wollen oder bis jetzt nur wenige Implantate inseriert haben\, bieten Ihnen diese Kurse den perfekten Einstieg in die Welt der dentalen Implantologie. \nWir freuen uns auf SIE![/vc_column_text][/vc_column][/vc_row][vc_row content_placement=“top“ pix_particles_check=““][vc_column][vc_empty_space][vc_column_text]LERNEN SIE VON ERFAHRENEN KOLLEGEN die Basis für Ihren langfristigen Erfolg in der dentalen Implantologie. Neue klinische Fertigkeiten und Kenntnisse werden Ihnen in unserem medentis medical-Curriculum vermittelt. \nDie systematisch aufgebaute medentis medical-Fortbildungsreihe startet mit dem interessanten Thema: „MEIN 1. IMPLANTAT„. \nDas Curriculum führt Sie Schritt für Schritt\, sicher und zielstrebig\, durch den kompletten ICX-Behandlungs-Workflow. Von der Voruntersuchung\, Behandlungsplanung über die chirurgischen und prothetischen Verfahren\, bis hin zur Nachsorge und Kontrolle werden Sie von erfahrenen Referenten unterrichtet. \n[/vc_column_text][/vc_column][/vc_row][vc_row content_placement=“top“ pix_particles_check=““][vc_column][vc_empty_space][vc_column_text css=““]\nUNSERE LIVE-OPs MIT HANDS-ON\nUm die dentale Implantologie nachhaltig und zielorientiert in Ihren Praxisalltag zu integrieren sind einige Steps zu berücksichtigen. In mehreren Modulen wird Ihnen minimalinvasives und chirurgisches Wissen vermittelt. Durch eine Live-OP und anschließendem Training an Modellen\, wird in jedem Modul\, aufeinander abgestimmtes Know-how vermittelt und umgehend umgesetzt. \nDr. med. dent. LUKAS KNEIB\, präsentiert Ihnen die folgenden Themenschwerpunkte vor Ort: \nPLANUNG UND GRUNDLAGEN:\nPatientenauswahl/Risikoscore · Vorbereitung und Behandlungsplanung\nRegeln der Implantat-Verteilung · Diagnostik und Medikation \nLIVE-OPs:\nChirurgische Aufbereitung des Implantatbettes · Insertion der Implantate · Nahttechniken \nHANDS-ON:\nUmgang mit Bohrschablonen · Bohrprotokoll · Insertion von Implantaten \nProthetische Lösungen \nNAVIGATION MIT ICX-MAGELLAN X:\nPlanung von Implantat-Positionen · Erstellung von Planungsberichten · Herstellung Bohrschablonen \n[/vc_column_text][/vc_column][/vc_row][vc_row pix_particles_check=““][vc_column][vc_column_text css=““]\nIHRE IMPLANTOLOGIE CURRICULUM KURSTERMINE 2026.\nDie Modulreihe für Ihren kompletten Einstieg in die dentale Implantologie. \n  \n\n\n\n\n„IMPLANTOLOGIE KOMPAKT für Einsteiger“ – Themen-Module · Referenten/ Inhalte \n\n\nTermine \n\n\n\n\n\nMODUL A: MEIN 1. IMPLANTAT \nDr. med. dent. LUKAS KNEIB:\nGrundlagen Implantologie\, Implantat-Systeme\, Werkstoffkunde\, ZE-Abformung\, Implantologie\, Freilegungstechniken\, Nahttechniken\, Womit fange ich an?\, Die richtige Indikationsstellung beim 1.Implantat\, Ablauf einer Implantation\, Möglichkeiten in der Implantologie/Ausblick (Sofort-Implantation\, Sofortversorgung) \nLive-OP: einfache Implantation\, fortgeschrittene Implantation \n\n\nSamstag\,\n31. Januar 2026 \n  \n\n\n\nMODUL B: MEIN 1. KNOCHENAUFBAU \nDr. med. dent. LUKAS KNEIB:\nArten von Knochenaufbau\, laterale und vertikale Augmentationstechniken\, externer/interner Sinuslift\, Knochenblock\nGastvortrag: Dr. med. dent. STEFAN REINHARDT zu wissenschaftlichen Hintergründen \nLive-OP: externer Sinuslift\, Implantation mit lateraler Augmentation \n\n\nSamstag\,\n25. April 2026 \n  \n\n\n\nMODUL C: MEINE 1. ERFAHRUNGEN MIT DIGITALER IMPLANTOLOGIE \nDr. med. dent. LUKAS KNEIB\, ZAHNTECHNIKERMEISTER BUCHARD KRACHT:\nVorstellung ICX-Magellan X\, ICX-Magellan X und Sofortversorgung\, Vorstellung Intraoralscanner\, ZE Techniker CAD/CAM\, der digitale Workflow\, Indiv-Healings\, Ablauf einer digitalen Implantat-Planung \nLive-OP: Implantation mit ICX-Magellan X (all on 4)\, Sofortimplantation mit Zero Bone Loss \n\n\nSamstag\,\n12. September 2025 \n\n\n\n\n[/vc_column_text][/vc_column][/vc_row][vc_row pix_particles_check=““][vc_column][vc_empty_space][/vc_column][/vc_row][vc_row pix_particles_check=““][vc_column][vc_column_text]\nIHR ERFOLGREICHER EINSTIEG IN DIE DENTALE IMPLANTOLOGIE.\nSCHNELLER\, SICHERER UND ORIENTIERTER ZUM ERGEBNIS. \nFrischen Sie Ihre Erkenntnisse zusammen mit unseren ICX-Experten auf. Erlernen Sie neue\, interessante und zielführende Techniken in der dentalen Implantologie. \nDas ICX-Curriculum zum Thema: „Mein 1. Implantat“ ist nicht speziell für Einsteiger\, sondern auch für Wiedereinsteiger und Anwender gedacht. \nAnatomie\, Nahttechniken\, Instrumente\, Materialien aus der Implantologie und wissenswertes über die unterschiedlichsten Implantatformen und Oberflächen werden Ihnen vermittelt. \nSie erhalten Unterstützung durch das ICX-Experten Team im Hinblick auf:\nPatientenauswahl\, Behandlungsplanung\, dentale Implantat-Chirurgie und Abrechnung. \nDIE FORTBILDUNGSREIHE IST ZIELORIENTIERT UND MODERN IN MODULE AUFGEBAUT.\nSie startet mit kleineren chirurgischen Eingriffen und steigert sich bis zu komplexeren Fällen\, die in Ihren Praxisalltag einfließen könnten. \nAuf Prothetik und Abrechnung wird ebenfalls\, wie auf Laborkommunikation eingehend eingegangen. Unser ICX-Team ist für Sie aus Medizinern\, Zahntechnikern und Abrechnungsspezialisten aufgebaut und steht Ihnen während des gesamten Curriculums mit Rat und Tat zur Seite. \n[/vc_column_text][/vc_column][/vc_row][vc_row pix_particles_check=““][vc_column][vc_empty_space][/vc_column][/vc_row][vc_row pix_particles_check=““][vc_column][vc_column_text css=““]\nMODUL B – SA.\, 25.04.26 · Münster\nVeranstaltungsort:\nZahnzentrum & Implantatzentrum Münster Broschk & Kneib\, Schorlemerstr. 16\, 48143 Münster \nJeweils samstags von 09.00 bis 17.00 Uhr. Inkl. Snacks und Getränke. \n*Die Teilnahmegebühr beträgt pro Person und Fortbildung. (Modul A\, B\, C oder D): Zahnarzt: 299\,– €  zzgl. gesetzl. MwSt. \nOder buchen Sie als Zahnarzt alle 3 Termine für nur € 699\,– insgesamt\, zzgl. gesetzl. MwSt. (nicht mehr möglich) \n9 Fortbildungspunkte pro Person je Fortbildung. \n\n\n\n\n\n\nIhre Registrierung. Für einen erfolgreichen Einstieg.\nRufen Sie uns einfach an unter Telefon 02641 9110-0 oder senden Sie eine E-Mail an: veranstaltung@medentis.de \nEine Direkt-Buchung über unser Online-System ist ebenso möglich. Nach der Buchung erhalten Sie eine Buchungsbestätigung. \n\n\nRufen Sie mich an – ich reagiere sofort:\nJörg Heidemann\, ICX-Experte\nMobil: 0151 163 106 33 \n\n\n\n\n\n[/vc_column_text][/vc_column][/vc_row][vc_row content_placement=“top“ pix_particles_check=““][vc_column][vc_empty_space][vc_column_text css=““]\nJETZT ANMELDEN UND IN DIE ZUKUNFT STARTEN! \n[/vc_column_text]Infos und Anmeldung zum download![vc_empty_space][/vc_column][/vc_row][vc_column][/vc_column]
URL:https://gioi.info/zfb/implantologie-curriculum-26-modul-b-muenster/
LOCATION:Zahnzentrum & Implantatzentrum Münster Broschk & Kneib\, Schorlemerstr. 16\, Münster\, 48143\, Deutschland
CATEGORIES:Fortbildungen des GIOI,IMPLANTOLOGIE CURRICULUM
ATTACH;FMTTYPE=image/jpeg:https://gioi.info/wp-content/uploads/2025/10/IMPLANTOLOGIE-CURRICULUM_Kneib-003.jpg
GEO:51.9561212;7.6297547
X-APPLE-STRUCTURED-LOCATION;VALUE=URI;X-ADDRESS=Zahnzentrum & Implantatzentrum Münster Broschk & Kneib Schorlemerstr. 16 Münster 48143 Deutschland;X-APPLE-RADIUS=500;X-TITLE=Schorlemerstr. 16:geo:7.6297547,51.9561212
END:VEVENT
BEGIN:VEVENT
DTSTART;VALUE=DATE:20260430
DTEND;VALUE=DATE:20260503
DTSTAMP:20260422T152252
CREATED:20260415T114112Z
LAST-MODIFIED:20260415T114112Z
UID:10001483-1777507200-1777766399@gioi.info
SUMMARY:26. Kärntner Seensymposium\, Velden/Wörthersee
DESCRIPTION:[vc_row pix_particles_check=““][vc_column][vc_column_text css=““]Location:\nParkhotel Pörtschach\nHans-Pruscha-Weg 5\n9210 Pörtschach[/vc_column_text][/vc_column][/vc_row][vc_row pix_particles_check=““][vc_column][vc_empty_space][/vc_column][/vc_row][vc_row pix_particles_check=““][vc_column][vc_column_text]\n\n\n\n\n\n\nZahnärztekongress vom Wörthersee  \n\nWeitere Informationen unter:\n\nhttps://www.seensymposium.at \n\n\n\n[/vc_column_text][/vc_column][/vc_row]
URL:https://gioi.info/zfb/26-kaerntner-seensymposium-velden-woerthersee/
LOCATION:Parkhotel Pörtschach\, Hans-Pruscha-Weg 5\, Pörtschach\, 9210\, Austria
ATTACH;FMTTYPE=image/jpeg:https://gioi.info/wp-content/uploads/2026/04/Kaerrntner-Seensymposium-26.jpg
GEO:46.6322304;14.1439459
X-APPLE-STRUCTURED-LOCATION;VALUE=URI;X-ADDRESS=Parkhotel Pörtschach Hans-Pruscha-Weg 5 Pörtschach 9210 Austria;X-APPLE-RADIUS=500;X-TITLE=Hans-Pruscha-Weg 5:geo:14.1439459,46.6322304
END:VEVENT
BEGIN:VEVENT
DTSTART;VALUE=DATE:20260430
DTEND;VALUE=DATE:20260505
DTSTAMP:20260422T152252
CREATED:20250909T074651Z
LAST-MODIFIED:20250909T074651Z
UID:10001449-1777507200-1777939199@gioi.info
SUMMARY:ECDI Spring Camp 2026\, Fuerteventura
DESCRIPTION:[vc_row pix_particles_check=““][vc_column][vc_column_text]Veranstaltungsort:\nAldiana Club Fuerteventura\nPlaya de Jandia\n35626 Morro JableIslas Canarias / Fuerteventura\, Spanien[/vc_column_text][/vc_column][/vc_row][vc_row pix_particles_check=““][vc_column][vc_empty_space][/vc_column][/vc_row][vc_row pix_particles_check=““][vc_column][vc_column_text css=““]\n\n\nIMPLANTOLOGIE FÜR DIE PRAXIS\n\n\n\n\n\n\n\n\nFortbildung: ECDI Spring Camp 2026 – Implantologie für die Praxis\nSHARING EXPERIENCE – GAINING COMPETENCE ERFAHRUNG TEILEN – KOMPETENZ GEWINNEN \nLiebe Kolleginnen\, liebe Kollegen\, \nnach den großen Erfolgen unseres 1. ECDI Spring Camp 2024 und 2. ECDI Spring Camp 2025 findet nun vom 30. April – 04. Mai 2026 das 3. ECDI Spring Camp auf Fuerteventura statt. \nDa die Teilnehmerzahl auf max. 150 begrenzt sein wird meldet Euch rechtzeitig an. \nFür die wissenschaftliche Tagung gibt es noch bis zum 28.02.2026 einen Frühbucherrabatt: 445 € statt 595 €. \n3 Tage: \n\n\n\npraxisrelevante Schwerpunktthemen\nwissenschaftliches Update\naktuelle Fragen mit Experten offen bespreche\nWorkshops mit wichtigen Tipps für die Praxis\n\n\n\n\n\n\n\n\n\n\n\n\n\n\n\n\n\n  \n  \n\n\n\n\n\n\n\n\n\n\n\n\n\nWeitere Infos und Anmeldung:\n\n\n\n\n\n\nhttps://ecdi.de/events/fortbildung-ecdi-spring-camp-2026/\n\n\n\n\n\n[/vc_column_text][/vc_column][/vc_row][vc_row pix_particles_check=““][vc_column]Sponsoring: medentis medical GmbH[/vc_column][/vc_row]
URL:https://gioi.info/zfb/ecdi-spring-camp-2026-fuerteventura/
LOCATION:Aldiana Club Fuerteventura\, Morro Jable\, Islas Canarias\, Fuerteventura\, 35626\, Spanien
CATEGORIES:Fortbildungen des GIOI
ATTACH;FMTTYPE=image/jpeg:https://gioi.info/wp-content/uploads/2025/09/ECDI-2026.jpg
GEO:28.0511096;-14.351552
X-APPLE-STRUCTURED-LOCATION;VALUE=URI;X-ADDRESS=Aldiana Club Fuerteventura Morro Jable Islas Canarias Fuerteventura 35626 Spanien;X-APPLE-RADIUS=500;X-TITLE=Morro Jable:geo:-14.351552,28.0511096
END:VEVENT
BEGIN:VEVENT
DTSTART;VALUE=DATE:20260430
DTEND;VALUE=DATE:20260505
DTSTAMP:20260422T152252
CREATED:20260415T114513Z
LAST-MODIFIED:20260415T114514Z
UID:10001484-1777507200-1777939199@gioi.info
SUMMARY:ECDI Spring Camp 2026\, Fuerteventura
DESCRIPTION:[vc_row pix_particles_check=““][vc_column][vc_column_text]Veranstaltungsort:\nAldiana Club Fuerteventura\nPlaya de Jandia\n35626 Morro JableIslas Canarias / Fuerteventura\, Spanien[/vc_column_text][/vc_column][/vc_row][vc_row pix_particles_check=““][vc_column][vc_empty_space][/vc_column][/vc_row][vc_row pix_particles_check=““][vc_column][vc_column_text css=““]\n\n\nIMPLANTOLOGIE FÜR DIE PRAXIS\n\n\n\n\n\n\n\n\nFortbildung: ECDI Spring Camp 2026 – Implantologie für die Praxis\nSHARING EXPERIENCE – GAINING COMPETENCE ERFAHRUNG TEILEN – KOMPETENZ GEWINNEN \nLiebe Kolleginnen\, liebe Kollegen\, \nnach den großen Erfolgen unseres 1. ECDI Spring Camp 2024 und 2. ECDI Spring Camp 2025 findet nun vom 30. April – 04. Mai 2026 das 3. ECDI Spring Camp auf Fuerteventura statt. \nDa die Teilnehmerzahl auf max. 150 begrenzt sein wird meldet Euch rechtzeitig an. \nFür die wissenschaftliche Tagung gibt es noch bis zum 28.02.2026 einen Frühbucherrabatt: 445 € statt 595 €. \n3 Tage: \n\n\n\npraxisrelevante Schwerpunktthemen\nwissenschaftliches Update\naktuelle Fragen mit Experten offen bespreche\nWorkshops mit wichtigen Tipps für die Praxis\n\n\n\n\n\n\n\n\n\n\n\n\n\n\n\n\n\n  \n  \n\n\n\n\n\n\n\n\n\n\n\n\n\nWeitere Infos und Anmeldung:\n\n\n\n\n\n\nhttps://ecdi.de/events/fortbildung-ecdi-spring-camp-2026/\n\n\n\n\n\n[/vc_column_text][/vc_column][/vc_row][vc_row pix_particles_check=““][vc_column]Sponsoring: medentis medical GmbH[/vc_column][/vc_row]
URL:https://gioi.info/zfb/ecdi-spring-camp-2026-fuerteventura-2/
LOCATION:Aldiana Club Fuerteventura\, Morro Jable\, Islas Canarias\, Fuerteventura\, 35626\, Spanien
CATEGORIES:Externe Messen, Kongresse & Seminare
ATTACH;FMTTYPE=image/jpeg:https://gioi.info/wp-content/uploads/2026/04/ECDI-2026.jpg
ORGANIZER;CN="ECDI GmbH":MAILTO:sekretariat@ecdi.de
GEO:28.0511096;-14.351552
X-APPLE-STRUCTURED-LOCATION;VALUE=URI;X-ADDRESS=Aldiana Club Fuerteventura Morro Jable Islas Canarias Fuerteventura 35626 Spanien;X-APPLE-RADIUS=500;X-TITLE=Morro Jable:geo:-14.351552,28.0511096
END:VEVENT
END:VCALENDAR