BEGIN:VCALENDAR
VERSION:2.0
PRODID:-//GIOI - GERMAN INSTITUTE OF ORAL IMPLANTOLOGY - ECPv6.15.20//NONSGML v1.0//EN
CALSCALE:GREGORIAN
METHOD:PUBLISH
X-WR-CALNAME:GIOI - GERMAN INSTITUTE OF ORAL IMPLANTOLOGY
X-ORIGINAL-URL:https://gioi.info
X-WR-CALDESC:Veranstaltungen für GIOI - GERMAN INSTITUTE OF ORAL IMPLANTOLOGY
REFRESH-INTERVAL;VALUE=DURATION:PT1H
X-Robots-Tag:noindex
X-PUBLISHED-TTL:PT1H
BEGIN:VTIMEZONE
TZID:Europe/Berlin
BEGIN:DAYLIGHT
TZOFFSETFROM:+0100
TZOFFSETTO:+0200
TZNAME:CEST
DTSTART:20250330T010000
END:DAYLIGHT
BEGIN:STANDARD
TZOFFSETFROM:+0200
TZOFFSETTO:+0100
TZNAME:CET
DTSTART:20251026T010000
END:STANDARD
BEGIN:DAYLIGHT
TZOFFSETFROM:+0100
TZOFFSETTO:+0200
TZNAME:CEST
DTSTART:20260329T010000
END:DAYLIGHT
BEGIN:STANDARD
TZOFFSETFROM:+0200
TZOFFSETTO:+0100
TZNAME:CET
DTSTART:20261025T010000
END:STANDARD
BEGIN:DAYLIGHT
TZOFFSETFROM:+0100
TZOFFSETTO:+0200
TZNAME:CEST
DTSTART:20270328T010000
END:DAYLIGHT
BEGIN:STANDARD
TZOFFSETFROM:+0200
TZOFFSETTO:+0100
TZNAME:CET
DTSTART:20271031T010000
END:STANDARD
END:VTIMEZONE
BEGIN:VEVENT
DTSTART;VALUE=DATE:20260604
DTEND;VALUE=DATE:20260607
DTSTAMP:20260422T204932
CREATED:20240703T113350Z
LAST-MODIFIED:20260209T085330Z
UID:10001356-1780531200-1780790399@gioi.info
SUMMARY:IMPLANTOLOGIE & ZAHNHEILKUNDE-CURRICULUM ‘26\, Ref.: Dr. med. dent Andrea Malavasi\, Dr. Joel Teles
DESCRIPTION:[vc_row content_placement=“top“ pix_particles_check=““][vc_column][vc_column_text css=““]Location:\nICX-Fortbildungsvilla (Puesta del Sol)\nCarrer Tambor 7\,\n07150 Puerto d´ Andratx/Mallorca[/vc_column_text][/vc_column][/vc_row][vc_row content_placement=“top“ pix_particles_check=““][vc_column][vc_empty_space][/vc_column][/vc_row][vc_row content_placement=“top“ pix_particles_check=““][vc_column][vc_column_text css=““]\nIMPLANTOLOGY AND DENTISTRY CURRICULUM 2026\, Mallorca\nDENTAL IMPLANTOLOGY NOW!\nDear Ladies and Gentlemen\, \nWe are pleased to be able to offer you english language courses in October 2026 at our training centre in Port D‘Andratx. \nDr. med. dent. Andrea Malavasi \nThe rehabilitation of atrophic maxilla is a challenge in modern surgery. In this day we discuss how to find a rational between the different surgery techniques based on the different grade of reabsorption. \nWe will discuss\, among other things\, of Pterygoid implant\, Transinusal implant and all the prosthetic protocols for immediate load and definitive rehabilitation. The main objective is to: \n\n\n\nprovide complete knowledge of the different techniques to rehabilitate the maxilla\nprovide an algorithm on which technique to use in relation to the grade of atrophy\nprovide a complete prosthetic protocol for immediate load and definitive rehabilitation\n\n\n\n  \nDr. Joel Teles \nThis course presents comprehensive approaches for the entire dental arch from FP1 to FP3. We compare digital and analog procedures in full-arch surgery and highlight their advantages and disadvantages. \nYou will learn how to be creative with resorbed jaws: Make the best use of available anchor points\, avoid large grafts\, zygoma or subperiosteal implants and design your cases with less morbidity – for a more time- and cost-efficient practice. In addition\, we will teach you various techniques such as the palatal approach\, the shelf technique\, pterygoid implants\, trans-sinus and other innovative approaches to make these methods accessible in daily practice. \nWe look forward to an exciting and successful training program with you! \n[/vc_column_text][/vc_column][/vc_row][vc_row content_placement=“top“ pix_particles_check=““][vc_column][vc_separator][/vc_column][/vc_row][vc_row content_placement=“top“ pix_particles_check=““ type=“vc_default“][vc_column width=“1/4″][vc_single_image image=“86268″ img_size=“medium“ style=“vc_box_shadow_border“ css=““][vc_column_text css=““]Speaker:\nDR. MED. DENT. ANDREA MALAVASI \nOral surgeon\, iDEAL s.r.l. Direttore Sanitario \n[/vc_column_text][/vc_column][vc_column width=“3/4″][vc_column_text css=““]\nAGENDA \nTHURSDAY 04.06.2026 \n\n\n\n19.00 get together at the ICX trainingcentre\n\n\n\nFRIDAY 05.06.26 \n“REHABILITATION OF ATROPHIC MAXILLA\, PTERIGOYD\, TRANS-SINUSAL” \n\n\n\n10.00-11.30 General Concepts / Crestal Sinus Lift (90 minutes)\n11.30 -11.45 coffee break\n11.45-13.15 ALL-ON-4 /Pterigoyd Implant/Transinusal Implant (90 minutes)\n13.15-14.15 Lunch\n14.15-15.45 Immediate Load Protocol / Definitive Restoration Protocol (90 minutes)\n15.45-16.00 Coffee break\n16.00-17.00 concluding discussion/questions & answers (60 minutes)\n\n\n\n[/vc_column_text][/vc_column][/vc_row][vc_row content_placement=“top“ pix_particles_check=““][vc_column][vc_separator][/vc_column][/vc_row][vc_row content_placement=“top“ pix_particles_check=““ type=“vc_default“][vc_column width=“1/4″][vc_single_image image=“86253″ img_size=“medium“ style=“vc_box_shadow_border“ css=““][vc_column_text css=““]Speaker:\nDR. JOEL TELES \nClinical director of Medindouro\, Peso da Régua\, Portugal \n[/vc_column_text][/vc_column][vc_column width=“3/4″][vc_column_text css=““]\nAGENDA \nSATURDAY 06.06.2026 \n„WHOLE JAW SURGERY: INNOVATIVE APPROACHES AND TECHNIQUES FOR THE ENTIRE DENTAL ARCH“ \n\n\n\n10.00-11.30 Presentation\, system overview\, history and evolution of full arch approaches (90 minutes)\n11.30 -11.45 Coffee break\n11.45-13.15 analog Vs digital approaches\, Pilot Guided and Full guided from FP1 to FP3 (90 minutes)\n13.15-14.15 Lunch\n14.15-15.45 resorbed jaws\, All on Four\, Extreme Palatal approach and other techniques (90 minutes)\n15.45-16.00 Coffee break\n16.00-17.00 Q&A; case discussion and final considerations (60 minutes)\n20.00 Gala Dinner\n\n\n\n[/vc_column_text][/vc_column][/vc_row][vc_row content_placement=“top“ pix_particles_check=““][vc_column][vc_empty_space][vc_column_text css=““]Date: June 4–6\, 2026 \n04.06.26:\nGET TOGETHER \n05.06.26:\nSPEAKER ANDREA MALAVASI “REHABILITATION OF ATROPHIC MAXILLA\, PTERIGOYD\, TRANS-SINUSAL” \n06.06.26:\nSPEAKER JOEL TELES „WHOLE JAW SURGERY: INNOVATIVE APPROACHES AND TECHNIQUES FOR THE ENTIRE DENTAL ARCH“ \nThe participation fee is €529 per person per training course\, plus VAT\, including GET TOGETHER and BBQ BUFFET. \n\nThe participation fee per accompanying person for the GET TOGETHER on Thursday is free of charge.\nThe participation fee per participant & accompanying person for the JOINT EVENING on Friday is €99.\nThe participation fee per accompanying person for the BBQ buffet on Saturday is €99.\n\nYou will receive 13 continuing education credits per person per training course. \nCertificates for the continuing education credits earned per person per training course will be handed out on site.[/vc_column_text][/vc_column][/vc_row][vc_row content_placement=“top“ pix_particles_check=““][vc_column][vc_empty_space][/vc_column][/vc_row][vc_row content_placement=“top“ pix_particles_check=““][vc_column][vc_column_text css=““]\nJETZT ANMELDEN UND IN DIE ZUKUNFT STARTEN! \n[/vc_column_text]Information and registration available for download![vc_empty_space]To the registration form on the event page[/vc_column][/vc_row][vc_column][/vc_column]
URL:https://gioi.info/zfb/implantologie-zahnheilkunde-curriculum-26-mallorca-05/
LOCATION:Port Andratx/Mallorca\, Calle Tambor 7\, Port Andratx/Mallorca\, 07157\, Spain
CATEGORIES:Fortbildungen des GIOI,ICX-Mallorca 2026
ATTACH;FMTTYPE=image/jpeg:https://gioi.info/wp-content/uploads/2024/07/04.-06.06.26-mallorca.jpg
GEO:39.549742;2.396174
X-APPLE-STRUCTURED-LOCATION;VALUE=URI;X-ADDRESS=Port Andratx/Mallorca Calle Tambor 7 Port Andratx/Mallorca 07157 Spain;X-APPLE-RADIUS=500;X-TITLE=Calle Tambor 7:geo:2.396174,39.549742
END:VEVENT
BEGIN:VEVENT
DTSTART;VALUE=DATE:20260625
DTEND;VALUE=DATE:20260628
DTSTAMP:20260422T204932
CREATED:20250925T121013Z
LAST-MODIFIED:20260227T081339Z
UID:10001455-1782345600-1782604799@gioi.info
SUMMARY:IMPLANTOLOGIE & ZAHNHEILKUNDE-CURRICULUM ‘26\, Mallorca - Ref.: Dr. med. dent. Stefan Reinhardt
DESCRIPTION:[vc_row content_placement=“top“ pix_particles_check=““][vc_column][vc_column_text]Veranstaltungsort:\nICX-Fortbildungsvilla (Puesta del Sol)\nCarrer Tambor 7\,\n07150 Puerto d´ Andratx/Mallorca[/vc_column_text][/vc_column][/vc_row][vc_row content_placement=“top“ pix_particles_check=““][vc_column][vc_column_text css=““]\nJETZT ANMELDEN UND IN DIE ZUKUNFT STARTEN! \n[/vc_column_text][vc_empty_space]ONLINE ANMELDUNG[/vc_column][/vc_row][vc_row content_placement=“top“ pix_particles_check=““][vc_column][vc_empty_space][/vc_column][/vc_row][vc_row content_placement=“top“ pix_particles_check=““][vc_column][vc_column_text css=““]\nIMPLANTOLOGIE & ZAHNHEILKUNDE-CURRICULUM ‘26\nICX-FORTBILDUNGS-VILLA PORT D’ANDRATX\, MALLORCA\nLiebe Kolleginnen und Kollegen! \nWir freuen uns sehr\, sie zu unserer Fortbildung mit einer ganzen Reihe von brandaktuellen und interessanten Themen einzuladen. \nIm Rahmen der Veranstaltung zeigt Ihnen Dr. Stefan Reinhardt eine seit 15 Jahren erfolgreich angewandte Therapie der Sofortimplantation auch bei Verlust des vestibulären Knochens und die von ihm entwickelte Sofortversorgung im ästhetischen Bereich. Außerdem wird praxisnah die Sofortbelastung im zahnlosen Kiefer Schritt für Schritt erklärt und neu entwickelte prothetische Schablonen vorgestellt. \nDer zweite Themenblock umfasst die periosterhaltenden modifizierten Augmentationsmethoden. Hierbei können durch die spezielle Schnittführung\, Komplikationen wie Dehiszenzen oder Resorptionen von autologen Knochentransplantaten vermieden werden. \nAbschließend werden eine ganze Reihe von Weichgewebstechniken zur Optimierung des periimplantären Gewebes gezeigt\, die eine ganz wichtige Rolle im langfristigen Implantaterfolg spielen. \nAbgerundet wird das Seminar durch einen intensiven kollegialen Austausch\, der Raum für Diskussionen\, Fragen und persönliche Erfahrungen bietet. \nWir freuen uns auf Ihre Teilnahme und einen spannenden Fortbildungstag. \n  \nTHEMEN: \nPeriosterhaltende Augmentationen\, Sofortimplantation und Sofortversorgung\, Full Guided Implantation und Sofortversorgung im zahnlosen Kiefer bei schwierigen anatomischen Verhältnissen \n  \nINHALT UND GLIEDERUNG\nDonnerstag\, 25.06.26: \n\n\n\n19:00 Uhr get together\n\n\n\nFreitag\, 26.06.26: \n\n\n\nSofortimplantation bei defekter vestibulärer Knochenlamelle\nSofortversorgung mit simultaner Weichgewebsverdickung\nSofortbelastung auch bei schwierigen anatomischen Verhältnissen\n\n\n\nSamstag\, 27.06.26: \n\n\n\nDie GBR mit der Envelopetechnik\nAutologer Knochentransfer mit der Tunneltechnik\nDie modifizierte Extensionsplastik\nWeichgewebsaufbau zur Optimierung des periimplantären Gewebes\n\n\n\n[/vc_column_text][/vc_column][/vc_row][vc_row content_placement=“top“ pix_particles_check=““][vc_column][vc_separator][/vc_column][/vc_row][vc_row content_placement=“top“ pix_particles_check=““ type=“vc_default“][vc_column width=“1/4″][vc_single_image image=“85639″ img_size=“medium“ style=“vc_box_shadow_border“ css=““][vc_column_text]Referent:\nDr. med. dent. Stefan Reinhardt \n[/vc_column_text][/vc_column][vc_column width=“3/4″][vc_column_text]Kurz-Vita: \n\n1991 Erwerb des Fachzahnarztes für Oralchirurgie\, seit 1999 zertifizierter Referent für Implantologie\, Ermächtigung zur Weiterbildung für den Fachzahnarzt für Oralchirurgie durch die Zahnärztekammer Westfalen-Lippe.\nErnannter Gutachter für Implantologie vom BDIZ und BDO.\nseit 2016 ausgezeichneter Implantologe mit dem Fokussiegel.\nseit 2020 ausgezeichneter Fachzahnarzt für Oralchirurgie mit dem Fokussiegel\nseit 2022 in der Praxis Dr. Simone Heger\, Dr. Larissa Reinhardt\, Dr. Stefan Reinhardt\, Bahnhofstr. 42\, 48477 Hörstel\n\n[/vc_column_text][/vc_column][/vc_row][vc_row content_placement=“top“ pix_particles_check=““][vc_column][vc_empty_space][vc_column_text css=““]Termin:\n25.06.-27.06.26 – Themen: Periosterhaltende Augmentationen\, Sofortimplantation und Sofortversorgung\, Full Guided Implantation und Sofortversorgung im zahnlosen Kiefer bei schwierigen anatomischen Verhältnissen \nDie Teilnahmegebühr beträgt pro Person und Fortbildung € 529\,– zzgl. gesetzl. MwSt. inkl. GET TOGETHER und BBQ-BUFFET. \n\nDie Teilnahmegebühr pro Begleitperson zum GET TOGETHER\, am Donnerstag ist kostenlos.\nDie Teilnahmegebühr pro Teilnehmer & Begleitperson für den GEMEINSAMEN ABEND am Freitag (€ 99\,-).\nDie Teilnahmegebühr pro Begleitperson für das BBQ-Buffet am Samstag beträgt € 99\,-.\n\nSie erhalten 13 Fortbildungspunkte pro Person je Fortbildung.\n \nDie Zertifikate über die erreichten Fortbildungspunkte pro Person je Fortbildung werden Ihnen vor Ort ausgehändigt. \n\n\n\n\n\n\nOnline anmelden über die E-Mail Adresse: veranstaltung@medentis.de oder unter www.icx-mallorca.de. \n\n\n\n\n\n\n[/vc_column_text][/vc_column][/vc_row][vc_row content_placement=“top“ pix_particles_check=““][vc_column][vc_empty_space][/vc_column][/vc_row][vc_row content_placement=“top“ pix_particles_check=““][vc_column][vc_column_text css=““]\nJETZT ANMELDEN UND IN DIE ZUKUNFT STARTEN! \n[/vc_column_text]Infos und Anmeldung zum download![vc_empty_space]Zum Anmeldeformular auf Veranstaltungsseite[/vc_column][/vc_row]
URL:https://gioi.info/zfb/implantologie-zahnheilkunde-curriculum-26-mallorca-06/
LOCATION:Port Andratx/Mallorca\, Calle Tambor 7\, Port Andratx/Mallorca\, 07157\, Spain
CATEGORIES:Fortbildungen des GIOI,ICX-Mallorca 2026
ATTACH;FMTTYPE=image/jpeg:https://gioi.info/wp-content/uploads/2025/09/25.-27.06.26_Malle-Reinhardt.jpg
GEO:39.549742;2.396174
X-APPLE-STRUCTURED-LOCATION;VALUE=URI;X-ADDRESS=Port Andratx/Mallorca Calle Tambor 7 Port Andratx/Mallorca 07157 Spain;X-APPLE-RADIUS=500;X-TITLE=Calle Tambor 7:geo:2.396174,39.549742
END:VEVENT
END:VCALENDAR