BEGIN:VCALENDAR
VERSION:2.0
PRODID:-//GIOI - GERMAN INSTITUTE OF ORAL IMPLANTOLOGY - ECPv6.15.20//NONSGML v1.0//EN
CALSCALE:GREGORIAN
METHOD:PUBLISH
X-WR-CALNAME:GIOI - GERMAN INSTITUTE OF ORAL IMPLANTOLOGY
X-ORIGINAL-URL:https://gioi.info
X-WR-CALDESC:Veranstaltungen für GIOI - GERMAN INSTITUTE OF ORAL IMPLANTOLOGY
REFRESH-INTERVAL;VALUE=DURATION:PT1H
X-Robots-Tag:noindex
X-PUBLISHED-TTL:PT1H
BEGIN:VTIMEZONE
TZID:Europe/Helsinki
BEGIN:DAYLIGHT
TZOFFSETFROM:+0200
TZOFFSETTO:+0300
TZNAME:EEST
DTSTART:20230326T010000
END:DAYLIGHT
BEGIN:STANDARD
TZOFFSETFROM:+0300
TZOFFSETTO:+0200
TZNAME:EET
DTSTART:20231029T010000
END:STANDARD
BEGIN:DAYLIGHT
TZOFFSETFROM:+0200
TZOFFSETTO:+0300
TZNAME:EEST
DTSTART:20240331T010000
END:DAYLIGHT
BEGIN:STANDARD
TZOFFSETFROM:+0300
TZOFFSETTO:+0200
TZNAME:EET
DTSTART:20241027T010000
END:STANDARD
BEGIN:DAYLIGHT
TZOFFSETFROM:+0200
TZOFFSETTO:+0300
TZNAME:EEST
DTSTART:20250330T010000
END:DAYLIGHT
BEGIN:STANDARD
TZOFFSETFROM:+0300
TZOFFSETTO:+0200
TZNAME:EET
DTSTART:20251026T010000
END:STANDARD
END:VTIMEZONE
BEGIN:VEVENT
DTSTART;TZID=Europe/Helsinki:20241123T100000
DTEND;TZID=Europe/Helsinki:20241123T150000
DTSTAMP:20260425T000730
CREATED:20240105T132632Z
LAST-MODIFIED:20240319T133737Z
UID:10001288-1732356000-1732374000@gioi.info
SUMMARY:JUNGE IMPLANTOLOGEN - FORTBILDUNGEN 2.0\, Frankfurt
DESCRIPTION:[vc_row content_placement=“top“ pix_particles_check=““][vc_column][vc_column_text]Veranstaltungsort:\nDorint Main-Taunus-Zentrum\nAm Main-Taunus-Zentrum 1\n‚65843 Sulzbach[/vc_column_text][/vc_column][/vc_row][vc_row content_placement=“top“ pix_particles_check=““][vc_column][vc_empty_space][/vc_column][/vc_row][vc_row pix_particles_check=““][vc_column][vc_column_text]\nIhr perfekter Einstieg in die Welt der dentalen Implantologie!\nSehr geehrte Damen und Herren\, \nwir freuen uns sehr\, Sie zu unseren “Junge Implantologen”-Fortbildungen 2.0 in 2024 einladen zu dürfen. \nSie wollen mit der Implantologie starten oder haben bis jetzt nur wenige Implantate inseriert?\nDann bietet Ihnen dieser Kurs den perfekten Einstieg in die Welt der dentalen Implantologie.\nLernen Sie Grundlagen der Anatomie sowie der Knochen kennen\, erfahren Sie\, wie Sie die Implantat Planung und Diagnostik anwenden und wie Sie mit Risikopatienten umgehen. Prof. Dr. Tobias Fretwurst und Jun.-Prof. Dr. Florian Kernen vom Universitätsklinikum Freiburg werden Sie durch das Seminar leiten und Ihnen die Implantation Schritt für Schritt erklären. \nWir freuen uns auf spannende und lehrreiche Seminare mit Ihnen. \nMit freundlichen Grüßen\nIhr ICX-Experte\nKrzysztof Durczok[/vc_column_text][/vc_column][/vc_row][vc_row pix_particles_check=““][vc_column][vc_column_text]\nPROGRAMM: \n\nGrundlagen (Anatomie und Knochen\, Aufbau Implantat)\, Prof. Dr. Tobias Fretwurst\, 1 Std.\nImplantat Planung und Diagnostik\, Jun.-Prof. Dr. Florian Kernen\, 1 Std.\nRisikopatienten. Was überweise ich\, was kann ich nach dem Kurs selbst in meiner Praxis durchführen?\, Prof. Dr. Tobias Fretwurst\, 1 Std.\nImplantation Schritt für Schritt\, Prof. Dr. Tobias Fretwurst\, 1 Std.\nChirurgisch-implantologische Prinzipien und prothetische Konzepte\, Jun.-Prof. Dr. Florian Kernen\, 0\,5 Std.\nWorkshop: Planung ICX-MAGELLAN X\, Implantation am Kunststoffmodell\, Prof. Dr. Tobias Fretwurst und Jun.-Prof. Dr. Florian Kernen\nDiskussion/Abschluss/Zertifikate\, Prof. Dr. Tobias Fretwurst und Jun.-Prof. Dr. Florian Kernen\n\nReferenten:\nJUN.-PROF. DR. FLORIAN KERNEN\nJuniorprofessur für Virtuelle Implantologie\, Universitätsklinikum Freiburg \nPROF. DR. TOBIAS FRETWURST\nSektion Regenerative Orale Medizin\, Universitätsklinikum Freiburg \n\nIhr persönlicher Ansprechpartner:\nKrzysztof Durczok\, ZTM\nMobil: +49 (0)171 212 79 29\nEmail: k.durczok(at)medentis.de \n\nTermin:\nSa.\, 23.11.2024 – 10.00 – 15.00 Uhr (inkl. Snacks und Getränke) \nDie Teilnahmegebühr beträgt pro Person € 259\,– zzgl. gesetzl. MwSt.\, \nBitte beachten Sie\, dass bei großem Interesse\, die zeitliche Reihenfolge der Anmeldung ausschlaggebend ist. \nSie erhalten 6 Fortbildungspunkte für Ihre Teilnahme\, je Person. \nDirekte Buchung auch über E-Mail Adresse: veranstaltung@medentis.de.[/vc_column_text][/vc_column][/vc_row][vc_row content_placement=“top“ pix_particles_check=““][vc_column][vc_empty_space][vc_column_text]\nJETZT ANMELDEN UND IN DIE ZUKUNFT STARTEN! \n Infos und Anmeldung zum download![/vc_column_text][/vc_column][/vc_row][vc_column][/vc_column]
URL:https://gioi.info/zfb/junge-implantologen-fortbildungen-2-0-frankfurt/
LOCATION:Dorint Main-Taunus-Zentrum\, Am Main-Taunus-Zentrum 1\, Sulzbach\, 65843\, Deutschland
CATEGORIES:EINSTIEG IN DIE IMPLANTOLOGIE,Fortbildungen des GIOI
ATTACH;FMTTYPE=image/jpeg:https://gioi.info/wp-content/uploads/2024/01/Junge_Implantologen_neu-jpg.webp
GEO:50.1208412;8.5250604
X-APPLE-STRUCTURED-LOCATION;VALUE=URI;X-ADDRESS=Dorint Main-Taunus-Zentrum Am Main-Taunus-Zentrum 1 Sulzbach 65843 Deutschland;X-APPLE-RADIUS=500;X-TITLE=Am Main-Taunus-Zentrum 1:geo:8.5250604,50.1208412
END:VEVENT
END:VCALENDAR