BEGIN:VCALENDAR
VERSION:2.0
PRODID:-//GIOI - GERMAN INSTITUTE OF ORAL IMPLANTOLOGY - ECPv6.15.20//NONSGML v1.0//EN
CALSCALE:GREGORIAN
METHOD:PUBLISH
X-ORIGINAL-URL:https://gioi.info
X-WR-CALDESC:Veranstaltungen für GIOI - GERMAN INSTITUTE OF ORAL IMPLANTOLOGY
REFRESH-INTERVAL;VALUE=DURATION:PT1H
X-Robots-Tag:noindex
X-PUBLISHED-TTL:PT1H
BEGIN:VTIMEZONE
TZID:Europe/Helsinki
BEGIN:DAYLIGHT
TZOFFSETFROM:+0200
TZOFFSETTO:+0300
TZNAME:EEST
DTSTART:20240331T010000
END:DAYLIGHT
BEGIN:STANDARD
TZOFFSETFROM:+0300
TZOFFSETTO:+0200
TZNAME:EET
DTSTART:20241027T010000
END:STANDARD
BEGIN:DAYLIGHT
TZOFFSETFROM:+0200
TZOFFSETTO:+0300
TZNAME:EEST
DTSTART:20250330T010000
END:DAYLIGHT
BEGIN:STANDARD
TZOFFSETFROM:+0300
TZOFFSETTO:+0200
TZNAME:EET
DTSTART:20251026T010000
END:STANDARD
BEGIN:DAYLIGHT
TZOFFSETFROM:+0200
TZOFFSETTO:+0300
TZNAME:EEST
DTSTART:20260329T010000
END:DAYLIGHT
BEGIN:STANDARD
TZOFFSETFROM:+0300
TZOFFSETTO:+0200
TZNAME:EET
DTSTART:20261025T010000
END:STANDARD
END:VTIMEZONE
BEGIN:VEVENT
DTSTART;TZID=Europe/Helsinki:20250516T140000
DTEND;TZID=Europe/Helsinki:20250516T190000
DTSTAMP:20260424T122301
CREATED:20241009T121948Z
LAST-MODIFIED:20241010T070843Z
UID:10001392-1747404000-1747422000@gioi.info
SUMMARY:EINSTIEG IN DIE IMPLANTOLOGIE - Fortbildung für junge Implantologen\, Wien
DESCRIPTION:[vc_row content_placement=“top“ pix_particles_check=““][vc_column][vc_column_text css=““]Veranstaltungsort:\nHotel Indigo Vienna-Naschmarkt\nRechte Wienzeile 87\n1050 Wien\, Österreich[/vc_column_text][/vc_column][/vc_row][vc_row content_placement=“top“ pix_particles_check=““][vc_column][vc_empty_space][/vc_column][/vc_row][vc_row pix_particles_check=““][vc_column][vc_column_text css=““]\nSTART NOW! BE SMART. BE GUIDED. BE ICX.\nEINSTIEG IN DIE IMPLANTOLOGIE\nZukunft gestalten: Fortbildungen für junge Implantologen 2025\nLiebe Kolleginnen und Kollegen\, \nwir freuen uns sehr\, Sie zu unseren “Einstieg in die Implantologie”-Fortbildungen in 2025 einladen zu dürfen. \nSie möchten mit der Implantologie starten oder haben bis jetzt nur wenige Implantate inseriert? Dann bietet Ihnen dieser Kurs den perfekten Einstieg in die Welt der dentalen Implantologie. \nLernen Sie Grundlagen der Anatomie sowie der Knochen kennen\, erfahren Sie\, wie Sie die Implantat Planung und Diagnostik anwenden und wie Sie mit Risikopatienten umgehen. Prof. Dr. Tobias Fretwurst und Jun.-Prof. Dr. Florian Kernen vom Universitätsklinikum Freiburg werden Sie durch das Seminar führen und Ihnen die Implantation Schritt für Schritt erklären. \nWir freuen uns auf spannende und lehrreiche Seminare mit Ihnen. \nMit freundlichen Grüßen \nIhr Prof. Dr. Tobias Fretwurst\nund Jun.-Prof. Dr. Florian Kernen \n[/vc_column_text][/vc_column][/vc_row][vc_row pix_particles_check=““][vc_column][vc_column_text css=““]\nPROGRAMM:\n\n➠ Grundlagen (Anatomie und Knochen\, Aufbau Implantat)\, Prof. Dr. Tobias Fretwurst\, 1 Std.\n➠ Implantat Planung und Diagnostik\, Jun.-Prof. Dr. Florian Kernen\, 1 Std.\n➠ Risikopatienten. Was überweise ich\, was kann ich nach dem Kurs selbst in meiner Praxis durchführen? Prof. Dr. Tobias Fretwurst\, 1 Std.\n➠ Implantation Schritt für Schritt\, Prof. Dr. Tobias Fretwurst\, 1 Std.\n➠ Chirurgisch-implantologische Prinzipien und prothetische Konzepte\, Jun.-Prof. Dr. Florian Kernen\, 0\,5 Std.\n➠ Workshop: Aufbereitung verschiedener Knochendichten und Implantation am Modell\, Prof. Dr. Tobias Fretwurst und Jun.-Prof. Dr. Florian Kernen\n➠ Diskussion/Abschluss/Zertifikate\, Prof. Dr. Tobias Fretwurst und Jun.-Prof. Dr. Florian Kernen\n\nReferenten: \nJUN.-PROF. DR. FLORIAN KERNEN\nJuniorprofessur für Virtuelle Implantologie\, Universitätsklinikum Freiburg \nPROF. DR. TOBIAS FRETWURST\nSektion Regenerative Orale Medizin\, Universitätsklinikum Freiburg \n\nTermin:\nFr. 16.05.25 – 14.00-19.00 Uhr. \nDie Teilnahmegebühr beträgt pro Person und Fortbildung € 329\,– zzgl. gesetzl. MwSt. \nAlle Seminare inkl. Snacks und Getränke. \nSie erhalten pro Person/Fortbildung 6 Fortbildungspunkte. \nBitte beachten Sie\, dass bei großem Interesse\, die zeitliche Reihenfolge der Anmeldung ausschlaggebend ist. \nDirekte Buchung auch über E-Mail Adresse: veranstaltung@medentis.de.[/vc_column_text][/vc_column][/vc_row][vc_row content_placement=“top“ pix_particles_check=““][vc_column][vc_empty_space][vc_column_text css=““]\nJETZT ANMELDEN UND IN DIE ZUKUNFT STARTEN! \n Infos und Anmeldung zum download![/vc_column_text][/vc_column][/vc_row][vc_column][/vc_column]
URL:https://gioi.info/zfb/einstieg-in-die-implantologie-wien/
LOCATION:Hotel Indigo Vienna-Naschmarkt\, Rechte Wienzeile\, Wien\, Wien\, 1050\, Austria
CATEGORIES:EINSTIEG IN DIE IMPLANTOLOGIE,Fortbildungen des GIOI
ATTACH;FMTTYPE=image/jpeg:https://gioi.info/wp-content/uploads/2024/10/Einstieg-in-die-Implantologie_NEU.jpg
GEO:48.193094;16.3551188
X-APPLE-STRUCTURED-LOCATION;VALUE=URI;X-ADDRESS=Hotel Indigo Vienna-Naschmarkt Rechte Wienzeile Wien Wien 1050 Austria;X-APPLE-RADIUS=500;X-TITLE=Rechte Wienzeile:geo:16.3551188,48.193094
END:VEVENT
BEGIN:VEVENT
DTSTART;TZID=Europe/Helsinki:20250517T100000
DTEND;TZID=Europe/Helsinki:20250517T150000
DTSTAMP:20260424T122302
CREATED:20241010T063937Z
LAST-MODIFIED:20241010T070949Z
UID:10001393-1747476000-1747494000@gioi.info
SUMMARY:EINSTIEG IN DIE IMPLANTOLOGIE - Fortbildung für junge Implantologen\, Salzburg
DESCRIPTION:[vc_row content_placement=“top“ pix_particles_check=““][vc_column][vc_column_text css=““]Veranstaltungsort:\nWyndham Grand Salzburg Conference Centre\nFanny-von-Lehnert-Straße 7\n5020 Salzburg\, Österreich[/vc_column_text][/vc_column][/vc_row][vc_row content_placement=“top“ pix_particles_check=““][vc_column][vc_empty_space][/vc_column][/vc_row][vc_row pix_particles_check=““][vc_column][vc_column_text css=““]\nSTART NOW! BE SMART. BE GUIDED. BE ICX.\nEINSTIEG IN DIE IMPLANTOLOGIE\nZukunft gestalten: Fortbildungen für junge Implantologen 2025\nLiebe Kolleginnen und Kollegen\, \nwir freuen uns sehr\, Sie zu unseren “Einstieg in die Implantologie”-Fortbildungen in 2025 einladen zu dürfen. \nSie möchten mit der Implantologie starten oder haben bis jetzt nur wenige Implantate inseriert? Dann bietet Ihnen dieser Kurs den perfekten Einstieg in die Welt der dentalen Implantologie. \nLernen Sie Grundlagen der Anatomie sowie der Knochen kennen\, erfahren Sie\, wie Sie die Implantat Planung und Diagnostik anwenden und wie Sie mit Risikopatienten umgehen. Prof. Dr. Tobias Fretwurst und Jun.-Prof. Dr. Florian Kernen vom Universitätsklinikum Freiburg werden Sie durch das Seminar führen und Ihnen die Implantation Schritt für Schritt erklären. \nWir freuen uns auf spannende und lehrreiche Seminare mit Ihnen. \nMit freundlichen Grüßen \nIhr Prof. Dr. Tobias Fretwurst\nund Jun.-Prof. Dr. Florian Kernen \n[/vc_column_text][/vc_column][/vc_row][vc_row pix_particles_check=““][vc_column][vc_column_text css=““]\nPROGRAMM:\n\n➠ Grundlagen (Anatomie und Knochen\, Aufbau Implantat)\, Prof. Dr. Tobias Fretwurst\, 1 Std.\n➠ Implantat Planung und Diagnostik\, Jun.-Prof. Dr. Florian Kernen\, 1 Std.\n➠ Risikopatienten. Was überweise ich\, was kann ich nach dem Kurs selbst in meiner Praxis durchführen? Prof. Dr. Tobias Fretwurst\, 1 Std.\n➠ Implantation Schritt für Schritt\, Prof. Dr. Tobias Fretwurst\, 1 Std.\n➠ Chirurgisch-implantologische Prinzipien und prothetische Konzepte\, Jun.-Prof. Dr. Florian Kernen\, 0\,5 Std.\n➠ Workshop: Aufbereitung verschiedener Knochendichten und Implantation am Modell\, Prof. Dr. Tobias Fretwurst und Jun.-Prof. Dr. Florian Kernen\n➠ Diskussion/Abschluss/Zertifikate\, Prof. Dr. Tobias Fretwurst und Jun.-Prof. Dr. Florian Kernen\n\nReferenten: \nJUN.-PROF. DR. FLORIAN KERNEN\nJuniorprofessur für Virtuelle Implantologie\, Universitätsklinikum Freiburg \nPROF. DR. TOBIAS FRETWURST\nSektion Regenerative Orale Medizin\, Universitätsklinikum Freiburg \n\nTermin:\nSa. 17.05.25 – 10.00-15.00 Uhr. \nDie Teilnahmegebühr beträgt pro Person und Fortbildung € 329\,– zzgl. gesetzl. MwSt. \nAlle Seminare inkl. Snacks und Getränke. \nSie erhalten pro Person/Fortbildung 6 Fortbildungspunkte. \nBitte beachten Sie\, dass bei großem Interesse\, die zeitliche Reihenfolge der Anmeldung ausschlaggebend ist. \nDirekte Buchung auch über E-Mail Adresse: veranstaltung@medentis.de.[/vc_column_text][/vc_column][/vc_row][vc_row content_placement=“top“ pix_particles_check=““][vc_column][vc_empty_space][vc_column_text css=““]\nJETZT ANMELDEN UND IN DIE ZUKUNFT STARTEN! \n Infos und Anmeldung zum download![/vc_column_text][/vc_column][/vc_row][vc_column][/vc_column]
URL:https://gioi.info/zfb/einstieg-in-die-implantologie-salzburg/
LOCATION:Wyndham Grand Salzburg Conference Centre\, Fanny-von-Lehnert-Straße\, Salzburg\, Salzburg\, 5020\, Austria
CATEGORIES:EINSTIEG IN DIE IMPLANTOLOGIE,Fortbildungen des GIOI
ATTACH;FMTTYPE=image/jpeg:https://gioi.info/wp-content/uploads/2024/10/Einstieg-in-die-Implantologie_NEU.jpg
GEO:47.8153421;13.0434465
X-APPLE-STRUCTURED-LOCATION;VALUE=URI;X-ADDRESS=Wyndham Grand Salzburg Conference Centre Fanny-von-Lehnert-Straße Salzburg Salzburg 5020 Austria;X-APPLE-RADIUS=500;X-TITLE=Fanny-von-Lehnert-Straße:geo:13.0434465,47.8153421
END:VEVENT
END:VCALENDAR