BEGIN:VCALENDAR
VERSION:2.0
PRODID:-//GIOI - GERMAN INSTITUTE OF ORAL IMPLANTOLOGY - ECPv6.15.20//NONSGML v1.0//EN
CALSCALE:GREGORIAN
METHOD:PUBLISH
X-ORIGINAL-URL:https://gioi.info
X-WR-CALDESC:Veranstaltungen für GIOI - GERMAN INSTITUTE OF ORAL IMPLANTOLOGY
REFRESH-INTERVAL;VALUE=DURATION:PT1H
X-Robots-Tag:noindex
X-PUBLISHED-TTL:PT1H
BEGIN:VTIMEZONE
TZID:Europe/Helsinki
BEGIN:DAYLIGHT
TZOFFSETFROM:+0200
TZOFFSETTO:+0300
TZNAME:EEST
DTSTART:20240331T010000
END:DAYLIGHT
BEGIN:STANDARD
TZOFFSETFROM:+0300
TZOFFSETTO:+0200
TZNAME:EET
DTSTART:20241027T010000
END:STANDARD
BEGIN:DAYLIGHT
TZOFFSETFROM:+0200
TZOFFSETTO:+0300
TZNAME:EEST
DTSTART:20250330T010000
END:DAYLIGHT
BEGIN:STANDARD
TZOFFSETFROM:+0300
TZOFFSETTO:+0200
TZNAME:EET
DTSTART:20251026T010000
END:STANDARD
BEGIN:DAYLIGHT
TZOFFSETFROM:+0200
TZOFFSETTO:+0300
TZNAME:EEST
DTSTART:20260329T010000
END:DAYLIGHT
BEGIN:STANDARD
TZOFFSETFROM:+0300
TZOFFSETTO:+0200
TZNAME:EET
DTSTART:20261025T010000
END:STANDARD
END:VTIMEZONE
BEGIN:VEVENT
DTSTART;TZID=Europe/Helsinki:20251024T150000
DTEND;TZID=Europe/Helsinki:20251025T150000
DTSTAMP:20260425T123027
CREATED:20241112T100640Z
LAST-MODIFIED:20241121T083718Z
UID:10001412-1761318000-1761404400@gioi.info
SUMMARY:ADVANCED SURGERY - FÜR FORTGESCHRITTENE IMPLANTOLOG*INNEN\, Köln
DESCRIPTION:[vc_row content_placement=“top“ pix_particles_check=““][vc_column][vc_column_text css=““]Veranstaltungsort:\nFuture Dens Advice UG\nBarbarastr. 5\n50735 Köln[/vc_column_text][/vc_column][/vc_row][vc_row content_placement=“top“ pix_particles_check=““][vc_column][vc_empty_space][/vc_column][/vc_row][vc_row pix_particles_check=““][vc_column][vc_column_text css=““]\nSehr geehrte Kolleginnen und Kollegen\, \nwir freuen uns sehr\, Sie zu unseren 2-Tages-“Advanced Surgery”-Fortbildungen 2025 nach Leipzig\, Köln und Frankfurt einladen zu dürfen. \nDieser kompakte Kurs ist für fortgeschrittene Implantolog*in ausgelegt. Sie lernen komplexe Augmentationen sicher anzuwenden. Mit Hands-On am Tiermodell. \nProf. Dr. Katja Nelson und Prof. Dr. Tobias Fretwurst vom Universitätsklinikum Freiburg werden Sie durch das Seminar leiten und Ihnen alle wichtigen Aspekte zum Umgang mit Risikopatienten und dem Erfolgsprinzip Augmentation erläutern. Ebenso werden der externe Sinuslift\, Bone-Split und retromolarer Knochenblock ausführlich behandelt und in einem Workshop mit Hands-On am Tiermodell\, praxisnah erklärt. \nWir freuen uns auf spannende und lehrreiche Seminare mit Ihnen. \nMit freundlichen Grüßen \nPROF. DR. KATJA NELSON\, PROF. DR. TOBIAS FRETWURST \n[/vc_column_text][/vc_column][/vc_row][vc_row pix_particles_check=““][vc_column][vc_column_text css=““]\nPROGRAMM  – 2-TAGES-KOMPAKT-KURS: \nFreitags\, 15:00-19:00 Uhr\n\n– 15:00 – 15:15 Uhr Begrüßung und Einführung\n– 15:15 – 15:45 Uhr Vortrag: Knochenphysiologie und Augmentationsmaterialien\n– 15:45 – 16:30 Uhr Vortrag: Sinus-Lift – Schritt für Schritt\n– 16:30 – 16:45 Uhr Pause\n– 16:45 – 18:45 Uhr Hands-on #1: Sinus-Lift am Tiermodell\n– 18:45 – 19:00 Uhr Q&A\, Diskussion\n\nEnde Tag 1\n\nSamstags\, 09:00-15:00 Uhr\n\n– 09:00 – 09:45 Uhr Vortrag: Retromolarer Knochenblock – Schritt für Schritt\n– 09:45 – 10:00 Uhr Pause\n– 10:00 – 11:30 Uhr Hands-on #2: Retromolarer Knochenblock am Tiermodell\n– 11:30 – 12:30 Uhr Mittagessen\n– 12:30 – 13:00 Uhr Vorlesung: Bone-Split\n– 13:00 – 14:30 Uhr Hands-on #3: Bone-Split am Tiermodell\n– 14:30 – 15:00 Uhr Q&A\, Diskussion\, Ausgabe der Zertifikate\n\nKursende\n\nReferenten:\nPROF. DR. KATJA NELSON\nLeiterin Translationale Implantologie\, Universitätsklinikum Freiburg \nPROF. DR. TOBIAS FRETWURST\nSektion Regenerative Orale Medizin\, Universitätsklinikum Freiburg \nIhre Ansprechpartnerin:\nSabrina Alisch\, ICX-Expertin\nTel.: 0151 658 298 39 \nTermin:\nFr./Sa. 24./25.10.25\nFreitag: 15.00 – 19.00 Uhr · Samstag: 09.00 – 15.00 Uhr\, inkl. Snacks und Getränke \nDie Teilnehmerzahl je Fortbildung ist insgesamt auf 16 Personen begrenzt! Bitte beachten Sie\, dass bei großem Interesse\, die zeitliche Reihenfolge der Anmeldung ausschlaggebend ist. \nDie Teilnahmegebühr beträgt pro Person und Fortbildung € 529\,– zzgl. gesetzl. MwSt. \nSie erhalten 14 Fortbildungspunkte für Ihre Teilnahme\, je Person. \nDirekte Buchung auch über E-Mail Adresse: veranstaltung@medentis.de.[/vc_column_text][/vc_column][/vc_row][vc_row content_placement=“top“ pix_particles_check=““][vc_column][vc_empty_space][vc_column_text css=““]\nJETZT ANMELDEN UND IN DIE ZUKUNFT STARTEN! \n[/vc_column_text]Infos und Anmeldung zum download![vc_empty_space][/vc_column][/vc_row][vc_column][/vc_column]
URL:https://gioi.info/zfb/advanced-surgery-koeln/
LOCATION:Future Dens Advice UG\, Barbarastraße 5\, Köln\, 50735
CATEGORIES:ADVANCED SURGERY,Fortbildungen des GIOI
ATTACH;FMTTYPE=image/jpeg:https://gioi.info/wp-content/uploads/2024/10/leipzig-koeln-frankfurt-2025_NEU.jpg
GEO:50.969155;6.9741025
X-APPLE-STRUCTURED-LOCATION;VALUE=URI;X-ADDRESS=Future Dens Advice UG Barbarastraße 5 Köln 50735;X-APPLE-RADIUS=500;X-TITLE=Barbarastraße 5:geo:6.9741025,50.969155
END:VEVENT
END:VCALENDAR