BEGIN:VCALENDAR
VERSION:2.0
PRODID:-//GIOI - GERMAN INSTITUTE OF ORAL IMPLANTOLOGY - ECPv6.15.20//NONSGML v1.0//EN
CALSCALE:GREGORIAN
METHOD:PUBLISH
X-ORIGINAL-URL:https://gioi.info
X-WR-CALDESC:Veranstaltungen für GIOI - GERMAN INSTITUTE OF ORAL IMPLANTOLOGY
REFRESH-INTERVAL;VALUE=DURATION:PT1H
X-Robots-Tag:noindex
X-PUBLISHED-TTL:PT1H
BEGIN:VTIMEZONE
TZID:Europe/Berlin
BEGIN:DAYLIGHT
TZOFFSETFROM:+0100
TZOFFSETTO:+0200
TZNAME:CEST
DTSTART:20240331T010000
END:DAYLIGHT
BEGIN:STANDARD
TZOFFSETFROM:+0200
TZOFFSETTO:+0100
TZNAME:CET
DTSTART:20241027T010000
END:STANDARD
BEGIN:DAYLIGHT
TZOFFSETFROM:+0100
TZOFFSETTO:+0200
TZNAME:CEST
DTSTART:20250330T010000
END:DAYLIGHT
BEGIN:STANDARD
TZOFFSETFROM:+0200
TZOFFSETTO:+0100
TZNAME:CET
DTSTART:20251026T010000
END:STANDARD
BEGIN:DAYLIGHT
TZOFFSETFROM:+0100
TZOFFSETTO:+0200
TZNAME:CEST
DTSTART:20260329T010000
END:DAYLIGHT
BEGIN:STANDARD
TZOFFSETFROM:+0200
TZOFFSETTO:+0100
TZNAME:CET
DTSTART:20261025T010000
END:STANDARD
END:VTIMEZONE
BEGIN:VEVENT
DTSTART;VALUE=DATE:20251030
DTEND;VALUE=DATE:20251103
DTSTAMP:20260424T213838
CREATED:20240703T092939Z
LAST-MODIFIED:20250701T124202Z
UID:10001351-1761782400-1762127999@gioi.info
SUMMARY:IMPLANTOLOGIE & ZAHNHEILKUNDE-CURRICULUM ‘25\, Mallorca - Referent: Dr. Oliver Wagendorf
DESCRIPTION:[vc_row content_placement=“top“ pix_particles_check=““][vc_column][vc_column_text]Veranstaltungsort:\nICX-Fortbildungsvilla (Puesta del Sol)\nCarrer Tambor 7\,\n07150 Puerto d´ Andratx/Mallorca[/vc_column_text][/vc_column][/vc_row][vc_row content_placement=“top“ pix_particles_check=““][vc_column][vc_empty_space][/vc_column][/vc_row][vc_row content_placement=“top“ pix_particles_check=““][vc_column][vc_column_text css=““]\nJETZT ANMELDEN UND IN DIE ZUKUNFT STARTEN! \n[/vc_column_text]Infos und Anmeldung zum download![vc_empty_space]ONLINE ANMELDUNG[/vc_column][/vc_row][vc_row content_placement=“top“ pix_particles_check=““][vc_column][vc_column_text css=““]\nAUFGRUND DER GROSSEN NACHFRAGE\, FÜHREN WIR DIE VERANSTALTUNGSREIHE AUCH IN 2025 FORT!\nIMPLANTOLOGIE & ZAHNHEILKUNDE-CURRICULUM ‘25\nICX-FORTBILDUNGS-VILLA PORT D’ANDRATX\, MALLORCA\nHerzlich Willkommen in Port d’Andratx\, in unserer ICX-Fortbildungs-Villa auf Mallorca!\n… Sie wollen wissen woher der Erfolg von unserem fairen ICX-PREMIUM® -System kommt und sich detalliert über die Möglichkeiten unseres ICX-Systems informieren? \n…Sie haben Fragen zu ICX-DENTA5® oder ICX-MAGELLAN X®? \nDie exklusive Location\, um aktuelles Fachwissen aus erster Hand zu erhalten\, ist für Sie dann das ICX-Curriculum auf Mallorca 2025 im ICX-Fortbildungszentrum in Port d’Andratx von medentis medical. \nWir freuen uns sehr\, Sie zu unserer Fortbildung einladen zu dürfen. \nDr. med. dent Oliver Wagendorf von der Charité – Universitätsmedizin Berlin wird Sie durch das Seminar führen und Ihnen fundiertes Wissen sowie praxisnahe Einblicke in moderne augmentative Verfahren vermitteln. \nVon der Auswahl geeigneter Knochenersatzmaterialien über den Einsatz von Eigenblutprodukten bis hin zu fortgeschrittenen 3D-Augmentationstechniken bietet dieses Seminar einen umfassenden Überblick über aktuelle chirurgische \nMöglichkeiten in der Implantologie. Ergänzt wird das Programm durch anschauliche OP-Videos und die praxisnahe Diskussion bewährter Schnittführungs- und Freilegungstechniken. Ziel ist es\, Ihnen konkrete Handlungsempfehlungen für Ihre tägliche implantologische Arbeit an die Hand zu geben – direkt umsetzbar und wissenschaftlich fundiert. \nFOLGEN AUCH SIE DEM ERFOLGREICHEN TEAM VON ICX! \n  \nTHEMEN:\nModerne Augmentationstechniken & Regenerative Verfahren \n\nKnochenersatzmaterialien\nEigenblutprodukte:\nWas können sie\, was können Sie nicht?\nSinusbodenelevation\nBeckenkammaugmentation und Sinuslift\nSchnittführung und Freilegungstechniken\n\n  \nPROGRAMM\nDONNERSTAG\, 30.10.2025 (ABENDS): „get together“ im ICX-Fortbildungszentrum\, mit Begleitung. \nFREITAG\, 31.10.2025 \n\n– 14:30 – 14:45 Begrüßung\, Vorstellung Referent & Teilnehmende\n– 14:45 – 15:45 Knochenersatzmaterialien\n– 15:45 – 16:00 Kaffeepause\n– 16:00 – 18:00 Eigenblutprodukte: Was können sie\, was können sie nicht?\n\nAbends gemeinsames\, exklusives Abendessen (nicht im Seminarpreis enthalten \nSAMSTAG\, 01.11.2025 \n\n– 10:00 – 11:00 3D Augmentationstechniken\n– 11:00 – 11:15 Kaffeepause\n– 11:15 – 12:15 Sinusbodenelevation\n– 12:15 – 13:30 Mittagessen\n– 13:30 – 15:30 OP Video Beckenkammaugmentation und Sinuslift\n– 15:30 – 15:45 Kaffeepause\n– 15:45 – 16:30 Schnittführung und Freilegungstechniken – wann mache ich was?\n– 16:30 – 17:00 Q&A\, Diskussion\, Zertifikate\n\nAbends gemeinsames\, exklusives Barbeque- und Gala-Buffet bei Sonnenuntergang \n[/vc_column_text][/vc_column][/vc_row][vc_row content_placement=“top“ pix_particles_check=““ type=“vc_default“][vc_column width=“1/4″][vc_single_image image=“82239″ img_size=“medium“ style=“vc_box_shadow_border“ css=““][vc_column_text css=““]Referent:\nDr. med. dent. Oliver Wagendorf\,\nZahnarzt[/vc_column_text][/vc_column][vc_column width=“3/4″][vc_column_text css=““]Kurz-Vita: \n\n2010 – 2015 Studium der Zahnmedizin\, Charité Universitätsmedizin Berlin\n2015 Staatsexamen Zahnmedizin\n2016 – 2019 Tätigkeit als Zahnarzt in unterschiedlichen Praxen\nSeit 2018 Studium der Medizin\, Charité Universitätsmedizin Berlin\nSeit 2019 angestellter Zahnarzt im AGZ MVZ MKG Charité\n\n[/vc_column_text][/vc_column][/vc_row][vc_row content_placement=“top“ pix_particles_check=““][vc_column][vc_separator][/vc_column][/vc_row][vc_row content_placement=“top“ pix_particles_check=““][vc_column][vc_empty_space][vc_column_text css=““]Termin:\n30.10.-02.11.25 – Thema: Augmentations- und Weichgewebschirurgie \nDie Teilnahmegebühr beträgt pro Person und Fortbildung € 529\,– zzgl. gesetzl. MwSt. inkl. GET TOGETHER und BBQ-BUFFET. \n\nDie Teilnahmegebühr pro Begleitperson zum GET TOGETHER\, am Donnerstag ist kostenlos.\nDie Teilnahmegebühr pro Teilnehmer & Begleitperson für den GEMEINSAMEN ABEND am Freitag (€ 99\,-).\nDie Teilnahmegebühr pro Begleitperson für das BBQ-Buffet am Samstag beträgt € 99\,-.\n\nSie erhalten 13 Fortbildungspunkte pro Person je Fortbildung.\n \nDie Zertifikate über die erreichten Fortbildungspunkte pro Person je Fortbildung werden Ihnen vor Ort ausgehändigt. \n\n\n\n\n\n\nOnline anmelden über die E-Mail Adresse: veranstaltung@medentis.de oder unter www.icx-mallorca.de. \n\n\n\n\n\n\n[/vc_column_text][/vc_column][/vc_row][vc_row content_placement=“top“ pix_particles_check=““][vc_column][vc_empty_space][/vc_column][/vc_row][vc_column][/vc_column][vc_row content_placement=“top“ pix_particles_check=““][vc_column][vc_column_text css=““]\nJETZT ANMELDEN UND IN DIE ZUKUNFT STARTEN! \n[/vc_column_text]Infos und Anmeldung zum download![vc_empty_space]Zum Anmeldeformular auf Veranstaltungsseite[/vc_column][/vc_row]
URL:https://gioi.info/zfb/implantologie-zahnheilkunde-curriculum-25-mallorca-10/
LOCATION:Port Andratx/Mallorca\, Calle Tambor 7\, Port Andratx/Mallorca\, 07157\, Spain
CATEGORIES:Fortbildungen des GIOI,ICX-Mallorca 2026
ATTACH;FMTTYPE=image/jpeg:https://gioi.info/wp-content/uploads/2024/07/mm02755_30.10.25_Mallorca_SM-1.jpg
GEO:39.549742;2.396174
X-APPLE-STRUCTURED-LOCATION;VALUE=URI;X-ADDRESS=Port Andratx/Mallorca Calle Tambor 7 Port Andratx/Mallorca 07157 Spain;X-APPLE-RADIUS=500;X-TITLE=Calle Tambor 7:geo:2.396174,39.549742
END:VEVENT
END:VCALENDAR