BEGIN:VCALENDAR
VERSION:2.0
PRODID:-//GIOI - GERMAN INSTITUTE OF ORAL IMPLANTOLOGY - ECPv6.15.20//NONSGML v1.0//EN
CALSCALE:GREGORIAN
METHOD:PUBLISH
X-WR-CALNAME:GIOI - GERMAN INSTITUTE OF ORAL IMPLANTOLOGY
X-ORIGINAL-URL:https://gioi.info
X-WR-CALDESC:Veranstaltungen für GIOI - GERMAN INSTITUTE OF ORAL IMPLANTOLOGY
REFRESH-INTERVAL;VALUE=DURATION:PT1H
X-Robots-Tag:noindex
X-PUBLISHED-TTL:PT1H
BEGIN:VTIMEZONE
TZID:Europe/Berlin
BEGIN:DAYLIGHT
TZOFFSETFROM:+0100
TZOFFSETTO:+0200
TZNAME:CEST
DTSTART:20250330T010000
END:DAYLIGHT
BEGIN:STANDARD
TZOFFSETFROM:+0200
TZOFFSETTO:+0100
TZNAME:CET
DTSTART:20251026T010000
END:STANDARD
BEGIN:DAYLIGHT
TZOFFSETFROM:+0100
TZOFFSETTO:+0200
TZNAME:CEST
DTSTART:20260329T010000
END:DAYLIGHT
BEGIN:STANDARD
TZOFFSETFROM:+0200
TZOFFSETTO:+0100
TZNAME:CET
DTSTART:20261025T010000
END:STANDARD
BEGIN:DAYLIGHT
TZOFFSETFROM:+0100
TZOFFSETTO:+0200
TZNAME:CEST
DTSTART:20270328T010000
END:DAYLIGHT
BEGIN:STANDARD
TZOFFSETFROM:+0200
TZOFFSETTO:+0100
TZNAME:CET
DTSTART:20271031T010000
END:STANDARD
END:VTIMEZONE
BEGIN:VEVENT
DTSTART;VALUE=DATE:20260514
DTEND;VALUE=DATE:20260517
DTSTAMP:20260422T191930
CREATED:20240703T110159Z
LAST-MODIFIED:20260209T085036Z
UID:10001355-1778716800-1778975999@gioi.info
SUMMARY:IMPLANTOLOGIE & ZAHNHEILKUNDE-CURRICULUM ‘26\, Mallorca – Referent: Jun.-Prof. Dr. Florian Kernen
DESCRIPTION:[vc_row content_placement=“top“ pix_particles_check=““][vc_column][vc_column_text]Veranstaltungsort:\nICX-Fortbildungsvilla (Puesta del Sol)\nCarrer Tambor 7\,\n07150 Puerto d´ Andratx/Mallorca[/vc_column_text][/vc_column][/vc_row][vc_row content_placement=“top“ pix_particles_check=““][vc_column][vc_empty_space][/vc_column][/vc_row][vc_row content_placement=“top“ pix_particles_check=““][vc_column][vc_column_text css=““]\nJETZT ANMELDEN UND IN DIE ZUKUNFT STARTEN! \n[/vc_column_text]Infos und Anmeldung zum download![vc_empty_space]ONLINE ANMELDUNG[/vc_column][/vc_row][vc_row content_placement=“top“ pix_particles_check=““][vc_column][vc_column_text css=““]\nAUFGRUND DER GROSSEN NACHFRAGE\, SETZEN WIR DIE VERANSTALTUNGSREIHE AUCH IN 2026 FORT!\nIMPLANTOLOGIE & ZAHNHEILKUNDE-CURRICULUM ‘26\nICX-FORTBILDUNGS-VILLA PORT D’ANDRATX\, MALLORCA\nHerzlich Willkommen in Port d’Andratx\, in unserer ICX-Fortbildungs-Villa auf Mallorca!\nDie exklusive Location\, um aktuelles Fachwissen aus erster Hand zu erhalten\, ist für Sie dann das ICX-Curriculum auf Mallorca 2026 im ICX-Fortbildungszentrum in Port d’Andratx von medentis medical. \nLiebe Kolleginnen und Kollegen! \nwir freuen uns sehr\, Sie zu unserer Fortbildung einladen zu dürfen. \nWir präsentieren Ihnen von A-Z\, wie Sie den digitalen ICX-Workflow ganz oder teilweise in Ihrer Praxis integrieren können. Sie erhalten praxisnahe Beratung\, sodass Sie bereits am kommenden Montag den Workflow in Ihrer Praxis umsetzen oder erweitern können. \nJun.-Prof. Dr. Florian Kernen vom Universitätsklinikum Freiburg wird Sie durch das Seminar leiten und Ihnen alle wichtigen Aspekte zum Digitalen Workflow und ICX-MAGELLAN X praxisnah erläutern. Implantatplanungen mit Bohrschablonen\, Modelle und Provisorien können Sie selber generieren und die Datensätze frei weiterverarbeiten\, unterstützt durch das Behandlungskonzept ICX-IMPERIAL auch in-House (PMMA-Provisorien\, ICX-SmileBridge\, vorkonfektionierte prothetische Komponenten\, etc). \nBackward-Planning\, modernste CAD/CAM-Lösungen sowie herkömmliche bewährte Verfahren werden erläutert und ein strukturierter Überblick über heutige Möglichkeiten vermittelt. \nFOLGEN AUCH SIE DEM ERFOLGREICHEN TEAM VON ICX! \n  \nTHEMEN: DER DIGITALE WORKFLOW FÜR DIE PRAXIS\n\n\n\nCHIRURGIE MIT ICX-MAGELLAN X\nPROTHETIK MIT ICX-DENTA5\nSOFORTIMPLANTATE\nDIGITALE PLANUNG UND AUSFÜHRUNG\nKOMPLEXE FÄLLE MITTELS BACKWARD-PLANNING VEREINFACHEN\n\n\n\n\nPROGRAMM\nDONNERSTAG\, 14.05.2026 (ABENDS):\n„get together“ im ICX-Fortbildungszentrum\, mit Begleitung. \nFREITAG\, 15.05.2026 \n\n\n\n14:30-14:45 Begrüßung\, Vorstellung Referent & Teilnehmende\n14:45-15:30 Vortrag – Der digitale Workflow in der Implantologie\n15:30-15:45 Vorstellung Patientenfall „Sofortimplantat“\n15:45-16:00 Kaffeepause\n16:00-17:15 Demo & Hands-on #1\nPlanung Sofortimplantat mittels ICX-Magellan X\n17:15-18:00 Systemvorstellung ICX\nAbends gemeinsames\, exklusives Abendessen (nicht im Seminarpreis enthalten)\n\n\n\nSAMSTAG\, 16.05.2026 \n\n\n\n10:00-10:15 Vorstellung Patientenfall „Frontzahnimplantat“\n10:15-11:00 Vortrag\nDas Wichtigste in Kürze: Segmentierung\, Registrierung\, Implantatposition\, Bohrschablonendesign\n11:00-11:15 Kaffeepause\n11:15-12:30 Hands-on #2\nVirtuelle Implantatplanung „Frontzahnimplantat“\n12:30-13:30 Mittagessen\n13:30-14:30 Hands-on #3\nImplantieren am patientenindividuellen Modell „Frontzahnimplantat“\n14:30-15:30 Fallbesprechung „Fronzahnimplantat“ mittels Video- und Bildmaterial\n15:30-16:30 Backward-Planning anhand von Patientenbeispielen\n16:30-17:00 Q&A\, Diskussion\, Zertifikate\nAbends gemeinsames\, exklusives Barbeque- und Gala-Buffet bei Sonnenuntergang\n\n\n\n  \n[/vc_column_text][/vc_column][/vc_row][vc_row content_placement=“top“ pix_particles_check=““ type=“vc_default“][vc_column width=“1/4″][vc_single_image image=“82173″ img_size=“medium“ style=“vc_box_shadow_border“ css=““][vc_column_text css=““]Referent:\nJun.-Prof. Dr. Florian Kernen\nJuniorprofessur für Virtuelle Implantologie\, Universitätsklinikum Freiburg[/vc_column_text][/vc_column][vc_column width=“3/4″][vc_column_text css=““]Kurz-Vita: \n\nSeit 2022: Juniorprofessur für Virtuelle Implantologie in der Klinik für Mund-\, Kiefer- und Gesichtschirurgie und Translationale Implantologie des Universitätsklinikums Freiburg\n2017-2022: Klinischer Wissenschaftler in der Klinik für Mund-\, Kiefer- und Gesichtschirurgie und Translationale Implantologie des Universitätsklinikums Freiburg\n2014-2017: Spezialisierung Prothetik durch Advanced Specialty Education Program in Prosthodontics und Certificate of Competence in Implant Surgery und Master of Dental Science in der Klinik für Rekonstruktive Zahnmedizin der University of Connecticut\, USA\n2013-2014: Fellowship in der Klinik für Rekonstruktive Zahnmedizin der University of Connecticut\, USA\n2014: Promotion an der Medizinischen Fakultät der Universität Basel\, Schweiz\n2012-2013: Tätigkeit als Allgemeinzahnarzt in einer Privatpraxis\, Basel\, Schweiz\n2006-2012: Zahnmedizinstudium an der Medizinischen Fakultät der Universität Basel\, Schweiz\nTätigkeitsschwerpunkte: digitale Implantologie\, Bildgebung für die virtuelle präoperative Planung\, Implantat-Abutment-Verbindung\n\n[/vc_column_text][/vc_column][/vc_row][vc_row content_placement=“top“ pix_particles_check=““][vc_column][vc_separator][/vc_column][/vc_row][vc_row content_placement=“top“ pix_particles_check=““][vc_column][vc_empty_space][vc_column_text css=““]Termin:\n14.05.-16.05.26\nThemen: Der Digitale Workflow für die Praxis“ I Chirurgie mit ICX-MagellanX | Prothetik mit ICX-Denta5 I Sofortimplantate | Digitale Planung und Ausführung I Komplexe Fälle mittels Backward-Planning vereinfachen. \nDie Teilnahmegebühr beträgt pro Person und Fortbildung € 529\,– zzgl. gesetzl. MwSt. inkl. GET TOGETHER und GALA DINNER.\nSie erhalten pro Person je Fortbildung 13 Fortbildungspunkte. \n\nDie Teilnahmegebühr pro Begleitperson zum GET TOGETHER\, am Donnerstag ist kostenlos.\nDie Teilnahmegebühr pro Begleitperson für den GEMEINSAMEN ABEND am Freitag (gegen Gebühr).\nDie Teilnahmegebühr pro Begleitperson für das GALA DINNER am Samstag beträgt € 149\,-.\n\nSie erhalten 13 Fortbildungspunkte pro Person je Fortbildung. \nDie Zertifikate über die erreichten Fortbildungspunkte pro Person je Fortbildung werden Ihnen vor Ort ausgehändigt. \n\n\n\n\n\n\nOnline anmelden über die E-Mail Adresse: veranstaltung@medentis.de oder unter www.icx-mallorca.de. \n\n\n\n\n\n\n[/vc_column_text][/vc_column][/vc_row][vc_row content_placement=“top“ pix_particles_check=““][vc_column][vc_column_text css=““]\nJETZT ANMELDEN UND IN DIE ZUKUNFT STARTEN! \n[/vc_column_text]Infos und Anmeldung zum download![vc_empty_space]Zum Anmeldeformular auf Veranstaltungsseite[/vc_column][/vc_row][vc_column][/vc_column]
URL:https://gioi.info/zfb/implantologie-zahnheilkunde-curriculum-26-mallorca-03/
LOCATION:Port Andratx/Mallorca\, Calle Tambor 7\, Port Andratx/Mallorca\, 07157\, Spain
CATEGORIES:Fortbildungen des GIOI,ICX-Mallorca 2026
ATTACH;FMTTYPE=image/jpeg:https://gioi.info/wp-content/uploads/2024/07/mm02758_14.-16.05.2026_Mallorca_SM2-1.jpg
GEO:39.549742;2.396174
X-APPLE-STRUCTURED-LOCATION;VALUE=URI;X-ADDRESS=Port Andratx/Mallorca Calle Tambor 7 Port Andratx/Mallorca 07157 Spain;X-APPLE-RADIUS=500;X-TITLE=Calle Tambor 7:geo:2.396174,39.549742
END:VEVENT
BEGIN:VEVENT
DTSTART;VALUE=DATE:20260522
DTEND;VALUE=DATE:20260525
DTSTAMP:20260422T191930
CREATED:20240702T125709Z
LAST-MODIFIED:20260209T085153Z
UID:10001343-1779408000-1779667199@gioi.info
SUMMARY:IMPLANTOLOGIE & ZAHNHEILKUNDE-CURRICULUM ‘26\, Mallorca - Referent: Prof. Dr. Tobias Fretwurst
DESCRIPTION:[vc_row content_placement=“top“ pix_particles_check=““][vc_column][vc_column_text css=““]Veranstaltungsort:\nICX-Fortbildungsvilla (Puesta del Sol)\nCarrer Tambor 7\,\n07150 Puerto d´ Andratx/Mallorca[/vc_column_text][/vc_column][/vc_row][vc_row content_placement=“top“ pix_particles_check=““][vc_column][vc_empty_space][/vc_column][/vc_row][vc_row content_placement=“top“ pix_particles_check=““][vc_column][vc_column_text css=““]\nJETZT ANMELDEN UND IN DIE ZUKUNFT STARTEN! \n[/vc_column_text]Infos und Anmeldung zum download![vc_empty_space]Zum Anmeldeformular auf Veranstaltungsseite[/vc_column][/vc_row][vc_row content_placement=“top“ pix_particles_check=““][vc_column][vc_column_text css=““]\nAUFGRUND DER GROSSEN NACHFRAGE\, SETZEN WIR DIE VERANSTALTUNGSREIHE AUCH IN 2026 FORT!\nIMPLANTOLOGIE & ZAHNHEILKUNDE-CURRICULUM ‘26\nICX-FORTBILDUNGS-VILLA PORT D’ANDRATX\, MALLORCA\nHerzlich Willkommen in Port d’Andratx\, in unserer ICX-Fortbildungs-Villa auf Mallorca!\n… Sie wollen wissen woher der Erfolg von unserem fairen ICX-PREMIUM® -System kommt und sich detalliert über die Möglichkeiten unseres ICX-Systems informieren? \n…Sie haben Fragen zu ICX-DENTA5® oder ICX-MAGELLAN X®? \nDie exklusive Location\, um aktuelles Fachwissen aus erster Hand zu erhalten\, ist für Sie dann das ICX-Curriculum auf Mallorca 2026 im ICX-Fortbildungszentrum in Port d’Andratx von medentis medical. \nZur Diskussion stehen neben klassischen Fachgebieten wie Implantologie\, restaurativer Zahnheilkunde und oraler Geweberegeneration auch Themen wie ICX-ALIGNER® oder die Bedeutung der „digitalen Zahnarzt-Praxis der Zukunft“. \nAlles\, was Sie schon immer über eines der innovativsten und authentischsten Implanthersteller-Unternehmen aus Deutschland\, wissen wollten. Warum haben wir diesen Erfolg und warum werden auch Sie gerne mit uns zusammenarbeiten wollen? Wie können auch Sie erfolgreich Guided und fair implantieren? Wie können auch Sie den besten ICX-Service erhalten? \nBereiten Sie sich darauf vor\, die Zukunft der Implantologie zu erobern. Mit ICX stehen Ihnen Präzision\, Innovation und Spitzenleistungen zur Verfügung. Willkommen in der Zukunft der digitalen Zahnmedizin – die digitale Zukunft der Implantolgie heißt — ICX und medentis medical! \nTHEMEN: \n\n\n\nHartgewebeaufbau: Sinuslift\, Block und Schale\nPeri-implantitis: Ursachen\, Prävention\, Materialwahl\, Therapie\n\n\n\nINHALTLICHE GLIEDERUNG: \n\n\n\nErfolgreiche Knochenaugmentation: Grundlagen\nKnochenentnahmetechniken – Schritt für Schritt\nKomplikationsmanagement während und nach der Knochentransplantation\nPeri-implantitis: Ursachen\, Prävention\, Materialwahl\, Therapie\n\n\n\n  \nPROGRAMM-ABLAUF: \nFREITAGABEND\, 22.05.26 19:00 Uhr get together \nSAMSTAG\, 23.05.26 \n\n\n\n14:30 – 15:15 Uhr – Vortrag: Erfolgreiche Knochenaugmentation – Grundlagen\n15:15 – 16:00 Uhr – Systemvorstellung ICX\n16:00 – 16:30 Uhr – Kaffeepause (30 min)\n16:30 – 18:00 Uhr – Vortrag Sinuslift: Wann intern? Wann extern? Welches Biomaterial?\n19:00 Uhr – Abendessen im Restaurant (exklusive)\n\n\n\nSONNTAG\, 24.05.26 \n\n\n\n10:00 – 11:30 Uhr – Block und Schale – Schritt für Schritt mit OP-Videos\n11:30 – 12:00 Uhr – Kaffeepause (30 min)\n12:00 – 12:30 Uhr – OP-Videos – Trouble Shooting\n12:30 – 13:30 Uhr – Mittagessen (1 Stunde)\n13:30 – 14:30 Uhr – Periimplantitis: Ursachen und Materialwahl\n14:30 – 15:00 Uhr – Kaffeepause (30 min)\n15:00 – 16:30 Uhr – Periimplantitis: Prävention und Therapie\n16:30 – 17:00 Uhr – Q & A\, Diskussion\, Zertifikate\n19.00 Uhr – Gala Dinner in der Finca\n\n\n\n[/vc_column_text][/vc_column][/vc_row][vc_row content_placement=“top“ pix_particles_check=““ type=“vc_default“][vc_column width=“1/4″][vc_single_image image=“82160″ img_size=“medium“ style=“vc_box_shadow_border“ css=““][vc_column_text css=““]Referent:\nPROF. DR. TOBIAS FRETWURST\nSektionsleiter Regenerative Orale Medizin\, Universitätsklinikum Freiburg[/vc_column_text][/vc_column][vc_column width=“3/4″][vc_column_text css=““]Kurz-Vita: \n\n2007–2012 Studium der Zahnmedizin\, Ernst-Moritz-Arndt-Universität Greifswald\n2013 Promotion zum Dr. med. dent.\, Ernst-Moritz-Arndt-Universität Greifswald\nseit 2013–heute Zahnarzt und wissenschaftlicher Mitarbeiter\, Klinik für Mund-\, Kiefer- und Gesichtschirurgie/ Translationale Implantologie\, Universitätsklinikum Freiburg\n2016–2017 Visiting Research Scholar Department of Periodontics and Oral Medicine\, University of Michigan\, Ann Arbor\, USA (Chair: William Giannobile)\n2017 Anerkennung der Fachgebietsbezeichnung\, Fachzahnarzt für Oralchirurgie\, Landeszahnärztekammer Baden-Württemberg\n2019 Habilitation und Venia Legendi für das Fach Zahnheilkunde\, Medizinische Fakultät Albert-Ludwigs-Universität Freiburg i.Br.\n\nFachliche Qualifikationen\nGutachter-\, Autoren- und Referententätigkeit. Mehr als 30 Originalarbeiten\, Übersichtsarbeiten\, Fallberichte oder Buchkapitel als Autor oder Ko-Autor. \nPreise und Auszeichnungen\nu.a. Kurt-Steim Preis (2014)\, Osteology Fellowship (2016)\, Third Prize PhD/Postdoctoral Fellow Award Univeristy of Michigan (2017)\, Tagungspreis der Deutschen Gesellschaft für Implantologie (2018)\, Vortragspreis der Arbeitsgemeinschaft für Grundlagenforschung (2019). \nReviewer u.a. für Wiley Books\, Journal of Dental Research\, Journal of Clinical Periodontology\, Journal of Odontology\, Implantologie. \n\n\n\n[/vc_column_text][/vc_column][/vc_row][vc_row content_placement=“top“ pix_particles_check=““][vc_column][vc_separator][/vc_column][/vc_row][vc_row content_placement=“top“ pix_particles_check=““][vc_column][vc_empty_space][vc_column_text css=““]Termin:\n22.05.-24.05.26\nThemen: Hartgewebeaufbau: Sinuslift\, Block und Schale · Periimplantitis: Ursachen\, Prävention\, Materialwahl\, Therapie \nDie Teilnahmegebühr beträgt pro Person und Fortbildung € 529\,– zzgl. gesetzl. MwSt. inkl. GET TOGETHER und BBQ-BUFFET \n\nDie Teilnahmegebühr pro Begleitperson zum GET TOGETHER\, am Donnerstag ist kostenlos.\nDie Teilnahmegebühr pro Teilnehmer & Begleitperson für den GEMEINSAMEN ABEND am Freitag (€ 99\,-).\nDie Teilnahmegebühr pro Begleitperson für das BBQ am Samstag beträgt € 99\,-.\n\nSie erhalten 13 Fortbildungspunkte pro Person je Fortbildung. \nDie Zertifikate über die erreichten Fortbildungspunkte pro Person je Fortbildung werden Ihnen vor Ort ausgehändigt. \n\n\n\n\n\n\nOnline anmelden über die E-Mail Adresse: veranstaltung@medentis.de oder unter www.icx-mallorca.de. \n\n\n\n\n\n\n[/vc_column_text][/vc_column][/vc_row][vc_row content_placement=“top“ pix_particles_check=““][vc_column][vc_empty_space][/vc_column][/vc_row][vc_row content_placement=“top“ pix_particles_check=““][vc_column][vc_column_text css=““]\nJETZT ANMELDEN UND IN DIE ZUKUNFT STARTEN! \n[/vc_column_text]Infos und Anmeldung zum download![vc_empty_space]Zum Anmeldeformular auf Veranstaltungsseite[/vc_column][/vc_row][vc_column][/vc_column]
URL:https://gioi.info/zfb/implantologie-zahnheilkunde-curriculum-26-mallorca-04/
LOCATION:Port Andratx/Mallorca\, Calle Tambor 7\, Port Andratx/Mallorca\, 07157\, Spain
CATEGORIES:Fortbildungen des GIOI,ICX-Mallorca 2026
ATTACH;FMTTYPE=image/jpeg:https://gioi.info/wp-content/uploads/2024/07/mm02756_22.05.26_Mallorca_SM-2.jpg
GEO:39.549742;2.396174
X-APPLE-STRUCTURED-LOCATION;VALUE=URI;X-ADDRESS=Port Andratx/Mallorca Calle Tambor 7 Port Andratx/Mallorca 07157 Spain;X-APPLE-RADIUS=500;X-TITLE=Calle Tambor 7:geo:2.396174,39.549742
END:VEVENT
END:VCALENDAR